Back to the "Multiple platform build/check report"
| IMPORTANT NOTE: R was configured with --enable-strict-barrier on lamb1 |
| Package 77/247 | Hostname | OS | Arch | BUILD | CHECK | BUILD BIN |
flowUtils0.2.7Florian HahneLast Changed Date: 2007-07-19 14:20:23 -0700 Last Changed Rev: 25895 | lamb1 | Linux (SUSE 10.1) | x86_64 | OK | ERROR | |
| wellington | Linux (SUSE 9.2) | i686 | OK | ERROR | ||
| liverpool | Windows Server 2003 R2 (32-bit) | x64 | OK | ERROR | [ OK ] | |
| pitt | Mac OS X (10.4.10) | i386 | OK | ERROR | OK |
| Package: flowUtils |
| Version: 0.2.7 |
| Command: E:\biocbld\bbs-2.1-bioc\R\bin\R.exe CMD INSTALL --build --library=flowUtils.buildbin-libdir flowUtils_0.2.7.tar.gz |
| RetCode: 0 |
| Time: 15.3 seconds |
| Status: OK |
| PackageFile: flowUtils_0.2.7.zip |
installing R.css in E:/biocbld/bbs-2.1-bioc/meat/flowUtils.buildbin-libdir
Using auto-selected zip options ''
---------- Making package flowUtils ------------
adding build stamp to DESCRIPTION
installing NAMESPACE file and metadata
installing R files
installing inst files
installing man source files
installing indices
installing help
>>> Building/Updating help pages for package 'flowUtils'
Formats: text html latex example chm
flowUtil-package text html latex example chm
read.gatingML text html latex example chm
read.transformML text html latex example chm
Microsoft HTML Help Compiler 4.74.8702
Compiling e:\biocbld\bbs-2.1-bioc\meat\R.INSTALL.5724\flowUtils\chm\flowUtils.chm
Compile time: 0 minutes, 0 seconds
4 Topics
7 Local links
0 Internet links
1 Graphic
Created e:\biocbld\bbs-2.1-bioc\meat\R.INSTALL.5724\flowUtils\chm\flowUtils.chm, 17,640 bytes
Compression increased file by 4,383 bytes.
adding MD5 sums
packaged installation of package 'flowUtils' as flowUtils_0.2.7.zip
* DONE (flowUtils)