Back to the "Multiple platform build/check report"
| IMPORTANT NOTE: R was configured with --enable-strict-barrier on lamb1 | 
| Package 52/247 | Hostname | OS | Arch | BUILD | CHECK | BUILD BIN | 
| CoCiteStats1.9.3R. GentlemanLast Changed Date: 2007-06-07 09:48:37 -0700 Last Changed Rev: 25252 | lamb1 | Linux (SUSE 10.1) | x86_64 | OK | OK | |
| wellington | Linux (SUSE 9.2) | i686 | OK | OK | ||
| liverpool | Windows Server 2003 R2 (32-bit) | x64 | OK | OK | [ OK ] | |
| pitt | Mac OS X (10.4.10) | i386 | OK | OK | OK | 
| Package: CoCiteStats | 
| Version: 1.9.3 | 
| Command: E:\biocbld\bbs-2.1-bioc\R\bin\R.exe CMD INSTALL --build --library=CoCiteStats.buildbin-libdir CoCiteStats_1.9.3.tar.gz | 
| RetCode: 0 | 
| Time: 17.0 seconds | 
| Status: OK | 
| PackageFile: CoCiteStats_1.9.3.zip | 
installing R.css in E:/biocbld/bbs-2.1-bioc/meat/CoCiteStats.buildbin-libdir
Using auto-selected zip options ''
---------- Making package CoCiteStats ------------
  adding build stamp to DESCRIPTION
  installing NAMESPACE file and metadata
  installing R files
  installing man source files
  installing indices
  installing help
 >>> Building/Updating help pages for package 'CoCiteStats'
     Formats: text html latex example chm 
  actorAdjTable                     text    html    latex   example chm
  gene.gene.statistic               text    html    latex   example chm
  gene.geneslist.sig                text    html    latex   example chm
  gene.geneslist.statistic          text    html    latex   example chm
  paperLen                          text    html    latex   example chm
  twTStats                          text    html    latex   example chm
  twowayTable                       text    html    latex   example chm
Microsoft HTML Help Compiler 4.74.8702
Compiling e:\biocbld\bbs-2.1-bioc\meat\R.INSTALL.5784\CoCiteStats\chm\CoCiteStats.chm
Compile time: 0 minutes, 0 seconds
8	Topics
30	Local links
0	Internet links
1	Graphic
Created e:\biocbld\bbs-2.1-bioc\meat\R.INSTALL.5784\CoCiteStats\chm\CoCiteStats.chm, 24,340 bytes
Compression decreased file by 2,090 bytes.
  adding MD5 sums
packaged installation of package 'CoCiteStats' as CoCiteStats_1.9.3.zip
* DONE (CoCiteStats)