Back to the "Multiple platform build/check report"
| IMPORTANT NOTE: R was configured with --enable-strict-barrier on lamb1 |
| Package 120/247 | Hostname | OS | Arch | BUILD | CHECK | BUILD BIN |
lapmix1.3.0Yann RuffieuxLast Changed Date: 2007-04-24 11:31:42 -0700 Last Changed Rev: 24217 | lamb1 | Linux (SUSE 10.1) | x86_64 | OK | WARNINGS | |
| wellington | Linux (SUSE 9.2) | i686 | OK | WARNINGS | ||
| liverpool | Windows Server 2003 R2 (32-bit) | x64 | OK | OK | [ OK ] | |
| pitt | Mac OS X (10.4.10) | i386 | OK | WARNINGS | OK |
| Package: lapmix |
| Version: 1.3.0 |
| Command: E:\biocbld\bbs-2.1-bioc\R\bin\R.exe CMD INSTALL --build --library=lapmix.buildbin-libdir lapmix_1.3.0.tar.gz |
| RetCode: 0 |
| Time: 15.4 seconds |
| Status: OK |
| PackageFile: lapmix_1.3.0.zip |
installing R.css in E:/biocbld/bbs-2.1-bioc/meat/lapmix.buildbin-libdir
Using auto-selected zip options ''
---------- Making package lapmix ------------
adding build stamp to DESCRIPTION
installing R files
installing inst files
installing man source files
installing indices
installing help
>>> Building/Updating help pages for package 'lapmix'
Formats: text html latex example chm
lap.volcanoplot text html latex example chm
lapmix-internal text html latex chm
lapmix.Fit text html latex example chm
laptopTable text html latex example chm
Microsoft HTML Help Compiler 4.74.8702
Compiling e:\biocbld\bbs-2.1-bioc\meat\R.INSTALL.4580\lapmix\chm\lapmix.chm
Compile time: 0 minutes, 0 seconds
5 Topics
7 Local links
0 Internet links
1 Graphic
Created e:\biocbld\bbs-2.1-bioc\meat\R.INSTALL.4580\lapmix\chm\lapmix.chm, 21,995 bytes
Compression increased file by 4,065 bytes.
adding MD5 sums
packaged installation of package 'lapmix' as lapmix_1.3.0.zip
* DONE (lapmix)