1.7.0Jane Fridlyand | Linux (SUSE 9.2)  | x86_64 |  OK  |  OK  |  | 
| Linux (SUSE 9.2)  | i686 |  OK  |  OK  |  | 
| Solaris 2.9  | sparc |  OK  |  OK  |  | 
| Linux (SUSE 10.0)  | x86_64 |  OK  |  OK  |  | 
| Windows Server 2003  | x86_64 |  OK  |  OK  |  OK  | 
1.3.0Claudio Lottaz | Linux (SUSE 9.2)  | x86_64 |  OK  |  OK  |  | 
| Linux (SUSE 9.2)  | i686 |  OK  |  OK  |  | 
| Solaris 2.9  | sparc |  ERROR  | skipped |  | 
| Linux (SUSE 10.0)  | x86_64 |  OK  |  OK  |  | 
| Windows Server 2003  | x86_64 |  OK  |  OK  |  OK  | 
1.5.2James Bullard | Linux (SUSE 9.2)  | x86_64 |  OK  |  WARNINGS  |  | 
| Linux (SUSE 9.2)  | i686 |  OK  |  WARNINGS  |  | 
| Solaris 2.9  | sparc |  OK  |  WARNINGS  |  | 
| Linux (SUSE 10.0)  | x86_64 |  OK  |  WARNINGS  |  | 
| Windows Server 2003  | x86_64 |  OK  |  WARNINGS  |  OK  | 
1.11.1Rafael A. Irizarry | Linux (SUSE 9.2)  | x86_64 |  OK  |  OK  |  | 
| Linux (SUSE 9.2)  | i686 |  OK  |  OK  |  | 
| Solaris 2.9  | sparc |  ERROR  | skipped |  | 
| Linux (SUSE 10.0)  | x86_64 |  OK  |  OK  |  | 
| Windows Server 2003  | x86_64 |  OK  |  OK  |  OK  | 
1.9.0Rafael A. Irizarry | Linux (SUSE 9.2)  | x86_64 |  OK  |  OK  |  | 
| Linux (SUSE 9.2)  | i686 |  OK  |  OK  |  | 
| Solaris 2.9  | sparc |  OK  |  OK  |  | 
| Linux (SUSE 10.0)  | x86_64 |  OK  |  OK  |  | 
| Windows Server 2003  | x86_64 |  OK  |  OK  |  OK  | 
1.5.0James W. MacDonald | Linux (SUSE 9.2)  | x86_64 |  OK  |  OK  |  | 
| Linux (SUSE 9.2)  | i686 |  OK  |  OK  |  | 
| Solaris 2.9  | sparc |  ERROR  | skipped |  | 
| Linux (SUSE 10.0)  | x86_64 |  OK  |  OK  |  | 
| Windows Server 2003  | x86_64 |  OK  |  OK  |  OK  | 
1.9.0Laurent | Linux (SUSE 9.2)  | x86_64 |  OK  |  OK  |  | 
| Linux (SUSE 9.2)  | i686 |  OK  |  OK  |  | 
| Solaris 2.9  | sparc |  ERROR  | skipped |  | 
| Linux (SUSE 10.0)  | x86_64 |  OK  |  OK  |  | 
| Windows Server 2003  | x86_64 |  OK  |  OK  |  OK  | 
1.1.2Benjamin Milo Bolstad | Linux (SUSE 9.2)  | x86_64 |  OK  |  OK  |  | 
| Linux (SUSE 9.2)  | i686 |  OK  |  OK  |  | 
| Solaris 2.9  | sparc |  OK  |  OK  |  | 
| Linux (SUSE 10.0)  | x86_64 |  OK  |  OK  |  | 
| Windows Server 2003  | x86_64 |  OK  |  OK  |  OK  | 
1.7.0Keith Satterley | Linux (SUSE 9.2)  | x86_64 |  OK  |  OK  |  | 
| Linux (SUSE 9.2)  | i686 |  OK  |  OK  |  | 
| Solaris 2.9  | sparc |  ERROR  | skipped |  | 
| Linux (SUSE 10.0)  | x86_64 |  OK  |  OK  |  | 
| Windows Server 2003  | x86_64 |  OK  |  OK  |  OK  | 
1.7.0Laurent | Linux (SUSE 9.2)  | x86_64 |  OK  |  WARNINGS  |  | 
| Linux (SUSE 9.2)  | i686 |  OK  |  WARNINGS  |  | 
| Solaris 2.9  | sparc |  OK  |  ERROR  |  | 
| Linux (SUSE 10.0)  | x86_64 |  OK  |  WARNINGS  |  | 
| Windows Server 2003  | x86_64 |  OK  |  WARNINGS  |  OK  | 
1.9.5Ben Bolstad | Linux (SUSE 9.2)  | x86_64 |  OK  |  OK  |  | 
| Linux (SUSE 9.2)  | i686 |  OK  |  OK  |  | 
| Solaris 2.9  | sparc |  ERROR  | skipped |  | 
| Linux (SUSE 10.0)  | x86_64 |  OK  |  OK  |  | 
| Windows Server 2003  | x86_64 |  OK  |  OK  |  OK  | 
1.11.1Craig Parman | Linux (SUSE 9.2)  | x86_64 |  OK  |  OK  |  | 
| Linux (SUSE 9.2)  | i686 |  OK  |  OK  |  | 
| Solaris 2.9  | sparc |  ERROR  | skipped |  | 
| Linux (SUSE 10.0)  | x86_64 |  OK  |  OK  |  | 
| Windows Server 2003  | x86_64 |  OK  |  OK  |  OK  | 
1.7.0Laurent Gautier | Linux (SUSE 9.2)  | x86_64 |  OK  |  OK  |  | 
| Linux (SUSE 9.2)  | i686 |  OK  |  OK  |  | 
| Solaris 2.9  | sparc |  ERROR  | skipped |  | 
| Linux (SUSE 10.0)  | x86_64 |  OK  |  OK  |  | 
| Windows Server 2003  | x86_64 |  ERROR  | skipped | skipped | 
1.5.0Colin A. Smith | Linux (SUSE 9.2)  | x86_64 |  OK  |  OK  |  | 
| Linux (SUSE 9.2)  | i686 |  OK  |  OK  |  | 
| Solaris 2.9  | sparc |  OK  |  OK  |  | 
| Linux (SUSE 10.0)  | x86_64 |  OK  |  OK  |  | 
| Windows Server 2003  | x86_64 |  OK  |  OK  |  OK  | 
1.11.0J. Zhang | Linux (SUSE 9.2)  | x86_64 |  OK  |  OK  |  | 
| Linux (SUSE 9.2)  | i686 |  OK  |  OK  |  | 
| Solaris 2.9  | sparc |  ERROR  | skipped |  | 
| Linux (SUSE 10.0)  | x86_64 |  OK  |  OK  |  | 
| Windows Server 2003  | x86_64 |  OK  |  OK  |  OK  | 
1.11.2Biocore Team | Linux (SUSE 9.2)  | x86_64 |  OK  |  OK  |  | 
| Linux (SUSE 9.2)  | i686 |  OK  |  OK  |  | 
| Solaris 2.9  | sparc |  ERROR  | skipped |  | 
| Linux (SUSE 10.0)  | x86_64 |  OK  |  OK  |  | 
| Windows Server 2003  | x86_64 |  OK  |  OK  |  OK  | 
1.7.1Denise Scholtens | Linux (SUSE 9.2)  | x86_64 |  OK  |  OK  |  | 
| Linux (SUSE 9.2)  | i686 |  OK  |  OK  |  | 
| Solaris 2.9  | sparc |  OK  |  OK  |  | 
| Linux (SUSE 10.0)  | x86_64 |  OK  |  OK  |  | 
| Windows Server 2003  | x86_64 |  OK  |  OK  |  OK  | 
1.3.0Francesca Cordero | Linux (SUSE 9.2)  | x86_64 |  OK  |  OK  |  | 
| Linux (SUSE 9.2)  | i686 |  OK  |  OK  |  | 
| Solaris 2.9  | sparc |  ERROR  | skipped |  | 
| Linux (SUSE 10.0)  | x86_64 |  OK  |  OK  |  | 
| Windows Server 2003  | x86_64 |  OK  |  OK  |  OK  | 
0.3.8Vince Carey | Linux (SUSE 9.2)  | x86_64 |  ERROR  | skipped |  | 
| Linux (SUSE 9.2)  | i686 |  ERROR  | skipped |  | 
| Solaris 2.9  | sparc |  ERROR  | skipped |  | 
| Linux (SUSE 10.0)  | x86_64 |  ERROR  | skipped |  | 
| Windows Server 2003  | x86_64 |  ERROR  | skipped | skipped | 
1.11.0Andreas Buness | Linux (SUSE 9.2)  | x86_64 |  OK  |  ERROR  |  | 
| Linux (SUSE 9.2)  | i686 |  OK  |  ERROR  |  | 
| Solaris 2.9  | sparc |  OK  |  ERROR  |  | 
| Linux (SUSE 10.0)  | x86_64 |  OK  |  ERROR  |  | 
| Windows Server 2003  | x86_64 |  OK  |  ERROR  |  OK  | 
1.9.0A. Paquet | Linux (SUSE 9.2)  | x86_64 |  OK  |  OK  |  | 
| Linux (SUSE 9.2)  | i686 |  OK  |  OK  |  | 
| Solaris 2.9  | sparc |  OK  |  OK  |  | 
| Linux (SUSE 10.0)  | x86_64 |  OK  |  OK  |  | 
| Windows Server 2003  | x86_64 |  OK  |  OK  |  OK  | 
1.1.0Mark Dunning | Linux (SUSE 9.2)  | x86_64 |  OK  |  WARNINGS  |  | 
| Linux (SUSE 9.2)  | i686 |  OK  |  WARNINGS  |  | 
| Solaris 2.9  | sparc |  OK  |  WARNINGS  |  | 
| Linux (SUSE 10.0)  | x86_64 |  OK  |  WARNINGS  |  | 
| Windows Server 2003  | x86_64 |  OK  |  WARNINGS  |  OK  | 
1.5.0Brian S. Yandell | Linux (SUSE 9.2)  | x86_64 |  OK  |  OK  |  | 
| Linux (SUSE 9.2)  | i686 |  OK  |  OK  |  | 
| Solaris 2.9  | sparc |  OK  |  OK  |  | 
| Linux (SUSE 10.0)  | x86_64 |  OK  |  OK  |  | 
| Windows Server 2003  | x86_64 |  OK  |  OK  |  OK  | 
1.11.14Biocore Team | Linux (SUSE 9.2)  | x86_64 |  OK  |  OK  |  | 
| Linux (SUSE 9.2)  | i686 |  OK  |  OK  |  | 
| Solaris 2.9  | sparc |  OK  |  OK  |  | 
| Linux (SUSE 10.0)  | x86_64 |  OK  |  OK  |  | 
| Windows Server 2003  | x86_64 |  OK  |  OK  |  OK  | 
1.1.1Seth Falcon | Linux (SUSE 9.2)  | x86_64 |  OK  |  OK  |  | 
| Linux (SUSE 9.2)  | i686 |  OK  |  OK  |  | 
| Solaris 2.9  | sparc |  OK  |  OK  |  | 
| Linux (SUSE 10.0)  | x86_64 |  OK  |  OK  |  | 
| Windows Server 2003  | x86_64 |  OK  |  OK  |  OK  | 
1.5.0Biocore Team | Linux (SUSE 9.2)  | x86_64 |  OK  |  OK  |  | 
| Linux (SUSE 9.2)  | i686 |  OK  |  OK  |  | 
| Solaris 2.9  | sparc |  OK  |  OK  |  | 
| Linux (SUSE 10.0)  | x86_64 |  OK  |  OK  |  | 
| Windows Server 2003  | x86_64 |  OK  |  OK  |  OK  | 
1.7.1Steffen Durinck | Linux (SUSE 9.2)  | x86_64 |  OK  |  OK  |  | 
| Linux (SUSE 9.2)  | i686 |  OK  |  OK  |  | 
| Solaris 2.9  | sparc |  OK  |  WARNINGS  |  | 
| Linux (SUSE 10.0)  | x86_64 |  OK  |  OK  |  | 
| Windows Server 2003  | x86_64 |  ERROR  | skipped | skipped | 
2.1.3H. Pages | Linux (SUSE 9.2)  | x86_64 |  OK  |  OK  |  | 
| Linux (SUSE 9.2)  | i686 |  OK  |  OK  |  | 
| Solaris 2.9  | sparc |  ERROR  | skipped |  | 
| Linux (SUSE 10.0)  | x86_64 |  OK  |  OK  |  | 
| Windows Server 2003  | x86_64 |  OK  |  OK  |  OK  | 
1.5.0Raphael Gottardo | Linux (SUSE 9.2)  | x86_64 |  OK  |  OK  |  | 
| Linux (SUSE 9.2)  | i686 |  OK  |  OK  |  | 
| Solaris 2.9  | sparc |  OK  |  OK  |  | 
| Linux (SUSE 10.0)  | x86_64 |  OK  |  OK  |  | 
| Windows Server 2003  | x86_64 |  OK  |  OK  |  OK  | 
1.5.1R. Gentleman | Linux (SUSE 9.2)  | x86_64 |  OK  |  OK  |  | 
| Linux (SUSE 9.2)  | i686 |  OK  |  OK  |  | 
| Solaris 2.9  | sparc |  OK  |  OK  |  | 
| Linux (SUSE 10.0)  | x86_64 |  OK  |  OK  |  | 
| Windows Server 2003  | x86_64 |  OK  |  OK  |  OK  | 
1.3.10Wolfgang Huber | Linux (SUSE 9.2)  | x86_64 |  OK  |  OK  |  | 
| Linux (SUSE 9.2)  | i686 |  OK  |  OK  |  | 
| Solaris 2.9  | sparc |  OK  |  OK  |  | 
| Linux (SUSE 10.0)  | x86_64 |  OK  |  OK  |  | 
| Windows Server 2003  | x86_64 |  OK  |  WARNINGS  |  OK  | 
1.3.1J. Zhang | Linux (SUSE 9.2)  | x86_64 |  ERROR  | skipped |  | 
| Linux (SUSE 9.2)  | i686 |  ERROR  | skipped |  | 
| Solaris 2.9  | sparc |  ERROR  | skipped |  | 
| Linux (SUSE 10.0)  | x86_64 |  ERROR  | skipped |  | 
| Windows Server 2003  | x86_64 |  ERROR  | skipped | skipped | 
1.5.0Jihoon Kim | Linux (SUSE 9.2)  | x86_64 |  OK  |  OK  |  | 
| Linux (SUSE 9.2)  | i686 |  OK  |  OK  |  | 
| Solaris 2.9  | sparc |  OK  |  OK  |  | 
| Linux (SUSE 10.0)  | x86_64 |  OK  |  OK  |  | 
| Windows Server 2003  | x86_64 |  OK  |  OK  |  OK  | 
1.5.0James W. MacDonald | Linux (SUSE 9.2)  | x86_64 |  OK  |  OK  |  | 
| Linux (SUSE 9.2)  | i686 |  OK  |  OK  |  | 
| Solaris 2.9  | sparc |  OK  |  OK  |  | 
| Linux (SUSE 10.0)  | x86_64 |  OK  |  OK  |  | 
| Windows Server 2003  | x86_64 |  OK  |  OK  |  OK  | 
1.5.1R. Gentleman | Linux (SUSE 9.2)  | x86_64 |  OK  |  OK  |  | 
| Linux (SUSE 9.2)  | i686 |  OK  |  OK  |  | 
| Solaris 2.9  | sparc |  OK  |  OK  |  | 
| Linux (SUSE 10.0)  | x86_64 |  OK  |  OK  |  | 
| Windows Server 2003  | x86_64 |  OK  |  OK  |  OK  | 
1.1.2Diego Diez | Linux (SUSE 9.2)  | x86_64 |  OK  |  OK  |  | 
| Linux (SUSE 9.2)  | i686 |  OK  |  OK  |  | 
| Solaris 2.9  | sparc |  OK  |  OK  |  | 
| Linux (SUSE 10.0)  | x86_64 |  OK  |  OK  |  | 
| Windows Server 2003  | x86_64 |  OK  |  OK  |  OK  | 
1.7.0Yee Hwa (Jean) Yang | Linux (SUSE 9.2)  | x86_64 |  OK  |  OK  |  | 
| Linux (SUSE 9.2)  | i686 |  OK  |  OK  |  | 
| Solaris 2.9  | sparc |  OK  |  OK  |  | 
| Linux (SUSE 10.0)  | x86_64 |  OK  |  OK  |  | 
| Windows Server 2003  | x86_64 |  OK  |  OK  |  OK  | 
1.1.1James W. MacDonald | Linux (SUSE 9.2)  | x86_64 |  OK  |  OK  |  | 
| Linux (SUSE 9.2)  | i686 |  OK  |  OK  |  | 
| Solaris 2.9  | sparc |  OK  |  OK  |  | 
| Linux (SUSE 10.0)  | x86_64 |  OK  |  OK  |  | 
| Windows Server 2003  | x86_64 |  OK  |  OK  |  OK  | 
1.7.0Antoine Lucas | Linux (SUSE 9.2)  | x86_64 |  OK  |  OK  |  | 
| Linux (SUSE 9.2)  | i686 |  OK  |  OK  |  | 
| Solaris 2.9  | sparc |  OK  |  OK  |  | 
| Linux (SUSE 10.0)  | x86_64 |  OK  |  OK  |  | 
| Windows Server 2003  | x86_64 |  OK  |  OK  |  OK  | 
1.5.0Jobst Landgrebe | Linux (SUSE 9.2)  | x86_64 |  OK  |  OK  |  | 
| Linux (SUSE 9.2)  | i686 |  OK  |  OK  |  | 
| Solaris 2.9  | sparc |  OK  |  OK  |  | 
| Linux (SUSE 10.0)  | x86_64 |  OK  |  OK  |  | 
| Windows Server 2003  | x86_64 |  OK  |  OK  |  OK  | 
1.5.0Yuanyuan Xiao | Linux (SUSE 9.2)  | x86_64 |  OK  |  OK  |  | 
| Linux (SUSE 9.2)  | i686 |  OK  |  OK  |  | 
| Solaris 2.9  | sparc |  OK  |  OK  |  | 
| Linux (SUSE 10.0)  | x86_64 |  OK  |  OK  |  | 
| Windows Server 2003  | x86_64 |  OK  |  OK  |  OK  | 
1.15.0Choudary Jagarlamudi | Linux (SUSE 9.2)  | x86_64 |  OK  |  OK  |  | 
| Linux (SUSE 9.2)  | i686 |  OK  |  OK  |  | 
| Solaris 2.9  | sparc |  OK  |  OK  |  | 
| Linux (SUSE 10.0)  | x86_64 |  OK  |  OK  |  | 
| Windows Server 2003  | x86_64 |  OK  |  OK  |  OK  | 
1.7.0E. S. Venkatraman | Linux (SUSE 9.2)  | x86_64 |  OK  |  OK  |  | 
| Linux (SUSE 9.2)  | i686 |  OK  |  OK  |  | 
| Solaris 2.9  | sparc |  OK  |  OK  |  | 
| Linux (SUSE 10.0)  | x86_64 |  OK  |  OK  |  | 
| Windows Server 2003  | x86_64 |  OK  |  OK  |  OK  | 
1.11.1Biocore Team | Linux (SUSE 9.2)  | x86_64 |  OK  |  OK  |  | 
| Linux (SUSE 9.2)  | i686 |  OK  |  OK  |  | 
| Solaris 2.9  | sparc |  OK  |  OK  |  | 
| Linux (SUSE 10.0)  | x86_64 |  OK  |  OK  |  | 
| Windows Server 2003  | x86_64 |  OK  |  OK  |  OK  | 
1.5.0Deepayan Sarkar | Linux (SUSE 9.2)  | x86_64 |  OK  |  OK  |  | 
| Linux (SUSE 9.2)  | i686 |  OK  |  OK  |  | 
| Solaris 2.9  | sparc |  OK  |  OK  |  | 
| Linux (SUSE 10.0)  | x86_64 |  OK  |  OK  |  | 
| Windows Server 2003  | x86_64 |  OK  |  OK  |  OK  | 
1.3.019Oleg Sklyar | Linux (SUSE 9.2)  | x86_64 |  OK  |  ERROR  |  | 
| Linux (SUSE 9.2)  | i686 |  OK  |  ERROR  |  | 
| Solaris 2.9  | sparc |  OK  |  ERROR  |  | 
| Linux (SUSE 10.0)  | x86_64 |  OK  |  ERROR  |  | 
| Windows Server 2003  | x86_64 |  OK  |  ERROR  |  ERROR  | 
1.5.0Laurent | Linux (SUSE 9.2)  | x86_64 |  OK  |  OK  |  | 
| Linux (SUSE 9.2)  | i686 |  OK  |  OK  |  | 
| Solaris 2.9  | sparc |  ERROR  | skipped |  | 
| Linux (SUSE 10.0)  | x86_64 |  OK  |  OK  |  | 
| Windows Server 2003  | x86_64 |  OK  |  OK  |  OK  | 
1.11.1Vince Carey | Linux (SUSE 9.2)  | x86_64 |  OK  |  OK  |  | 
| Linux (SUSE 9.2)  | i686 |  OK  |  OK  |  | 
| Solaris 2.9  | sparc |  OK  |  OK  |  | 
| Linux (SUSE 10.0)  | x86_64 |  OK  |  OK  |  | 
| Windows Server 2003  | x86_64 |  OK  |  OK  |  OK  | 
0.3.0Byron Ellis | Linux (SUSE 9.2)  | x86_64 |  OK  |  ERROR  |  | 
| Linux (SUSE 9.2)  | i686 |  OK  |  ERROR  |  | 
| Solaris 2.9  | sparc |  ERROR  | skipped |  | 
| Linux (SUSE 10.0)  | x86_64 |  OK  |  ERROR  |  | 
| Windows Server 2003  | x86_64 |  ERROR  | skipped | skipped | 
1.5.0Biocore Team | Linux (SUSE 9.2)  | x86_64 |  OK  |  OK  |  | 
| Linux (SUSE 9.2)  | i686 |  OK  |  OK  |  | 
| Solaris 2.9  | sparc |  OK  |  OK  |  | 
| Linux (SUSE 10.0)  | x86_64 |  OK  |  OK  |  | 
| Windows Server 2003  | x86_64 |  OK  |  OK  |  OK  | 
1.5.0Biocore Team | Linux (SUSE 9.2)  | x86_64 |  OK  |  OK  |  | 
| Linux (SUSE 9.2)  | i686 |  OK  |  OK  |  | 
| Solaris 2.9  | sparc |  OK  |  OK  |  | 
| Linux (SUSE 10.0)  | x86_64 |  OK  |  OK  |  | 
| Windows Server 2003  | x86_64 |  OK  |  OK  |  OK  | 
1.7.0Denise Scholtens | Linux (SUSE 9.2)  | x86_64 |  OK  |  OK  |  | 
| Linux (SUSE 9.2)  | i686 |  OK  |  OK  |  | 
| Solaris 2.9  | sparc |  ERROR  | skipped |  | 
| Linux (SUSE 10.0)  | x86_64 |  OK  |  OK  |  | 
| Windows Server 2003  | x86_64 |  OK  |  OK  |  OK  | 
1.5.0Effi Kenigsberg | Linux (SUSE 9.2)  | x86_64 |  OK  |  OK  |  | 
| Linux (SUSE 9.2)  | i686 |  OK  |  OK  |  | 
| Solaris 2.9  | sparc |  OK  |  OK  |  | 
| Linux (SUSE 10.0)  | x86_64 |  OK  |  OK  |  | 
| Windows Server 2003  | x86_64 |  OK  |  OK  |  OK  | 
1.1.0Paul Shannon | Linux (SUSE 9.2)  | x86_64 |  OK  |  ERROR  |  | 
| Linux (SUSE 9.2)  | i686 |  OK  |  WARNINGS  |  | 
| Solaris 2.9  | sparc |  OK  |  ERROR  |  | 
| Linux (SUSE 10.0)  | x86_64 |  OK  |  ERROR  |  | 
| Windows Server 2003  | x86_64 |  OK  |  WARNINGS  |  OK  | 
2.5.1Z. Wu | Linux (SUSE 9.2)  | x86_64 |  OK  |  OK  |  | 
| Linux (SUSE 9.2)  | i686 |  OK  |  OK  |  | 
| Solaris 2.9  | sparc |  ERROR  | skipped |  | 
| Linux (SUSE 10.0)  | x86_64 |  OK  |  OK  |  | 
| Windows Server 2003  | x86_64 |  OK  |  OK  |  OK  | 
1.9.0IFC Development Team | Linux (SUSE 9.2)  | x86_64 |  OK  |  OK  |  | 
| Linux (SUSE 9.2)  | i686 |  OK  |  OK  |  | 
| Solaris 2.9  | sparc |  OK  |  OK  |  | 
| Linux (SUSE 10.0)  | x86_64 |  OK  |  OK  |  | 
| Windows Server 2003  | x86_64 |  OK  |  OK  |  OK  | 
1.11.4Biocore Team | Linux (SUSE 9.2)  | x86_64 |  OK  |  OK  |  | 
| Linux (SUSE 9.2)  | i686 |  OK  |  OK  |  | 
| Solaris 2.9  | sparc |  OK  |  OK  |  | 
| Linux (SUSE 10.0)  | x86_64 |  OK  |  OK  |  | 
| Windows Server 2003  | x86_64 |  OK  |  OK  |  OK  | 
1.5.0Biocore Team | Linux (SUSE 9.2)  | x86_64 |  OK  |  OK  |  | 
| Linux (SUSE 9.2)  | i686 |  OK  |  OK  |  | 
| Solaris 2.9  | sparc |  OK  |  OK  |  | 
| Linux (SUSE 10.0)  | x86_64 |  OK  |  OK  |  | 
| Windows Server 2003  | x86_64 |  OK  |  OK  |  OK  | 
1.11.1Biocore Team | Linux (SUSE 9.2)  | x86_64 |  OK  |  OK  |  | 
| Linux (SUSE 9.2)  | i686 |  OK  |  OK  |  | 
| Solaris 2.9  | sparc |  OK  |  OK  |  | 
| Linux (SUSE 10.0)  | x86_64 |  OK  |  OK  |  | 
| Windows Server 2003  | x86_64 |  OK  |  OK  |  OK  | 
2.3.0Y. d'Aubenton-Carafa | Linux (SUSE 9.2)  | x86_64 |  ERROR  | skipped |  | 
| Linux (SUSE 9.2)  | i686 |  ERROR  | skipped |  | 
| Solaris 2.9  | sparc |  ERROR  | skipped |  | 
| Linux (SUSE 10.0)  | x86_64 |  ERROR  | skipped |  | 
| Windows Server 2003  | x86_64 |  ERROR  | skipped | skipped | 
1.5.0Greg Hather | Linux (SUSE 9.2)  | x86_64 |  OK  |  OK  |  | 
| Linux (SUSE 9.2)  | i686 |  OK  |  OK  |  | 
| Solaris 2.9  | sparc |  OK  |  OK  |  | 
| Linux (SUSE 10.0)  | x86_64 |  OK  |  OK  |  | 
| Windows Server 2003  | x86_64 |  OK  |  OK  |  OK  | 
0.1.3Antoine Lucas | Linux (SUSE 9.2)  | x86_64 |  OK  |  OK  |  | 
| Linux (SUSE 9.2)  | i686 |  ERROR  | skipped |  | 
| Solaris 2.9  | sparc |  ERROR  | skipped |  | 
| Linux (SUSE 10.0)  | x86_64 |  OK  |  OK  |  | 
| Windows Server 2003  | x86_64 |  ERROR  | skipped | skipped | 
2.5.0Thon de Boer | Linux (SUSE 9.2)  | x86_64 |  OK  |  OK  |  | 
| Linux (SUSE 9.2)  | i686 |  OK  |  OK  |  | 
| Solaris 2.9  | sparc |  OK  |  OK  |  | 
| Linux (SUSE 10.0)  | x86_64 |  OK  |  OK  |  | 
| Windows Server 2003  | x86_64 |  OK  |  OK  |  OK  | 
1.5.0Daniel Iordan | Linux (SUSE 9.2)  | x86_64 |  OK  |  OK  |  | 
| Linux (SUSE 9.2)  | i686 |  OK  |  OK  |  | 
| Solaris 2.9  | sparc |  OK  |  ERROR  |  | 
| Linux (SUSE 10.0)  | x86_64 |  OK  |  OK  |  | 
| Windows Server 2003  | x86_64 |  OK  |  ERROR  |  ERROR  | 
2.10.1Korbinian Strimmer | Linux (SUSE 9.2)  | x86_64 |  OK  |  OK  |  | 
| Linux (SUSE 9.2)  | i686 |  OK  |  OK  |  | 
| Solaris 2.9  | sparc |  OK  |  OK  |  | 
| Linux (SUSE 10.0)  | x86_64 |  OK  |  OK  |  | 
| Windows Server 2003  | x86_64 |  OK  |  OK  |  OK  | 
1.1.0H. Pages | Linux (SUSE 9.2)  | x86_64 |  OK  |  OK  |  | 
| Linux (SUSE 9.2)  | i686 |  OK  |  OK  |  | 
| Solaris 2.9  | sparc |  OK  |  OK  |  | 
| Linux (SUSE 10.0)  | x86_64 |  OK  |  OK  |  | 
| Windows Server 2003  | x86_64 |  OK  |  OK  |  OK  | 
1.7.0Sean Davis | Linux (SUSE 9.2)  | x86_64 |  OK  |  WARNINGS  |  | 
| Linux (SUSE 9.2)  | i686 |  OK  |  WARNINGS  |  | 
| Solaris 2.9  | sparc |  OK  |  WARNINGS  |  | 
| Linux (SUSE 10.0)  | x86_64 |  OK  |  WARNINGS  |  | 
| Windows Server 2003  | x86_64 |  OK  |  WARNINGS  |  OK  | 
1.7.0Oleg Sklyar | Linux (SUSE 9.2)  | x86_64 |  OK  |  OK  |  | 
| Linux (SUSE 9.2)  | i686 |  OK  |  OK  |  | 
| Solaris 2.9  | sparc |  OK  |  OK  |  | 
| Linux (SUSE 10.0)  | x86_64 |  OK  |  OK  |  | 
| Windows Server 2003  | x86_64 |  OK  |  OK  |  OK  | 
1.7.0Philippe Hupé | Linux (SUSE 9.2)  | x86_64 |  OK  |  WARNINGS  |  | 
| Linux (SUSE 9.2)  | i686 |  OK  |  WARNINGS  |  | 
| Solaris 2.9  | sparc |  OK  |  WARNINGS  |  | 
| Linux (SUSE 10.0)  | x86_64 |  OK  |  WARNINGS  |  | 
| Windows Server 2003  | x86_64 |  OK  |  WARNINGS  |  OK  | 
2.3.0R. Meister | Linux (SUSE 9.2)  | x86_64 |  OK  |  OK  |  | 
| Linux (SUSE 9.2)  | i686 |  OK  |  OK  |  | 
| Solaris 2.9  | sparc |  OK  |  OK  |  | 
| Linux (SUSE 10.0)  | x86_64 |  OK  |  OK  |  | 
| Windows Server 2003  | x86_64 |  OK  |  OK  |  OK  | 
4.3.2Jelle Goeman | Linux (SUSE 9.2)  | x86_64 |  OK  |  OK  |  | 
| Linux (SUSE 9.2)  | i686 |  OK  |  OK  |  | 
| Solaris 2.9  | sparc |  OK  |  OK  |  | 
| Linux (SUSE 10.0)  | x86_64 |  OK  |  OK  |  | 
| Windows Server 2003  | x86_64 |  OK  |  OK  |  OK  | 
1.7.0Gunnar Wrobel | Linux (SUSE 9.2)  | x86_64 |  OK  |  OK  |  | 
| Linux (SUSE 9.2)  | i686 |  OK  |  OK  |  | 
| Solaris 2.9  | sparc |  OK  |  OK  |  | 
| Linux (SUSE 10.0)  | x86_64 |  OK  |  OK  |  | 
| Windows Server 2003  | x86_64 |  OK  |  OK  |  OK  | 
1.7.3R. Gentleman | Linux (SUSE 9.2)  | x86_64 |  OK  |  OK  |  | 
| Linux (SUSE 9.2)  | i686 |  OK  |  OK  |  | 
| Solaris 2.9  | sparc |  OK  |  TIMEOUT  |  | 
| Linux (SUSE 10.0)  | x86_64 |  OK  |  OK  |  | 
| Windows Server 2003  | x86_64 |  ERROR  | skipped | skipped | 
1.5.0Agnes Paquet | Linux (SUSE 9.2)  | x86_64 |  OK  |  OK  |  | 
| Linux (SUSE 9.2)  | i686 |  OK  |  OK  |  | 
| Solaris 2.9  | sparc |  OK  |  OK  |  | 
| Linux (SUSE 10.0)  | x86_64 |  OK  |  OK  |  | 
| Windows Server 2003  | x86_64 |  OK  |  OK  |  OK  | 
1.5.0Biocore Team | Linux (SUSE 9.2)  | x86_64 |  OK  |  OK  |  | 
| Linux (SUSE 9.2)  | i686 |  OK  |  OK  |  | 
| Solaris 2.9  | sparc |  OK  |  OK  |  | 
| Linux (SUSE 10.0)  | x86_64 |  OK  |  OK  |  | 
| Windows Server 2003  | x86_64 |  OK  |  OK  |  OK  | 
1.11.9Seth Falcon | Linux (SUSE 9.2)  | x86_64 |  OK  |  OK  |  | 
| Linux (SUSE 9.2)  | i686 |  OK  |  OK  |  | 
| Solaris 2.9  | sparc |  OK  |  OK  |  | 
| Linux (SUSE 10.0)  | x86_64 |  OK  |  OK  |  | 
| Windows Server 2003  | x86_64 |  OK  |  OK  |  OK  | 
1.5.0Thomas LaFramboise | Linux (SUSE 9.2)  | x86_64 |  OK  |  OK  |  | 
| Linux (SUSE 9.2)  | i686 |  OK  |  OK  |  | 
| Solaris 2.9  | sparc |  OK  |  OK  |  | 
| Linux (SUSE 10.0)  | x86_64 |  OK  |  OK  |  | 
| Windows Server 2003  | x86_64 |  OK  |  OK  |  OK  | 
0.11.0Jianhua Zhang | Linux (SUSE 9.2)  | x86_64 |  OK  |  OK  |  | 
| Linux (SUSE 9.2)  | i686 |  OK  |  OK  |  | 
| Solaris 2.9  | sparc |  OK  |  OK  |  | 
| Linux (SUSE 10.0)  | x86_64 |  OK  |  OK  |  | 
| Windows Server 2003  | x86_64 |  OK  |  OK  |  OK  | 
1.3.1Alexander Ploner | Linux (SUSE 9.2)  | x86_64 |  OK  |  OK  |  | 
| Linux (SUSE 9.2)  | i686 |  OK  |  OK  |  | 
| Solaris 2.9  | sparc |  OK  |  OK  |  | 
| Linux (SUSE 10.0)  | x86_64 |  OK  |  OK  |  | 
| Windows Server 2003  | x86_64 |  OK  |  OK  |  OK  | 
1.5.0HyungJun Cho | Linux (SUSE 9.2)  | x86_64 |  OK  |  OK  |  | 
| Linux (SUSE 9.2)  | i686 |  OK  |  OK  |  | 
| Solaris 2.9  | sparc |  OK  |  OK  |  | 
| Linux (SUSE 10.0)  | x86_64 |  OK  |  OK  |  | 
| Windows Server 2003  | x86_64 |  OK  |  OK  |  OK  | 
1.7.1Nicholas Lewin-Koh | Linux (SUSE 9.2)  | x86_64 |  OK  |  OK  |  | 
| Linux (SUSE 9.2)  | i686 |  OK  |  OK  |  | 
| Solaris 2.9  | sparc |  OK  |  OK  |  | 
| Linux (SUSE 10.0)  | x86_64 |  OK  |  OK  |  | 
| Windows Server 2003  | x86_64 |  OK  |  OK  |  OK  | 
1.7.0Katherine S. Pollard | Linux (SUSE 9.2)  | x86_64 |  OK  |  OK  |  | 
| Linux (SUSE 9.2)  | i686 |  OK  |  OK  |  | 
| Solaris 2.9  | sparc |  OK  |  OK  |  | 
| Linux (SUSE 10.0)  | x86_64 |  OK  |  OK  |  | 
| Windows Server 2003  | x86_64 |  OK  |  OK  |  OK  | 
1.5.0Seth Falcon | Linux (SUSE 9.2)  | x86_64 |  OK  |  OK  |  | 
| Linux (SUSE 9.2)  | i686 |  OK  |  OK  |  | 
| Solaris 2.9  | sparc |  OK  |  OK  |  | 
| Linux (SUSE 10.0)  | x86_64 |  OK  |  OK  |  | 
| Windows Server 2003  | x86_64 |  OK  |  OK  |  OK  | 
1.5.0Biocore Team | Linux (SUSE 9.2)  | x86_64 |  OK  |  OK  |  | 
| Linux (SUSE 9.2)  | i686 |  OK  |  OK  |  | 
| Solaris 2.9  | sparc |  OK  |  OK  |  | 
| Linux (SUSE 10.0)  | x86_64 |  OK  |  OK  |  | 
| Windows Server 2003  | x86_64 |  OK  |  OK  |  OK  | 
1.7.0Karl J. Dykema | Linux (SUSE 9.2)  | x86_64 |  OK  |  OK  |  | 
| Linux (SUSE 9.2)  | i686 |  OK  |  OK  |  | 
| Solaris 2.9  | sparc |  OK  |  OK  |  | 
| Linux (SUSE 10.0)  | x86_64 |  OK  |  OK  |  | 
| Windows Server 2003  | x86_64 |  OK  |  OK  |  OK  | 
1.5.0Balasubramanian Narasimhan | Linux (SUSE 9.2)  | x86_64 |  OK  |  OK  |  | 
| Linux (SUSE 9.2)  | i686 |  OK  |  OK  |  | 
| Solaris 2.9  | sparc |  OK  |  OK  |  | 
| Linux (SUSE 10.0)  | x86_64 |  OK  |  ERROR  |  | 
| Windows Server 2003  | x86_64 |  OK  |  OK  |  OK  | 
1.7.5Elizabeth Whalen | Linux (SUSE 9.2)  | x86_64 |  OK  |  OK  |  | 
| Linux (SUSE 9.2)  | i686 |  OK  |  OK  |  | 
| Solaris 2.9  | sparc |  OK  |  OK  |  | 
| Linux (SUSE 10.0)  | x86_64 |  OK  |  OK  |  | 
| Windows Server 2003  | x86_64 |  ERROR  | skipped | skipped | 
1.7.0J. Zhang | Linux (SUSE 9.2)  | x86_64 |  OK  |  OK  |  | 
| Linux (SUSE 9.2)  | i686 |  OK  |  OK  |  | 
| Solaris 2.9  | sparc |  OK  |  OK  |  | 
| Linux (SUSE 10.0)  | x86_64 |  OK  |  OK  |  | 
| Windows Server 2003  | x86_64 |  OK  |  ERROR  |  ERROR  | 
2.7.3Gordon Smyth | Linux (SUSE 9.2)  | x86_64 |  OK  |  WARNINGS  |  | 
| Linux (SUSE 9.2)  | i686 |  OK  |  WARNINGS  |  | 
| Solaris 2.9  | sparc |  OK  |  WARNINGS  |  | 
| Linux (SUSE 10.0)  | x86_64 |  OK  |  WARNINGS  |  | 
| Windows Server 2003  | x86_64 |  OK  |  WARNINGS  |  OK  | 
1.9.0Keith Satterley | Linux (SUSE 9.2)  | x86_64 |  OK  |  OK  |  | 
| Linux (SUSE 9.2)  | i686 |  OK  |  OK  |  | 
| Solaris 2.9  | sparc |  OK  |  OK  |  | 
| Linux (SUSE 10.0)  | x86_64 |  OK  |  OK  |  | 
| Windows Server 2003  | x86_64 |  OK  |  OK  |  OK  | 
1.1.0Geun Cheol Lee | Linux (SUSE 9.2)  | x86_64 |  OK  |  OK  |  | 
| Linux (SUSE 9.2)  | i686 |  OK  |  OK  |  | 
| Solaris 2.9  | sparc |  OK  |  OK  |  | 
| Linux (SUSE 10.0)  | x86_64 |  OK  |  OK  |  | 
| Windows Server 2003  | x86_64 |  OK  |  OK  |  OK  | 
1.3.0Holger Schwender | Linux (SUSE 9.2)  | x86_64 |  OK  |  OK  |  | 
| Linux (SUSE 9.2)  | i686 |  OK  |  OK  |  | 
| Solaris 2.9  | sparc |  OK  |  OK  |  | 
| Linux (SUSE 10.0)  | x86_64 |  OK  |  OK  |  | 
| Windows Server 2003  | x86_64 |  OK  |  OK  |  OK  | 
1.7.0Nitin Jain | Linux (SUSE 9.2)  | x86_64 |  OK  |  OK  |  | 
| Linux (SUSE 9.2)  | i686 |  OK  |  OK  |  | 
| Solaris 2.9  | sparc |  OK  |  OK  |  | 
| Linux (SUSE 10.0)  | x86_64 |  OK  |  OK  |  | 
| Windows Server 2003  | x86_64 |  OK  |  OK  |  OK  | 
0.0.4HyungJun Cho | Linux (SUSE 9.2)  | x86_64 |  ERROR  | skipped |  | 
| Linux (SUSE 9.2)  | i686 |  ERROR  | skipped |  | 
| Solaris 2.9  | sparc |  ERROR  | skipped |  | 
| Linux (SUSE 10.0)  | x86_64 |  ERROR  | skipped |  | 
| Windows Server 2003  | x86_64 |  ERROR  | skipped | skipped | 
1.3.1Lei Wu | Linux (SUSE 9.2)  | x86_64 |  ERROR  | skipped |  | 
| Linux (SUSE 9.2)  | i686 |  ERROR  | skipped |  | 
| Solaris 2.9  | sparc |  ERROR  | skipped |  | 
| Linux (SUSE 10.0)  | x86_64 |  ERROR  | skipped |  | 
| Windows Server 2003  | x86_64 |  ERROR  | skipped | skipped | 
1.7.0Joern Toedling | Linux (SUSE 9.2)  | x86_64 |  ERROR  | skipped |  | 
| Linux (SUSE 9.2)  | i686 |  ERROR  | skipped |  | 
| Solaris 2.9  | sparc |  ERROR  | skipped |  | 
| Linux (SUSE 10.0)  | x86_64 |  ERROR  | skipped |  | 
| Windows Server 2003  | x86_64 |  ERROR  | skipped | skipped | 
1.3.0Alexander Ploner | Linux (SUSE 9.2)  | x86_64 |  OK  |  OK  |  | 
| Linux (SUSE 9.2)  | i686 |  OK  |  OK  |  | 
| Solaris 2.9  | sparc |  OK  |  OK  |  | 
| Linux (SUSE 10.0)  | x86_64 |  OK  |  OK  |  | 
| Windows Server 2003  | x86_64 |  OK  |  OK  |  OK  | 
1.5.0Johannes Rainer | Linux (SUSE 9.2)  | x86_64 |  OK  |  OK  |  | 
| Linux (SUSE 9.2)  | i686 |  OK  |  OK  |  | 
| Solaris 2.9  | sparc |  OK  |  ERROR  |  | 
| Linux (SUSE 10.0)  | x86_64 |  OK  |  OK  |  | 
| Windows Server 2003  | x86_64 |  OK  |  ERROR  |  ERROR  | 
1.7.0Aedin Culhane | Linux (SUSE 9.2)  | x86_64 |  OK  |  OK  |  | 
| Linux (SUSE 9.2)  | i686 |  OK  |  OK  |  | 
| Solaris 2.9  | sparc |  OK  |  ERROR  |  | 
| Linux (SUSE 10.0)  | x86_64 |  OK  |  OK  |  | 
| Windows Server 2003  | x86_64 |  OK  |  OK  |  OK  | 
1.11.0James W. MacDonald | Linux (SUSE 9.2)  | x86_64 |  OK  |  OK  |  | 
| Linux (SUSE 9.2)  | i686 |  OK  |  OK  |  | 
| Solaris 2.9  | sparc |  ERROR  | skipped |  | 
| Linux (SUSE 10.0)  | x86_64 |  OK  |  OK  |  | 
| Windows Server 2003  | x86_64 |  ERROR  | skipped | skipped | 
0.99.8Benilton Carvalho | Linux (SUSE 9.2)  | x86_64 |  OK  |  WARNINGS  |  | 
| Linux (SUSE 9.2)  | i686 |  OK  |  WARNINGS  |  | 
| Solaris 2.9  | sparc |  OK  |  WARNINGS  |  | 
| Linux (SUSE 10.0)  | x86_64 |  OK  |  WARNINGS  |  | 
| Windows Server 2003  | x86_64 |  OK  |  WARNINGS  |  OK  | 
1.5.0Pierre Neuvial | Linux (SUSE 9.2)  | x86_64 |  OK  |  OK  |  | 
| Linux (SUSE 9.2)  | i686 |  OK  |  OK  |  | 
| Solaris 2.9  | sparc |  OK  |  OK  |  | 
| Linux (SUSE 10.0)  | x86_64 |  OK  |  OK  |  | 
| Windows Server 2003  | x86_64 |  OK  |  OK  |  OK  | 
1.3.0Brian Steinmeyer | Linux (SUSE 9.2)  | x86_64 |  OK  |  OK  |  | 
| Linux (SUSE 9.2)  | i686 |  OK  |  OK  |  | 
| Solaris 2.9  | sparc |  OK  |  OK  |  | 
| Linux (SUSE 10.0)  | x86_64 |  OK  |  OK  |  | 
| Windows Server 2003  | x86_64 |  OK  |  OK  |  OK  | 
1.11.0Yee Hwa (Jean) Yang | Linux (SUSE 9.2)  | x86_64 |  OK  |  OK  |  | 
| Linux (SUSE 9.2)  | i686 |  OK  |  OK  |  | 
| Solaris 2.9  | sparc |  OK  |  OK  |  | 
| Linux (SUSE 10.0)  | x86_64 |  OK  |  OK  |  | 
| Windows Server 2003  | x86_64 |  OK  |  OK  |  OK  | 
1.5.0Ana Conesa | Linux (SUSE 9.2)  | x86_64 |  OK  |  OK  |  | 
| Linux (SUSE 9.2)  | i686 |  OK  |  OK  |  | 
| Solaris 2.9  | sparc |  OK  |  OK  |  | 
| Linux (SUSE 10.0)  | x86_64 |  OK  |  OK  |  | 
| Windows Server 2003  | x86_64 |  OK  |  OK  |  OK  | 
1.5.0Biocore Team | Linux (SUSE 9.2)  | x86_64 |  OK  |  OK  |  | 
| Linux (SUSE 9.2)  | i686 |  OK  |  OK  |  | 
| Solaris 2.9  | sparc |  ERROR  | skipped |  | 
| Linux (SUSE 10.0)  | x86_64 |  OK  |  OK  |  | 
| Windows Server 2003  | x86_64 |  OK  |  OK  |  OK  | 
1.7.0Markus Ruschhaupt | Linux (SUSE 9.2)  | x86_64 |  OK  |  OK  |  | 
| Linux (SUSE 9.2)  | i686 |  OK  |  OK  |  | 
| Solaris 2.9  | sparc |  OK  |  OK  |  | 
| Linux (SUSE 10.0)  | x86_64 |  OK  |  OK  |  | 
| Windows Server 2003  | x86_64 |  OK  |  OK  |  OK  | 
1.5.0Beiying Ding | Linux (SUSE 9.2)  | x86_64 |  OK  |  OK  |  | 
| Linux (SUSE 9.2)  | i686 |  OK  |  OK  |  | 
| Solaris 2.9  | sparc |  OK  |  OK  |  | 
| Linux (SUSE 10.0)  | x86_64 |  OK  |  OK  |  | 
| Windows Server 2003  | x86_64 |  OK  |  OK  |  OK  | 
2.5.0Xiaogang Zhong | Linux (SUSE 9.2)  | x86_64 |  OK  |  OK  |  | 
| Linux (SUSE 9.2)  | i686 |  OK  |  OK  |  | 
| Solaris 2.9  | sparc |  OK  |  OK  |  | 
| Linux (SUSE 10.0)  | x86_64 |  OK  |  OK  |  | 
| Windows Server 2003  | x86_64 |  OK  |  OK  |  OK  | 
1.5.0Hyungwon Choi | Linux (SUSE 9.2)  | x86_64 |  OK  |  OK  |  | 
| Linux (SUSE 9.2)  | i686 |  OK  |  OK  |  | 
| Solaris 2.9  | sparc |  OK  |  OK  |  | 
| Linux (SUSE 10.0)  | x86_64 |  OK  |  OK  |  | 
| Windows Server 2003  | x86_64 |  OK  |  OK  |  OK  | 
1.1.0Matthias Futschik | Linux (SUSE 9.2)  | x86_64 |  OK  |  OK  |  | 
| Linux (SUSE 9.2)  | i686 |  OK  |  OK  |  | 
| Solaris 2.9  | sparc |  OK  |  OK  |  | 
| Linux (SUSE 10.0)  | x86_64 |  OK  |  OK  |  | 
| Windows Server 2003  | x86_64 |  OK  |  OK  |  OK  | 
1.5.0HyungJun Cho | Linux (SUSE 9.2)  | x86_64 |  OK  |  ERROR  |  | 
| Linux (SUSE 9.2)  | i686 |  OK  |  ERROR  |  | 
| Solaris 2.9  | sparc |  OK  |  ERROR  |  | 
| Linux (SUSE 10.0)  | x86_64 |  OK  |  ERROR  |  | 
| Windows Server 2003  | x86_64 |  OK  |  ERROR  |  OK  | 
1.5.0V. Carey | Linux (SUSE 9.2)  | x86_64 |  OK  |  WARNINGS  |  | 
| Linux (SUSE 9.2)  | i686 |  OK  |  WARNINGS  |  | 
| Solaris 2.9  | sparc |  OK  |  ERROR  |  | 
| Linux (SUSE 10.0)  | x86_64 |  OK  |  WARNINGS  |  | 
| Windows Server 2003  | x86_64 |  OK  |  WARNINGS  |  OK  | 
1.5.0Xuejun Liu | Linux (SUSE 9.2)  | x86_64 |  OK  |  OK  |  | 
| Linux (SUSE 9.2)  | i686 |  OK  |  OK  |  | 
| Solaris 2.9  | sparc |  OK  |  ERROR  |  | 
| Linux (SUSE 10.0)  | x86_64 |  OK  |  OK  |  | 
| Windows Server 2003  | x86_64 |  OK  |  OK  |  OK  | 
1.5.0Witold Wolski | Linux (SUSE 9.2)  | x86_64 |  OK  |  WARNINGS  |  | 
| Linux (SUSE 9.2)  | i686 |  OK  |  WARNINGS  |  | 
| Solaris 2.9  | sparc |  OK  |  WARNINGS  |  | 
| Linux (SUSE 10.0)  | x86_64 |  OK  |  WARNINGS  |  | 
| Windows Server 2003  | x86_64 |  OK  |  OK  |  OK  | 
1.3.0Witold Wolski | Linux (SUSE 9.2)  | x86_64 |  OK  |  ERROR  |  | 
| Linux (SUSE 9.2)  | i686 |  OK  |  ERROR  |  | 
| Solaris 2.9  | sparc |  OK  |  ERROR  |  | 
| Linux (SUSE 10.0)  | x86_64 |  OK  |  ERROR  |  | 
| Windows Server 2003  | x86_64 |  OK  |  ERROR  |  OK  | 
1.11.2Katherine S. Pollard | Linux (SUSE 9.2)  | x86_64 |  OK  |  OK  |  | 
| Linux (SUSE 9.2)  | i686 |  OK  |  OK  |  | 
| Solaris 2.9  | sparc |  OK  |  OK  |  | 
| Linux (SUSE 10.0)  | x86_64 |  OK  |  OK  |  | 
| Windows Server 2003  | x86_64 |  OK  |  OK  |  OK  | 
1.7.7Elizabeth Whalen | Linux (SUSE 9.2)  | x86_64 |  OK  |  OK  |  | 
| Linux (SUSE 9.2)  | i686 |  OK  |  OK  |  | 
| Solaris 2.9  | sparc |  OK  |  OK  |  | 
| Linux (SUSE 10.0)  | x86_64 |  OK  |  OK  |  | 
| Windows Server 2003  | x86_64 |  OK  |  OK  |  OK  | 
1.9.0Tarca Laurentiu | Linux (SUSE 9.2)  | x86_64 |  OK  |  OK  |  | 
| Linux (SUSE 9.2)  | i686 |  OK  |  OK  |  | 
| Solaris 2.9  | sparc |  OK  |  OK  |  | 
| Linux (SUSE 10.0)  | x86_64 |  OK  |  OK  |  | 
| Windows Server 2003  | x86_64 |  OK  |  OK  |  OK  | 
1.3.0N. Dean | Linux (SUSE 9.2)  | x86_64 |  OK  |  OK  |  | 
| Linux (SUSE 9.2)  | i686 |  OK  |  OK  |  | 
| Solaris 2.9  | sparc |  OK  |  OK  |  | 
| Linux (SUSE 10.0)  | x86_64 |  OK  |  OK  |  | 
| Windows Server 2003  | x86_64 |  OK  |  OK  |  OK  | 
1.7.0Alexander Ploner | Linux (SUSE 9.2)  | x86_64 |  OK  |  OK  |  | 
| Linux (SUSE 9.2)  | i686 |  OK  |  OK  |  | 
| Solaris 2.9  | sparc |  OK  |  OK  |  | 
| Linux (SUSE 10.0)  | x86_64 |  OK  |  OK  |  | 
| Windows Server 2003  | x86_64 |  OK  |  OK  |  OK  | 
0.99.11Benilton Carvalho | Linux (SUSE 9.2)  | x86_64 |  OK  |  WARNINGS  |  | 
| Linux (SUSE 9.2)  | i686 |  OK  |  WARNINGS  |  | 
| Solaris 2.9  | sparc |  OK  |  ERROR  |  | 
| Linux (SUSE 10.0)  | x86_64 |  OK  |  WARNINGS  |  | 
| Windows Server 2003  | x86_64 |  OK  |  WARNINGS  |  OK  | 
1.9.0Matthias Futschik | Linux (SUSE 9.2)  | x86_64 |  OK  |  OK  |  | 
| Linux (SUSE 9.2)  | i686 |  OK  |  OK  |  | 
| Solaris 2.9  | sparc |  OK  |  OK  |  | 
| Linux (SUSE 10.0)  | x86_64 |  OK  |  OK  |  | 
| Windows Server 2003  | x86_64 |  OK  |  OK  |  OK  | 
1.7.0Matthias Futschik | Linux (SUSE 9.2)  | x86_64 |  OK  |  OK  |  | 
| Linux (SUSE 9.2)  | i686 |  OK  |  OK  |  | 
| Solaris 2.9  | sparc |  OK  |  OK  |  | 
| Linux (SUSE 10.0)  | x86_64 |  OK  |  OK  |  | 
| Windows Server 2003  | x86_64 |  OK  |  OK  |  OK  | 
1.9.0Vince Carey | Linux (SUSE 9.2)  | x86_64 |  OK  |  OK  |  | 
| Linux (SUSE 9.2)  | i686 |  OK  |  OK  |  | 
| Solaris 2.9  | sparc |  OK  |  OK  |  | 
| Linux (SUSE 10.0)  | x86_64 |  OK  |  OK  |  | 
| Windows Server 2003  | x86_64 |  OK  |  OK  |  OK  | 
1.5.0Claudio Lottaz | Linux (SUSE 9.2)  | x86_64 |  ERROR  | skipped |  | 
| Linux (SUSE 9.2)  | i686 |  ERROR  | skipped |  | 
| Solaris 2.9  | sparc |  ERROR  | skipped |  | 
| Linux (SUSE 10.0)  | x86_64 |  ERROR  | skipped |  | 
| Windows Server 2003  | x86_64 |  ERROR  | skipped | skipped | 
1.7.0Witold Wolski | Linux (SUSE 9.2)  | x86_64 |  OK  |  OK  |  | 
| Linux (SUSE 9.2)  | i686 |  OK  |  OK  |  | 
| Solaris 2.9  | sparc |  OK  |  OK  |  | 
| Linux (SUSE 10.0)  | x86_64 |  OK  |  OK  |  | 
| Windows Server 2003  | x86_64 |  OK  |  OK  |  OK  | 
1.31.0Rob TIbshirani | Linux (SUSE 9.2)  | x86_64 |  OK  |  OK  |  | 
| Linux (SUSE 9.2)  | i686 |  OK  |  OK  |  | 
| Solaris 2.9  | sparc |  OK  |  OK  |  | 
| Linux (SUSE 10.0)  | x86_64 |  OK  |  OK  |  | 
| Windows Server 2003  | x86_64 |  OK  |  OK  |  OK  | 
1.3.0Peter Warren | Linux (SUSE 9.2)  | x86_64 |  OK  |  OK  |  | 
| Linux (SUSE 9.2)  | i686 |  OK  |  OK  |  | 
| Solaris 2.9  | sparc |  ERROR  | skipped |  | 
| Linux (SUSE 10.0)  | x86_64 |  OK  |  OK  |  | 
| Windows Server 2003  | x86_64 |  OK  |  OK  |  OK  | 
1.1.0Li Long | Linux (SUSE 9.2)  | x86_64 |  OK  |  OK  |  | 
| Linux (SUSE 9.2)  | i686 |  OK  |  OK  |  | 
| Solaris 2.9  | sparc |  OK  |  OK  |  | 
| Linux (SUSE 10.0)  | x86_64 |  OK  |  OK  |  | 
| Windows Server 2003  | x86_64 |  OK  |  OK  |  OK  | 
1.5.0James W. MacDonald | Linux (SUSE 9.2)  | x86_64 |  OK  |  OK  |  | 
| Linux (SUSE 9.2)  | i686 |  OK  |  OK  |  | 
| Solaris 2.9  | sparc |  OK  |  OK  |  | 
| Linux (SUSE 10.0)  | x86_64 |  OK  |  OK  |  | 
| Windows Server 2003  | x86_64 |  OK  |  OK  |  OK  | 
1.5.0Johannes Rainer | Linux (SUSE 9.2)  | x86_64 |  OK  |  OK  |  | 
| Linux (SUSE 9.2)  | i686 |  OK  |  OK  |  | 
| Solaris 2.9  | sparc |  OK  |  ERROR  |  | 
| Linux (SUSE 10.0)  | x86_64 |  OK  |  OK  |  | 
| Windows Server 2003  | x86_64 |  OK  |  ERROR  |  ERROR  | 
1.5.0Brian S. Yandell | Linux (SUSE 9.2)  | x86_64 |  OK  |  OK  |  | 
| Linux (SUSE 9.2)  | i686 |  OK  |  OK  |  | 
| Solaris 2.9  | sparc |  OK  |  OK  |  | 
| Linux (SUSE 10.0)  | x86_64 |  OK  |  OK  |  | 
| Windows Server 2003  | x86_64 |  OK  |  OK  |  OK  | 
1.5.0Mattia Pelizzola | Linux (SUSE 9.2)  | x86_64 |  OK  |  OK  |  | 
| Linux (SUSE 9.2)  | i686 |  OK  |  OK  |  | 
| Solaris 2.9  | sparc |  OK  |  OK  |  | 
| Linux (SUSE 10.0)  | x86_64 |  OK  |  OK  |  | 
| Windows Server 2003  | x86_64 |  OK  |  OK  |  OK  | 
1.5.0Crispin Miller | Linux (SUSE 9.2)  | x86_64 |  OK  |  OK  |  | 
| Linux (SUSE 9.2)  | i686 |  OK  |  OK  |  | 
| Solaris 2.9  | sparc |  OK  |  ERROR  |  | 
| Linux (SUSE 10.0)  | x86_64 |  OK  |  OK  |  | 
| Windows Server 2003  | x86_64 |  OK  |  OK  |  OK  | 
1.9.4Florian Hahne | Linux (SUSE 9.2)  | x86_64 |  OK  |  OK  |  | 
| Linux (SUSE 9.2)  | i686 |  OK  |  OK  |  | 
| Solaris 2.9  | sparc |  OK  |  OK  |  | 
| Linux (SUSE 10.0)  | x86_64 |  OK  |  OK  |  | 
| Windows Server 2003  | x86_64 |  OK  |  OK  |  OK  | 
1.9.1Xiaochun Li | Linux (SUSE 9.2)  | x86_64 |  OK  |  OK  |  | 
| Linux (SUSE 9.2)  | i686 |  OK  |  OK  |  | 
| Solaris 2.9  | sparc |  OK  |  OK  |  | 
| Linux (SUSE 10.0)  | x86_64 |  OK  |  OK  |  | 
| Windows Server 2003  | x86_64 |  OK  |  OK  |  OK  | 
1.7.0John D. Storey | Linux (SUSE 9.2)  | x86_64 |  OK  |  OK  |  | 
| Linux (SUSE 9.2)  | i686 |  OK  |  OK  |  | 
| Solaris 2.9  | sparc |  OK  |  OK  |  | 
| Linux (SUSE 10.0)  | x86_64 |  OK  |  OK  |  | 
| Windows Server 2003  | x86_64 |  OK  |  OK  |  OK  | 
1.5.0Raphael Gottardo | Linux (SUSE 9.2)  | x86_64 |  OK  |  OK  |  | 
| Linux (SUSE 9.2)  | i686 |  OK  |  OK  |  | 
| Solaris 2.9  | sparc |  OK  |  OK  |  | 
| Linux (SUSE 10.0)  | x86_64 |  OK  |  OK  |  | 
| Windows Server 2003  | x86_64 |  OK  |  OK  |  OK  | 
2.5.0Fangxin Hong | Linux (SUSE 9.2)  | x86_64 |  OK  |  OK  |  | 
| Linux (SUSE 9.2)  | i686 |  OK  |  OK  |  | 
| Solaris 2.9  | sparc |  OK  |  OK  |  | 
| Linux (SUSE 10.0)  | x86_64 |  OK  |  OK  |  | 
| Windows Server 2003  | x86_64 |  OK  |  OK  |  OK  | 
1.9.3Li Long | Linux (SUSE 9.2)  | x86_64 |  OK  |  WARNINGS  |  | 
| Linux (SUSE 9.2)  | i686 |  OK  |  WARNINGS  |  | 
| Solaris 2.9  | sparc |  OK  |  ERROR  |  | 
| Linux (SUSE 10.0)  | x86_64 |  OK  |  WARNINGS  |  | 
| Windows Server 2003  | x86_64 |  OK  |  WARNINGS  |  OK  | 
1.7.0Jianhua Zhang | Linux (SUSE 9.2)  | x86_64 |  OK  |  OK  |  | 
| Linux (SUSE 9.2)  | i686 |  OK  |  OK  |  | 
| Solaris 2.9  | sparc |  OK  |  OK  |  | 
| Linux (SUSE 10.0)  | x86_64 |  OK  |  OK  |  | 
| Windows Server 2003  | x86_64 |  OK  |  OK  |  OK  | 
1.7.0Jianhua Zhang | Linux (SUSE 9.2)  | x86_64 |  OK  |  OK  |  | 
| Linux (SUSE 9.2)  | i686 |  OK  |  OK  |  | 
| Solaris 2.9  | sparc |  OK  |  ERROR  |  | 
| Linux (SUSE 10.0)  | x86_64 |  OK  |  OK  |  | 
| Windows Server 2003  | x86_64 |  OK  |  ERROR  |  ERROR  | 
1.5.0Karl J. Dykema | Linux (SUSE 9.2)  | x86_64 |  OK  |  ERROR  |  | 
| Linux (SUSE 9.2)  | i686 |  OK  |  ERROR  |  | 
| Solaris 2.9  | sparc |  OK  |  ERROR  |  | 
| Linux (SUSE 10.0)  | x86_64 |  OK  |  ERROR  |  | 
| Windows Server 2003  | x86_64 |  OK  |  ERROR  |  OK  | 
1.7.0Jianhua Zhang | Linux (SUSE 9.2)  | x86_64 |  OK  |  OK  |  | 
| Linux (SUSE 9.2)  | i686 |  OK  |  OK  |  | 
| Solaris 2.9  | sparc |  ERROR  | skipped |  | 
| Linux (SUSE 10.0)  | x86_64 |  OK  |  OK  |  | 
| Windows Server 2003  | x86_64 |  OK  |  OK  |  OK  | 
1.5.1N. Le Meur | Linux (SUSE 9.2)  | x86_64 |  OK  |  OK  |  | 
| Linux (SUSE 9.2)  | i686 |  OK  |  OK  |  | 
| Solaris 2.9  | sparc |  OK  |  OK  |  | 
| Linux (SUSE 10.0)  | x86_64 |  OK  |  OK  |  | 
| Windows Server 2003  | x86_64 |  OK  |  OK  |  OK  | 
1.5.4N. Le Meur | Linux (SUSE 9.2)  | x86_64 |  OK  |  ERROR  |  | 
| Linux (SUSE 9.2)  | i686 |  OK  |  ERROR  |  | 
| Solaris 2.9  | sparc |  OK  |  ERROR  |  | 
| Linux (SUSE 10.0)  | x86_64 |  OK  |  ERROR  |  | 
| Windows Server 2003  | x86_64 |  OK  |  ERROR  |  OK  | 
1.11.0Jeff Gentry | Linux (SUSE 9.2)  | x86_64 |  OK  |  OK  |  | 
| Linux (SUSE 9.2)  | i686 |  OK  |  OK  |  | 
| Solaris 2.9  | sparc |  OK  |  OK  |  | 
| Linux (SUSE 10.0)  | x86_64 |  OK  |  OK  |  | 
| Windows Server 2003  | x86_64 |  OK  |  OK  |  OK  | 
1.7.0Biocore Team | Linux (SUSE 9.2)  | x86_64 |  ERROR  | skipped |  | 
| Linux (SUSE 9.2)  | i686 |  ERROR  | skipped |  | 
| Solaris 2.9  | sparc |  OK  |  OK  |  | 
| Linux (SUSE 10.0)  | x86_64 |  ERROR  | skipped |  | 
| Windows Server 2003  | x86_64 |  ERROR  | skipped | skipped | 
0.11.0Nusrat Rabbee | Linux (SUSE 9.2)  | x86_64 |  OK  |  OK  |  | 
| Linux (SUSE 9.2)  | i686 |  OK  |  OK  |  | 
| Solaris 2.9  | sparc |  OK  |  OK  |  | 
| Linux (SUSE 10.0)  | x86_64 |  OK  |  OK  |  | 
| Windows Server 2003  | x86_64 |  OK  |  OK  |  OK  | 
2.7.0Steffen Durinck | Linux (SUSE 9.2)  | x86_64 |  OK  |  OK  |  | 
| Linux (SUSE 9.2)  | i686 |  OK  |  OK  |  | 
| Solaris 2.9  | sparc |  ERROR  | skipped |  | 
| Linux (SUSE 10.0)  | x86_64 |  OK  |  OK  |  | 
| Windows Server 2003  | x86_64 |  ERROR  | skipped | skipped | 
1.3.0VJ Carey | Linux (SUSE 9.2)  | x86_64 |  OK  |  OK  |  | 
| Linux (SUSE 9.2)  | i686 |  OK  |  OK  |  | 
| Solaris 2.9  | sparc |  OK  |  OK  |  | 
| Linux (SUSE 10.0)  | x86_64 |  OK  |  OK  |  | 
| Windows Server 2003  | x86_64 |  OK  |  OK  |  OK  | 
1.7.0Vince Carey | Linux (SUSE 9.2)  | x86_64 |  OK  |  OK  |  | 
| Linux (SUSE 9.2)  | i686 |  OK  |  OK  |  | 
| Solaris 2.9  | sparc |  OK  |  OK  |  | 
| Linux (SUSE 10.0)  | x86_64 |  OK  |  OK  |  | 
| Windows Server 2003  | x86_64 |  OK  |  OK  |  OK  | 
0.0.0H. Pages | Linux (SUSE 9.2)  | x86_64 |  OK  |  ERROR  |  | 
| Linux (SUSE 9.2)  | i686 |  OK  |  ERROR  |  | 
| Solaris 2.9  | sparc |  OK  |  ERROR  |  | 
| Linux (SUSE 10.0)  | x86_64 |  OK  |  ERROR  |  | 
| Windows Server 2003  | x86_64 |  OK  |  ERROR  |  ERROR  | 
1.0.2VJ Carey | Linux (SUSE 9.2)  | x86_64 |  OK  |  WARNINGS  |  | 
| Linux (SUSE 9.2)  | i686 |  OK  |  ERROR  |  | 
| Solaris 2.9  | sparc |  ERROR  | skipped |  | 
| Linux (SUSE 10.0)  | x86_64 |  OK  |  WARNINGS  |  | 
| Windows Server 2003  | x86_64 |  ERROR  | skipped | skipped | 
1.5.0VJ Carey | Linux (SUSE 9.2)  | x86_64 |  OK  |  OK  |  | 
| Linux (SUSE 9.2)  | i686 |  OK  |  OK  |  | 
| Solaris 2.9  | sparc |  OK  |  OK  |  | 
| Linux (SUSE 10.0)  | x86_64 |  OK  |  OK  |  | 
| Windows Server 2003  | x86_64 |  OK  |  OK  |  OK  | 
1.11.0Biocore Team | Linux (SUSE 9.2)  | x86_64 |  OK  |  OK  |  | 
| Linux (SUSE 9.2)  | i686 |  OK  |  OK  |  | 
| Solaris 2.9  | sparc |  OK  |  OK  |  | 
| Linux (SUSE 10.0)  | x86_64 |  OK  |  OK  |  | 
| Windows Server 2003  | x86_64 |  OK  |  OK  |  OK  | 
1.5.0William T. Barry | Linux (SUSE 9.2)  | x86_64 |  OK  |  OK  |  | 
| Linux (SUSE 9.2)  | i686 |  OK  |  OK  |  | 
| Solaris 2.9  | sparc |  OK  |  OK  |  | 
| Linux (SUSE 10.0)  | x86_64 |  OK  |  OK  |  | 
| Windows Server 2003  | x86_64 |  OK  |  OK  |  OK  | 
1.11.0Jianhua Zhang | Linux (SUSE 9.2)  | x86_64 |  OK  |  OK  |  | 
| Linux (SUSE 9.2)  | i686 |  OK  |  OK  |  | 
| Solaris 2.9  | sparc |  ERROR  | skipped |  | 
| Linux (SUSE 10.0)  | x86_64 |  OK  |  OK  |  | 
| Windows Server 2003  | x86_64 |  OK  |  ERROR  |  OK  | 
1.5.0Tim Beissbarth | Linux (SUSE 9.2)  | x86_64 |  OK  |  OK  |  | 
| Linux (SUSE 9.2)  | i686 |  OK  |  OK  |  | 
| Solaris 2.9  | sparc |  OK  |  OK  |  | 
| Linux (SUSE 10.0)  | x86_64 |  OK  |  OK  |  | 
| Windows Server 2003  | x86_64 |  OK  |  OK  |  OK  | 
1.27.0Tomas Radivoyevitch | Linux (SUSE 9.2)  | x86_64 |  OK  |  OK  |  | 
| Linux (SUSE 9.2)  | i686 |  OK  |  OK  |  | 
| Solaris 2.9  | sparc |  OK  |  OK  |  | 
| Linux (SUSE 10.0)  | x86_64 |  OK  |  OK  |  | 
| Windows Server 2003  | x86_64 |  OK  |  ERROR  |  OK  | 
1.3.0Tony Chiang | Linux (SUSE 9.2)  | x86_64 |  OK  |  OK  |  | 
| Linux (SUSE 9.2)  | i686 |  OK  |  OK  |  | 
| Solaris 2.9  | sparc |  OK  |  OK  |  | 
| Linux (SUSE 10.0)  | x86_64 |  OK  |  OK  |  | 
| Windows Server 2003  | x86_64 |  OK  |  OK  |  OK  | 
1.7.0Holger Schwender | Linux (SUSE 9.2)  | x86_64 |  OK  |  OK  |  | 
| Linux (SUSE 9.2)  | i686 |  OK  |  OK  |  | 
| Solaris 2.9  | sparc |  OK  |  OK  |  | 
| Linux (SUSE 10.0)  | x86_64 |  OK  |  OK  |  | 
| Windows Server 2003  | x86_64 |  OK  |  OK  |  OK  | 
1.1.5Weil Lai | Linux (SUSE 9.2)  | x86_64 |  OK  |  OK  |  | 
| Linux (SUSE 9.2)  | i686 |  OK  |  OK  |  | 
| Solaris 2.9  | sparc |  OK  |  OK  |  | 
| Linux (SUSE 10.0)  | x86_64 |  OK  |  OK  |  | 
| Windows Server 2003  | x86_64 |  OK  |  OK  |  OK  | 
2.7.0Crispin Miller | Linux (SUSE 9.2)  | x86_64 |  OK  |  OK  |  | 
| Linux (SUSE 9.2)  | i686 |  OK  |  OK  |  | 
| Solaris 2.9  | sparc |  ERROR  | skipped |  | 
| Linux (SUSE 10.0)  | x86_64 |  OK  |  OK  |  | 
| Windows Server 2003  | x86_64 |  OK  |  OK  |  OK  | 
1.5.0Tony Chiang | Linux (SUSE 9.2)  | x86_64 |  OK  |  OK  |  | 
| Linux (SUSE 9.2)  | i686 |  OK  |  OK  |  | 
| Solaris 2.9  | sparc |  OK  |  OK  |  | 
| Linux (SUSE 10.0)  | x86_64 |  OK  |  OK  |  | 
| Windows Server 2003  | x86_64 |  OK  |  OK  |  OK  | 
1.3.0Weiliang Qiu | Linux (SUSE 9.2)  | x86_64 |  OK  |  OK  |  | 
| Linux (SUSE 9.2)  | i686 |  OK  |  OK  |  | 
| Solaris 2.9  | sparc |  OK  |  OK  |  | 
| Linux (SUSE 10.0)  | x86_64 |  OK  |  OK  |  | 
| Windows Server 2003  | x86_64 |  OK  |  OK  |  OK  | 
1.7.0Denise Scholtens | Linux (SUSE 9.2)  | x86_64 |  OK  |  OK  |  | 
| Linux (SUSE 9.2)  | i686 |  OK  |  OK  |  | 
| Solaris 2.9  | sparc |  OK  |  OK  |  | 
| Linux (SUSE 10.0)  | x86_64 |  OK  |  OK  |  | 
| Windows Server 2003  | x86_64 |  OK  |  OK  |  OK  | 
1.1.0Mike Smith | Linux (SUSE 9.2)  | x86_64 |  OK  |  OK  |  | 
| Linux (SUSE 9.2)  | i686 |  OK  |  OK  |  | 
| Solaris 2.9  | sparc |  OK  |  OK  |  | 
| Linux (SUSE 10.0)  | x86_64 |  OK  |  OK  |  | 
| Windows Server 2003  | x86_64 |  OK  |  OK  |  OK  | 
0.1.16Robert Scharpf | Linux (SUSE 9.2)  | x86_64 |  OK  |  ERROR  |  | 
| Linux (SUSE 9.2)  | i686 |  OK  |  ERROR  |  | 
| Solaris 2.9  | sparc |  OK  |  ERROR  |  | 
| Linux (SUSE 10.0)  | x86_64 |  OK  |  ERROR  |  | 
| Windows Server 2003  | x86_64 |  OK  |  ERROR  |  ERROR  | 
1.5.0Laurent | Linux (SUSE 9.2)  | x86_64 |  OK  |  WARNINGS  |  | 
| Linux (SUSE 9.2)  | i686 |  OK  |  WARNINGS  |  | 
| Solaris 2.9  | sparc |  OK  |  WARNINGS  |  | 
| Linux (SUSE 10.0)  | x86_64 |  OK  |  WARNINGS  |  | 
| Windows Server 2003  | x86_64 |  OK  |  WARNINGS  |  OK  | 
1.5.0Chris Fraley | Linux (SUSE 9.2)  | x86_64 |  OK  |  OK  |  | 
| Linux (SUSE 9.2)  | i686 |  OK  |  OK  |  | 
| Solaris 2.9  | sparc |  OK  |  OK  |  | 
| Linux (SUSE 10.0)  | x86_64 |  OK  |  OK  |  | 
| Windows Server 2003  | x86_64 |  OK  |  OK  |  OK  | 
1.5.0Richard Kennedy | Linux (SUSE 9.2)  | x86_64 |  OK  |  OK  |  | 
| Linux (SUSE 9.2)  | i686 |  OK  |  OK  |  | 
| Solaris 2.9  | sparc |  ERROR  | skipped |  | 
| Linux (SUSE 10.0)  | x86_64 |  OK  |  OK  |  | 
| Windows Server 2003  | x86_64 |  OK  |  OK  |  OK  | 
1.5.0Gregory R. Warnes | Linux (SUSE 9.2)  | x86_64 |  OK  |  OK  |  | 
| Linux (SUSE 9.2)  | i686 |  OK  |  OK  |  | 
| Solaris 2.9  | sparc |  OK  |  OK  |  | 
| Linux (SUSE 10.0)  | x86_64 |  OK  |  OK  |  | 
| Windows Server 2003  | x86_64 |  OK  |  OK  |  OK  | 
1.5.0Claudio Lottaz | Linux (SUSE 9.2)  | x86_64 |  OK  |  OK  |  | 
| Linux (SUSE 9.2)  | i686 |  OK  |  OK  |  | 
| Solaris 2.9  | sparc |  OK  |  TIMEOUT  |  | 
| Linux (SUSE 10.0)  | x86_64 |  OK  |  OK  |  | 
| Windows Server 2003  | x86_64 |  OK  |  OK  |  OK  | 
1.5.0Yuanyuan Xiao | Linux (SUSE 9.2)  | x86_64 |  OK  |  OK  |  | 
| Linux (SUSE 9.2)  | i686 |  OK  |  OK  |  | 
| Solaris 2.9  | sparc |  OK  |  OK  |  | 
| Linux (SUSE 10.0)  | x86_64 |  OK  |  OK  |  | 
| Windows Server 2003  | x86_64 |  OK  |  OK  |  OK  | 
1.11.3W. Huber | Linux (SUSE 9.2)  | x86_64 |  OK  |  OK  |  | 
| Linux (SUSE 9.2)  | i686 |  OK  |  OK  |  | 
| Solaris 2.9  | sparc |  ERROR  | skipped |  | 
| Linux (SUSE 10.0)  | x86_64 |  OK  |  OK  |  | 
| Windows Server 2003  | x86_64 |  OK  |  WARNINGS  |  OK  | 
1.5.0Yu Chuan Tai | Linux (SUSE 9.2)  | x86_64 |  OK  |  OK  |  | 
| Linux (SUSE 9.2)  | i686 |  OK  |  OK  |  | 
| Solaris 2.9  | sparc |  OK  |  OK  |  | 
| Linux (SUSE 10.0)  | x86_64 |  OK  |  OK  |  | 
| Windows Server 2003  | x86_64 |  OK  |  OK  |  OK  | 
1.11.1J. Zhang | Linux (SUSE 9.2)  | x86_64 |  OK  |  OK  |  | 
| Linux (SUSE 9.2)  | i686 |  OK  |  OK  |  | 
| Solaris 2.9  | sparc |  OK  |  OK  |  | 
| Linux (SUSE 10.0)  | x86_64 |  OK  |  OK  |  | 
| Windows Server 2003  | x86_64 |  OK  |  OK  |  OK  | 
1.9.2Stefanie Scheid | Linux (SUSE 9.2)  | x86_64 |  OK  |  OK  |  | 
| Linux (SUSE 9.2)  | i686 |  OK  |  OK  |  | 
| Solaris 2.9  | sparc |  OK  |  OK  |  | 
| Linux (SUSE 10.0)  | x86_64 |  OK  |  OK  |  | 
| Windows Server 2003  | x86_64 |  OK  |  OK  |  OK  | 
0.3.1Duncan Temple Lang | Linux (SUSE 9.2)  | x86_64 |  OK  |  WARNINGS  |  | 
| Linux (SUSE 9.2)  | i686 |  OK  |  WARNINGS  |  | 
| Solaris 2.9  | sparc |  OK  |  WARNINGS  |  | 
| Linux (SUSE 10.0)  | x86_64 |  OK  |  WARNINGS  |  | 
| Windows Server 2003  | x86_64 |  OK  |  WARNINGS  |  OK  | 
1.11.0Wolfgang Huber | Linux (SUSE 9.2)  | x86_64 |  OK  |  OK  |  | 
| Linux (SUSE 9.2)  | i686 |  OK  |  OK  |  | 
| Solaris 2.9  | sparc |  ERROR  | skipped |  | 
| Linux (SUSE 10.0)  | x86_64 |  OK  |  OK  |  | 
| Windows Server 2003  | x86_64 |  OK  |  OK  |  OK  | 
1.5.0Colin A. Smith | Linux (SUSE 9.2)  | x86_64 |  OK  |  WARNINGS  |  | 
| Linux (SUSE 9.2)  | i686 |  OK  |  WARNINGS  |  | 
| Solaris 2.9  | sparc |  ERROR  | skipped |  | 
| Linux (SUSE 10.0)  | x86_64 |  OK  |  WARNINGS  |  | 
| Windows Server 2003  | x86_64 |  OK  |  WARNINGS  |  OK  | 
1.5.0Jeff Gentry | Linux (SUSE 9.2)  | x86_64 |  OK  |  OK  |  | 
| Linux (SUSE 9.2)  | i686 |  OK  |  OK  |  | 
| Solaris 2.9  | sparc |  OK  |  OK  |  | 
| Linux (SUSE 10.0)  | x86_64 |  OK  |  OK  |  | 
| Windows Server 2003  | x86_64 |  ERROR  | skipped | skipped | 
1.9.1Jianhua Zhang | Linux (SUSE 9.2)  | x86_64 |  OK  |  OK  |  | 
| Linux (SUSE 9.2)  | i686 |  OK  |  OK  |  | 
| Solaris 2.9  | sparc |  OK  |  OK  |  | 
| Linux (SUSE 10.0)  | x86_64 |  OK  |  OK  |  | 
| Windows Server 2003  | x86_64 |  OK  |  OK  |  OK  | 
1.5.1Colin A. Smith | Linux (SUSE 9.2)  | x86_64 |  OK  |  OK  |  | 
| Linux (SUSE 9.2)  | i686 |  OK  |  OK  |  | 
| Solaris 2.9  | sparc |  ERROR  | skipped |  | 
| Linux (SUSE 10.0)  | x86_64 |  OK  |  OK  |  | 
| Windows Server 2003  | x86_64 |  OK  |  OK  |  OK  | 
1.3.2Tony Chiang | Linux (SUSE 9.2)  | x86_64 |  OK  |  OK  |  | 
| Linux (SUSE 9.2)  | i686 |  OK  |  OK  |  | 
| Solaris 2.9  | sparc |  OK  |  OK  |  | 
| Linux (SUSE 10.0)  | x86_64 |  OK  |  OK  |  | 
| Windows Server 2003  | x86_64 |  OK  |  OK  |  OK  | 
 | 
| gopher5 | 
Linux (SUSE 9.2)  | x86_64 |  |  |  | 
| wellington | 
Linux (SUSE 9.2)  | i686 |  |  |  | 
| churchill | 
Solaris 2.9  | sparc |  |  |  | 
| gladstone | 
Linux (SUSE 10.0)  | x86_64 |  |  |  | 
| lemming | 
Windows Server 2003  | x86_64 |  |  |  |