Back to the "Multiple platform build/check report"
| Package 120/187 | OS | Arch | BUILD | CHECK | BUILD BIN | 
| nudge1.3.0N. Dean | Linux (SUSE 9.2) | x86_64 | OK | [ OK ] | |
| Linux (SUSE 9.2) | i686 | OK | OK | ||
| Solaris 2.9 | sparc | OK | OK | ||
| Linux (SUSE 10.0) | x86_64 | OK | OK | ||
| Windows Server 2003 | x86_64 | OK | OK | OK | 
| Package: nudge | 
| Version: 1.3.0 | 
| Command: /loc/biocbuild/1.9d/R/bin/R CMD check nudge_1.3.0.tar.gz | 
| RetCode: 0 | 
| Time: 97.9 seconds | 
| Status: OK | 
| CheckDir: nudge.Rcheck | 
| Warnings: 0 | 
* checking for working latex ... OK * using log directory '/loc/biocbuild/1.9d/Rpacks/nudge.Rcheck' * using R version 2.4.0 Under development (unstable) (2006-06-04 r38279) * checking for file 'nudge/DESCRIPTION' ... OK * this is package 'nudge' version '1.3.0' * checking package dependencies ... OK * checking if this is a source package ... OK * checking whether package 'nudge' can be installed ... OK * checking package directory ... OK * checking for portable file names ... OK * checking for sufficient/correct file permissions ... OK * checking DESCRIPTION meta-information ... OK * checking top-level files ... OK * checking index information ... OK * checking package subdirectories ... OK * checking R files for syntax errors ... OK * checking R files for non-ASCII characters ... OK * checking R files for library.dynam ... OK * checking S3 generic/method consistency ... OK * checking replacement functions ... OK * checking foreign function calls ... OK * checking Rd files ... OK * checking for missing documentation entries ... OK * checking for code/documentation mismatches ... OK * checking Rd \usage sections ... OK * creating nudge-Ex.R ... OK * checking examples ... OK * checking package vignettes in 'inst/doc' ... OK * creating nudge-manual.tex ... OK * checking nudge-manual.tex ... OK
nudge.Rcheck/00install.out:
* Installing *source* package 'nudge' ...
** R
** data
** inst
** help
 >>> Building/Updating help pages for package 'nudge'
     Formats: text html latex example 
  hiv                               text    html    latex
  like                              text    html    latex
  neg.contr                         text    html    latex
  norm1a                            text    html    latex   example
  norm1b                            text    html    latex   example
  norm1c                            text    html    latex   example
  norm1d                            text    html    latex   example
  norm2c                            text    html    latex   example
  norm2d                            text    html    latex   example
  nudge1                            text    html    latex   example
  nudge2                            text    html    latex   example
  pos.contr                         text    html    latex
** building package indices ...
* DONE (nudge)