* checking for file 'Rredland/DESCRIPTION' ... OK
* preparing 'Rredland':
* checking DESCRIPTION meta-information ... OK
* cleaning src
* installing the package to re-build vignettes
installing R.css in D:/biocbld/1.9d/tmpdir/Rinst44097509
---------- Making package Rredland ------------
   **********************************************
   WARNING: this package has a configure script
         It probably needs manual configuration
   **********************************************
  adding build stamp to DESCRIPTION
  installing NAMESPACE file and metadata
  making DLL ...
making Rredl.d from Rredl.c
Rredl.c:2:21: redland.h: No such file or directory
make[3]: *** [Rredl.d] Error 1
make[2]: *** [srcDynlib] Error 2
make[1]: *** [all] Error 2
make: *** [pkg-Rredland] Error 2
*** Installation of Rredland failed ***
Removing 'D:/biocbld/1.9d/tmpdir/Rinst44097509/Rredland'
 ERROR
Installation failed.
Removing 'D:/biocbld/1.9d/tmpdir/Rinst44097509'