Back to the "Multiple platform build/check report"
| Package 42/187 | OS | Arch | BUILD | CHECK | BUILD BIN |
diffGeneAnalysis1.15.0Choudary Jagarlamudi | Linux (SUSE 9.2) | x86_64 | OK | OK | |
| Linux (SUSE 9.2) | i686 | OK | OK | ||
| Solaris 2.9 | sparc | OK | OK | ||
| Linux (SUSE 10.0) | x86_64 | OK | OK | ||
| Windows Server 2003 | x86_64 | OK | [ OK ] | OK |
| Package: diffGeneAnalysis |
| Version: 1.15.0 |
| Command: D:\biocbld\1.9d\R\bin\R.exe CMD check diffGeneAnalysis_1.15.0.tar.gz |
| RetCode: 0 |
| Time: 25.5 seconds |
| Status: OK |
| CheckDir: diffGeneAnalysis.Rcheck |
| Warnings: 0 |
* checking for working latex ... OK * using log directory 'D:/biocbld/1.9d/Rpacks/diffGeneAnalysis.Rcheck' * using R version 2.4.0 Under development (unstable) (2006-06-04 r38279) * checking for file 'diffGeneAnalysis/DESCRIPTION' ... OK * this is package 'diffGeneAnalysis' version '1.15.0' * checking package dependencies ... OK * checking if this is a source package ... OK * checking whether package 'diffGeneAnalysis' can be installed ... OK * checking package directory ... OK * checking for portable file names ... OK * checking DESCRIPTION meta-information ... OK * checking top-level files ... OK * checking index information ... OK * checking package subdirectories ... OK * checking R files for syntax errors ... OK * checking R files for non-ASCII characters ... OK * checking R files for library.dynam ... OK * checking S3 generic/method consistency ... OK * checking replacement functions ... OK * checking foreign function calls ... OK * checking Rd files ... OK * checking for missing documentation entries ... OK * checking for code/documentation mismatches ... OK * checking Rd \usage sections ... OK * creating diffGeneAnalysis-Ex.R ... OK * checking examples ... OK * checking package vignettes in 'inst/doc' ... OK * creating diffGeneAnalysis-manual.tex ... OK * checking diffGeneAnalysis-manual.tex ... OK
diffGeneAnalysis.Rcheck/00install.out:
installing R.css in D:/biocbld/1.9d/Rpacks/diffGeneAnalysis.Rcheck
---------- Making package diffGeneAnalysis ------------
adding build stamp to DESCRIPTION
installing R files
installing inst files
installing data files
installing man source files
installing indices
not zipping data
installing help
>>> Building/Updating help pages for package 'diffGeneAnalysis'
Formats: text html latex example chm
assocAnalysis text html latex example chm
biasAdjust text html latex example chm
curveFit text html latex example chm
dataTrim text html latex example chm
normalize text html latex example chm
rawdata text html latex example chm
refGroup text html latex example chm
Microsoft HTML Help Compiler 4.74.8702
Compiling d:\biocbld\1.9d\Rpacks\diffGeneAnalysis.Rcheck\00_pkg_src\diffGeneAnalysis\chm\diffGeneAnalysis.chm
Compile time: 0 minutes, 0 seconds
8 Topics
7 Local links
0 Internet links
1 Graphic
Created d:\biocbld\1.9d\Rpacks\diffGeneAnalysis.Rcheck\00_pkg_src\diffGeneAnalysis\chm\diffGeneAnalysis.chm, 26,577 bytes
Compression decreased file by 2,428 bytes.
adding MD5 sums
* DONE (diffGeneAnalysis)