1.11.0James W. MacDonald | Linux (SUSE 9.2)  | x86_64 |  OK  |  OK  |  | 
| Linux (SUSE 9.2)  | i686 |  OK  |  OK  |  | 
| Solaris 2.9  | sparc |  ERROR  | skipped |  | 
| Linux (SUSE 10.0)  | x86_64 |  OK  |  OK  |  | 
| Windows Server 2003  | x86_64 | [ ERROR ] | skipped | skipped | 
* checking for file 'makecdfenv/DESCRIPTION' ... OK
* preparing 'makecdfenv':
* checking DESCRIPTION meta-information ... OK
* cleaning src
* checking whether 'INDEX' is up-to-date ... NO
* use '--force' to overwrite the existing 'INDEX'
* installing the package to re-build vignettes
installing R.css in D:/biocbld/1.9d/tmpdir/Rinst564426672
---------- Making package makecdfenv ------------
   **********************************************
   WARNING: this package has a configure script
         It probably needs manual configuration
   **********************************************
  adding build stamp to DESCRIPTION
  installing NAMESPACE file and metadata
  making DLL ...
making read_cdffile.d from read_cdffile.c
gcc  -Id:/biocbld/1.9d/R/src/extra/zlib -DHAVE_ZLIB -Id:/biocbld/1.9d/R/include -Wall -O2   -c read_cdffile.c -o read_cdffile.o
read_cdffile.c: In function `readQC':
read_cdffile.c:565: warning: unused variable `param_unit'
windres --include-dir d:/biocbld/1.9d/R/include  -i makecdfenv_res.rc -o makecdfenv_res.o
gcc  -shared -s  -o makecdfenv.dll makecdfenv.def read_cdffile.o makecdfenv_res.o  -Ld:/biocbld/1.9d/R/bin   -lR
read_cdffile.o(.text+0x42):read_cdffile.c: undefined reference to `gzgets'
read_cdffile.o(.text+0xf3):read_cdffile.c: undefined reference to `gzopen'
read_cdffile.o(.text+0x10f):read_cdffile.c: undefined reference to `gzgets'
read_cdffile.o(.text+0x140):read_cdffile.c: undefined reference to `gzrewind'
read_cdffile.o(.text+0x177):read_cdffile.c: undefined reference to `gzclose'
collect2: ld returned 1 exit status
make[3]: *** [makecdfenv.dll] Error 1
make[2]: *** [srcDynlib] Error 2
make[1]: *** [all] Error 2
make: *** [pkg-makecdfenv] Error 2
*** Installation of makecdfenv failed ***
Removing 'D:/biocbld/1.9d/tmpdir/Rinst564426672/makecdfenv'
 ERROR
Installation failed.
Removing 'D:/biocbld/1.9d/tmpdir/Rinst564426672'