1.5.0Richard Kennedy | Linux (SUSE 9.2)  | x86_64 |  OK  |  OK  |  | 
| Linux (SUSE 9.2)  | i686 |  OK  |  OK  |  | 
| Solaris 2.9  | sparc |  ERROR  | skipped |  | 
| Linux (SUSE 10.0)  | x86_64 |  OK  |  OK  |  | 
| Windows Server 2003  | x86_64 |  OK  |  OK  | [ OK ] | 
Using auto-selected zip options ''
---------- Making package sscore ------------
  adding build stamp to DESCRIPTION
  installing R files
  installing inst files
  installing man source files
  installing indices
  installing help
 >>> Building/Updating help pages for package 'sscore'
     Formats: text html latex example chm 
  OneStepBiweightAlgorithm          text    html    latex           chm
  SScore                            text    html    latex   example chm
  SScoreBatch                       text    html    latex   example chm
  computeOutlier                    text    html    latex   example chm
  computeRawQ                       text    html    latex           chm
  computeSFandSDT                   text    html    latex   example chm
  computeZoneIInfo                  text    html    latex           chm
  computeZonenoise                  text    html    latex           chm
  trimMean                          text    html    latex           chm
Microsoft HTML Help Compiler 4.74.8702
Compiling d:\biocbld\1.9d\Rpacks\R.INSTALL\sscore\chm\sscore.chm
Compile time: 0 minutes, 0 seconds
10	Topics
24	Local links
12	Internet links
1	Graphic
Created d:\biocbld\1.9d\Rpacks\R.INSTALL\sscore\chm\sscore.chm, 26,309 bytes
Compression decreased file by 10,457 bytes.
  preparing package sscore for lazy loading
Welcome to Bioconductor
    Vignettes contain introductory material. To view, type
    'openVignette()' or start with 'help(Biobase)'. For details
    on reading vignettes, see the openVignette help page.
  adding MD5 sums
packaged installation of package 'sscore' as sscore_1.5.0.zip
* DONE (sscore)