Back to the "Multiple platform build/check report"
| Package 13/187 | OS | Arch | BUILD | CHECK | BUILD BIN |
altcdfenvs1.7.0Laurent Gautier | Linux (SUSE 9.2) | x86_64 | OK | [ OK ] | |
| Linux (SUSE 9.2) | i686 | OK | OK | ||
| Solaris 2.9 | sparc | ERROR | skipped | ||
| Linux (SUSE 10.0) | x86_64 | OK | OK | ||
| Windows Server 2003 | x86_64 | ERROR | skipped | skipped |
| Package: altcdfenvs |
| Version: 1.7.0 |
| Command: /loc/biocbuild/1.9d/R/bin/R CMD check altcdfenvs_1.7.0.tar.gz |
| RetCode: 0 |
| Time: 691.4 seconds |
| Status: OK |
| CheckDir: altcdfenvs.Rcheck |
| Warnings: 0 |
* checking for working latex ... OK * using log directory '/loc/biocbuild/1.9d/Rpacks/altcdfenvs.Rcheck' * using R version 2.4.0 Under development (unstable) (2006-06-04 r38279) * checking for file 'altcdfenvs/DESCRIPTION' ... OK * this is package 'altcdfenvs' version '1.7.0' * checking package dependencies ... OK * checking if this is a source package ... OK * checking whether package 'altcdfenvs' can be installed ... OK * checking package directory ... OK * checking for portable file names ... OK * checking for sufficient/correct file permissions ... OK * checking DESCRIPTION meta-information ... OK * checking top-level files ... OK * checking index information ... OK * checking package subdirectories ... OK * checking R files for syntax errors ... OK * checking R files for non-ASCII characters ... OK * checking R files for library.dynam ... OK * checking S3 generic/method consistency ... OK * checking replacement functions ... OK * checking foreign function calls ... OK * checking Rd files ... OK * checking for missing documentation entries ... OK * checking for code/documentation mismatches ... OK * checking Rd \usage sections ... OK * creating altcdfenvs-Ex.R ... OK * checking examples ... OK * checking package vignettes in 'inst/doc' ... OK * creating altcdfenvs-manual.tex ... OK * checking altcdfenvs-manual.tex ... OK
altcdfenvs.Rcheck/00install.out:
* Installing *source* package 'altcdfenvs' ...
** R
** data
** inst
** save image
Loading required package: Biobase
Loading required package: tools
Welcome to Bioconductor
Vignettes contain introductory material. To view, type
'openVignette()' or start with 'help(Biobase)'. For details
on reading vignettes, see the openVignette help page.
Loading required package: affy
Loading required package: affyio
Loading required package: matchprobes
Loading required package: makecdfenv
[1] "CdfEnvAffy"
[1] "geneNames"
[1] "["
[1] "indexProbes"
[1] "index2xy"
[1] "index2xy"
[1] "xy2index"
[1] "xy2index"
Creating a new generic function for 'plot' in 'altcdfenvs'
[1] "plot"
[1] "show"
** help
>>> Building/Updating help pages for package 'altcdfenvs'
Formats: text html latex example
CdfEnvAffy-class text html latex example
appendCdfEnvAffy text html latex example
cdfenv text html latex example
cdfenvEx text html latex example
copyCdfEnvAffy text html latex
countduplicated text html latex example
geneNames text html latex
getxy.probeseq text html latex example
index2xy text html latex example
indexProbes.CdfEnvAffy text html latex example
plot.CdfEnvAffy text html latex example
removeIndex text html latex example
unique.CdfEnvAffy text html latex example
utils.FASTA text html latex example
validAffyBatch text html latex example
** building package indices ...
* DONE (altcdfenvs)