Back to the "Multiple platform build/check report"
| Package 78/187 | OS | Arch | BUILD | CHECK | BUILD BIN | 
gtkWidgets0.11.0Jianhua Zhang | Linux (SUSE 9.2) | x86_64 | OK | OK | |
| Linux (SUSE 9.2) | i686 | OK | OK | ||
| Solaris 2.9 | sparc | OK | OK | ||
| Linux (SUSE 10.0) | x86_64 | OK | OK | ||
| Windows Server 2003 | x86_64 | OK | [ OK ] | OK | 
| Package: gtkWidgets | 
| Version: 0.11.0 | 
| Command: D:\biocbld\1.9d\R\bin\R.exe CMD check gtkWidgets_0.11.0.tar.gz | 
| RetCode: 0 | 
| Time: 47.1 seconds | 
| Status: OK | 
| CheckDir: gtkWidgets.Rcheck | 
| Warnings: 0 | 
* checking for working latex ... OK * using log directory 'D:/biocbld/1.9d/Rpacks/gtkWidgets.Rcheck' * using R version 2.4.0 Under development (unstable) (2006-06-04 r38279) * checking for file 'gtkWidgets/DESCRIPTION' ... OK * this is package 'gtkWidgets' version '0.11.0' * checking package dependencies ... OK * checking if this is a source package ... OK * checking whether package 'gtkWidgets' can be installed ... OK * checking package directory ... OK * checking for portable file names ... OK * checking DESCRIPTION meta-information ... OK * checking top-level files ... OK * checking index information ... OK * checking package subdirectories ... OK * checking R files for syntax errors ... OK * checking R files for non-ASCII characters ... OK * checking R files for library.dynam ... OK * checking S3 generic/method consistency ... OK * checking replacement functions ... OK * checking foreign function calls ... OK * checking Rd files ... OK * checking for missing documentation entries ... OK * checking for code/documentation mismatches ... OK * checking Rd \usage sections ... OK * creating gtkWidgets-Ex.R ... OK * checking examples ... OK * creating gtkWidgets-manual.tex ... OK * checking gtkWidgets-manual.tex ... OK
gtkWidgets.Rcheck/00install.out:
installing R.css in D:/biocbld/1.9d/Rpacks/gtkWidgets.Rcheck
---------- Making package gtkWidgets ------------
  adding build stamp to DESCRIPTION
  installing R files
  save image
Loading required package: DynDoc
Loading required package: tools
[1] "menuItem"
[1] "menuName"
[1] "menuName"
[1] "menuFunc"
[1] "menuFunc"
[1] "menuValue"
[1] "menuValue"
[1] "menuName<-"
[1] "menuName<-"
[1] "menuFunc<-"
[1] "menuFunc<-"
[1] "menuValue<-"
[1] "menuValue<-"
[1] "bioCMWidget"
[1] "menuEnv"
[1] "menuEnv"
[1] "show"
[1] "addMenuItem"
[1] "addMenuItem"
[1] "removeMenuItem"
[1] "removeMenuItem"
[1] "conBoxClear"
[1] "conBoxClear"
[1] "conBoxInsert"
[1] "conBoxInsert"
[1] "menuEnv<-"
[1] "menuEnv<-"
  installing inst files
  installing man source files
  installing indices
  installing help
 >>> Building/Updating help pages for package 'gtkWidgets'
     Formats: text html latex example chm 
  DPExplorer                        text    html    latex   example chm
  bioCMenu-class                    text    html    latex   example chm
  edgeTrimmer                       text    html    latex   example chm
  getCListWithVHScroll              text    html    latex   example chm
  menuItem-class                    text    html    latex   example chm
  objectBrowser                     text    html    latex   example chm
  subExprSet                        text    html    latex   example chm
  vExplorer                         text    html    latex   example chm
Microsoft HTML Help Compiler 4.74.8702
Compiling d:\biocbld\1.9d\Rpacks\gtkWidgets.Rcheck\00_pkg_src\gtkWidgets\chm\gtkWidgets.chm
Compile time: 0 minutes, 0 seconds
9	Topics
58	Local links
2	Internet links
1	Graphic
Created d:\biocbld\1.9d\Rpacks\gtkWidgets.Rcheck\00_pkg_src\gtkWidgets\chm\gtkWidgets.chm, 30,609 bytes
Compression decreased file by 15,904 bytes.
  adding MD5 sums
* DONE (gtkWidgets)