Back to the "Multiple platform build/check report"
| Package 81/187 | OS | Arch | BUILD | CHECK | BUILD BIN |
hexbin1.7.1Nicholas Lewin-Koh | Linux (SUSE 9.2) | x86_64 | OK | OK | |
| Linux (SUSE 9.2) | i686 | OK | OK | ||
| Solaris 2.9 | sparc | OK | OK | ||
| Linux (SUSE 10.0) | x86_64 | OK | OK | ||
| Windows Server 2003 | x86_64 | OK | [ OK ] | OK |
| Package: hexbin |
| Version: 1.7.1 |
| Command: D:\biocbld\1.9d\R\bin\R.exe CMD check hexbin_1.7.1.tar.gz |
| RetCode: 0 |
| Time: 165.4 seconds |
| Status: OK |
| CheckDir: hexbin.Rcheck |
| Warnings: 0 |
* checking for working latex ... OK * using log directory 'D:/biocbld/1.9d/Rpacks/hexbin.Rcheck' * using R version 2.4.0 Under development (unstable) (2006-06-04 r38279) * checking for file 'hexbin/DESCRIPTION' ... OK * this is package 'hexbin' version '1.7.1' * checking package dependencies ... OK * checking if this is a source package ... OK * checking whether package 'hexbin' can be installed ... OK * checking package directory ... OK * checking for portable file names ... OK * checking DESCRIPTION meta-information ... OK * checking top-level files ... OK * checking index information ... OK * checking package subdirectories ... OK * checking R files for syntax errors ... OK * checking R files for non-ASCII characters ... OK * checking R files for library.dynam ... OK * checking S3 generic/method consistency ... OK * checking replacement functions ... OK * checking foreign function calls ... OK * checking Rd files ... OK * checking for missing documentation entries ... OK * checking for code/documentation mismatches ... OK * checking Rd \usage sections ... OK * checking for CRLF line endings in C/C++/Fortran sources/headers ... OK * creating hexbin-Ex.R ... OK * checking examples ... OK * checking tests ... make[1]: Entering directory `/cygdrive/d/biocbld/1.9d/Rpacks/hexbin.Rcheck/tests' Running 'hdiffplot.R' Comparing 'hdiffplot.Rout' to 'hdiffplot.Rout.save' ...4d3 < Creating a new generic function for 'plot' in 'colorspace' 143d141 < + plot.new() OK Running 'hray.R' Running 'large.R' Running 'viewp-ex.R' make[1]: Leaving directory `/cygdrive/d/biocbld/1.9d/Rpacks/hexbin.Rcheck/tests' OK * checking package vignettes in 'inst/doc' ... OK * creating hexbin-manual.tex ... OK * checking hexbin-manual.tex ... OK
hexbin.Rcheck/00install.out:
installing R.css in D:/biocbld/1.9d/Rpacks/hexbin.Rcheck
---------- Making package hexbin ------------
adding build stamp to DESCRIPTION
installing NAMESPACE file and metadata
making DLL ...
g77 -O2 -Wall -c hbin.f -o hbin.o
g77 -O2 -Wall -c hcell.f -o hcell.o
g77 -O2 -Wall -c herode.f -o herode.o
g77 -O2 -Wall -c hsm.f -o hsm.o
windres --include-dir d:/biocbld/1.9d/R/include -i hexbin_res.rc -o hexbin_res.o
gcc -shared -s -o hexbin.dll hexbin.def hbin.o hcell.o herode.o hsm.o hexbin_res.o -Ld:/biocbld/1.9d/R/bin -lg2c -lR
... DLL made
installing DLL
installing R files
installing inst files
installing data files
installing man source files
installing indices
not zipping data
installing help
>>> Building/Updating help pages for package 'hexbin'
Formats: text html latex example chm
NHANES text html latex example chm
colramp text html latex example chm
erode.hexbin text html latex example chm
getHMedian text html latex example chm
gplot.hexbin text html latex example chm
grid.hexagons text html latex example chm
grid.hexlegend text html latex example chm
hboxplot text html latex example chm
hcell2xy text html latex example chm
hcell2xyInt text html latex example chm
hdiffplot text html latex example chm
hexGraphPaper text html latex example chm
hexList text html latex example chm
hexMA.loess text html latex example chm
hexTapply text html latex example chm
hexVP-class text html latex example chm
hexVP.abline text html latex example chm
hexViewport text html latex example chm
hexbin text html latex example chm
hexbinplot text html latex example chm
hexplom text html latex example chm
hexpolygon text html latex example chm
hsmooth-methods text html latex chm
inout.hex text html latex chm
list2hexList text html latex chm
old-classes text html latex chm
optShape text html latex example chm
panel.hexboxplot text html latex example chm
panel.hexgrid text html latex example chm
panel.hexloess text html latex example chm
plotMAhex text html latex example chm
pushHexport text html latex chm
smooth.hexbin text html latex example chm
Microsoft HTML Help Compiler 4.74.8702
Compiling d:\biocbld\1.9d\Rpacks\hexbin.Rcheck\00_pkg_src\hexbin\chm\hexbin.chm
Compile time: 0 minutes, 0 seconds
34 Topics
243 Local links
2 Internet links
1 Graphic
Created d:\biocbld\1.9d\Rpacks\hexbin.Rcheck\00_pkg_src\hexbin\chm\hexbin.chm, 83,639 bytes
Compression decreased file by 92,347 bytes.
preparing package hexbin for lazy loading
Creating a new generic function for 'plot' in 'colorspace'
Creating a new generic function for 'summary' in 'hexbin'
adding MD5 sums
* DONE (hexbin)