2.5.0Fangxin Hong | Linux (SUSE 9.2)  | x86_64 |  OK  |  OK  |  | 
| Linux (SUSE 9.2)  | i686 |  OK  |  OK  |  | 
| Solaris 2.9  | sparc |  OK  |  OK  |  | 
| Linux (SUSE 10.0)  | x86_64 |  OK  |  OK  |  | 
| Windows Server 2003  | x86_64 | [ OK ] |  OK  |  OK  | 
* checking for file 'RankProd/DESCRIPTION' ... OK
* preparing 'RankProd':
* checking DESCRIPTION meta-information ... OK
* installing the package to re-build vignettes
installing R.css in D:/biocbld/1.9d/tmpdir/Rinst380884585
---------- Making package RankProd ------------
  adding build stamp to DESCRIPTION
  installing R files
  installing inst files
  installing data files
  installing man source files
  installing indices
  not zipping data
  installing help
 >>> Building/Updating help pages for package 'RankProd'
     Formats: text html latex example chm 
  RP                                text    html    latex   example chm
  RPadvance                         text    html    latex   example chm
  RSadvance                         text    html    latex   example chm
  RankProd-internal                 text    html    latex           chm
  arab                              text    html    latex           chm
  golub                             text    html    latex           chm
  lymphoma                          text    html    latex           chm
  plotGene                          text    html    latex   example chm
  plotRP                            text    html    latex   example chm
  topGene                           text    html    latex   example chm
Microsoft HTML Help Compiler 4.74.8702
Compiling d:\biocbld\1.9d\Rpacks\RankProd\chm\RankProd.chm
Compile time: 0 minutes, 0 seconds
11	Topics
42	Local links
1	Internet link
1	Graphic
Created d:\biocbld\1.9d\Rpacks\RankProd\chm\RankProd.chm, 33,743 bytes
Compression decreased file by 15,657 bytes.
  preparing package RankProd for lazy loading
  adding MD5 sums
* DONE (RankProd)
* creating vignettes ... OK
* removing junk files
* checking for LF line-endings in source files
* checking for empty or unneeded directories
* building 'RankProd_2.5.0.tar.gz'