* checking for file 'AnnBuilder/DESCRIPTION' ... OK
* preparing 'AnnBuilder':
* checking DESCRIPTION meta-information ... OK
* installing the package to re-build vignettes
* Installing *source* package 'AnnBuilder' ...
** R
** data
** inst
** save image
Loading required package: Biobase
Loading required package: tools
Welcome to Bioconductor
Vignettes contain introductory material. To view, type
'openVignette()' or start with 'help(Biobase)'. For details
on reading vignettes, see the openVignette help page.
Loading required package: XML
Loading required package: annotate
Loading required package: RSQLite
Error: package 'RSQLite' could not be loaded
In addition: Warning message:
there is no package called 'RSQLite' in: library(pkg, character.only = TRUE, logical = TRUE, lib.loc = lib.loc)
Execution halted
ERROR: execution of package source for 'AnnBuilder' failed
** Removing '/tmp/Rinst2063772603/AnnBuilder'
ERROR
Installation failed.
Removing '/tmp/Rinst2063772603'