Using auto-selected zip options ''
---------- Making package gaggle ------------
  adding build stamp to DESCRIPTION
  installing NAMESPACE file and metadata
  installing R files
  installing inst files
  installing man source files
  installing indices
  installing help
 >>> Building/Updating help pages for package 'gaggle'
     Formats: text html latex example chm 
  broadcast                         text    html    latex           chm
  geese                             text    html    latex           chm
  getCluster                        text    html    latex           chm
  getHashMap                        text    html    latex           chm
  getMatrix                         text    html    latex           chm
  getNameList                       text    html    latex           chm
  getNetwork                        text    html    latex           chm
  getSpecies                        text    html    latex           chm
  getTargetGoose                    text    html    latex           chm
  hideGoose                         text    html    latex           chm
  setSpecies                        text    html    latex           chm
  setTargetGoose                    text    html    latex           chm
  showGoose                         text    html    latex           chm
  testGagglePackage                 text    html    latex           chm
Microsoft HTML Help Compiler 4.74.8702
Compiling d:\biocbld\1.9d\Rpacks\R.INSTALL\gaggle\chm\gaggle.chm
Compile time: 0 minutes, 0 seconds
15	Topics
64	Local links
0	Internet links
1	Graphic
Created d:\biocbld\1.9d\Rpacks\R.INSTALL\gaggle\chm\gaggle.chm, 23,303 bytes
Compression decreased file by 7,161 bytes.
  preparing package gaggle for lazy loading
  adding MD5 sums
packaged installation of package 'gaggle' as gaggle_1.1.0.zip
* DONE (gaggle)