Back to the "Multiple platform build/check report"
| Package 154/187 | OS | Arch | BUILD | CHECK | BUILD BIN |
RPostgreSQL0.0.0H. Pages | Linux (SUSE 9.2) | x86_64 | OK | ERROR | |
| Linux (SUSE 9.2) | i686 | OK | ERROR | ||
| Solaris 2.9 | sparc | [ OK ] | ERROR | ||
| Linux (SUSE 10.0) | x86_64 | OK | ERROR | ||
| Windows Server 2003 | x86_64 | OK | ERROR | ERROR |
| Package: RPostgreSQL |
| Version: 0.0.0 |
| Command: /loc/biocbuild/1.9d/R/bin/R CMD build RPostgreSQL |
| RetCode: 0 |
| Time: 2.9 seconds |
| Status: OK |
| PackageFile: RPostgreSQL_0.0.0.tar.gz |
* checking for file 'RPostgreSQL/DESCRIPTION' ... OK * preparing 'RPostgreSQL': * checking DESCRIPTION meta-information ... OK * cleaning src * checking whether 'INDEX' is up-to-date ... NO * use '--force' to overwrite the existing 'INDEX' * removing junk files * checking for LF line-endings in source files * checking for empty or unneeded directories * building 'RPostgreSQL_0.0.0.tar.gz'