Using auto-selected zip options ' Icens-HELP=ziponly'
---------- Making package Icens ------------
  adding build stamp to DESCRIPTION
  installing NAMESPACE file and metadata
  installing R files
  installing data files
  installing man source files
  installing indices
  not zipping data
  installing help
 >>> Building/Updating help pages for package 'Icens'
     Formats: text html latex example chm 
  BVcliques                         text    html    latex   example chm
  BVclmat                           text    html    latex   example chm
  BVsupport                         text    html    latex   example chm
  Bisect                            text    html    latex           chm
  EM                                text    html    latex   example chm
  EMICM                             text    html    latex   example chm
  ISDM                              text    html    latex   example chm
  Icens-internal                    text    html    latex           chm
  MLEintvl                          text    html    latex   example chm
  Maclist                           text    html    latex   example chm
  Macmat                            text    html    latex   example chm
  PGM                               text    html    latex   example chm
  PMGA                              text    html    latex           chm
  Plotboxes                         text    html    latex   example chm
  VEM                               text    html    latex   example chm
  cmv                               text    html    latex   example chm
  cosmesis                          text    html    latex   example chm
  hiv                               text    html    latex   example chm
  icsurv                            text    html    latex           chm
  plot.icsurv                       text    html    latex   example chm
  pruitt                            text    html    latex   example chm
  zipping help files
Microsoft HTML Help Compiler 4.74.8702
Compiling d:\biocbld\1.9d\Rpacks\R.INSTALL\Icens\chm\Icens.chm
Compile time: 0 minutes, 0 seconds
22	Topics
94	Local links
0	Internet links
1	Graphic
Created d:\biocbld\1.9d\Rpacks\R.INSTALL\Icens\chm\Icens.chm, 39,765 bytes
Compression decreased file by 26,654 bytes.
  preparing package Icens for lazy loading
  adding MD5 sums
packaged installation of package 'Icens' as Icens_1.5.0.zip
* DONE (Icens)