1.7.0Jianhua Zhang | Linux (SUSE 9.2)  | x86_64 |  OK  |  OK  |  | 
| Linux (SUSE 9.2)  | i686 |  OK  |  OK  |  | 
| Solaris 2.9  | sparc |  ERROR  | skipped |  | 
| Linux (SUSE 10.0)  | x86_64 |  OK  |  OK  |  | 
| Windows Server 2003  | x86_64 |  OK  |  OK  | [ OK ] | 
Using auto-selected zip options ''
---------- Making package Resourcerer ------------
  adding build stamp to DESCRIPTION
  installing NAMESPACE file and metadata
  installing R files
  installing inst files
  installing man source files
  installing indices
  installing help
 >>> Building/Updating help pages for package 'Resourcerer'
     Formats: text html latex example chm 
  getRsourcerer                     text    html    latex   example chm
  resourcerer2BioC                  text    html    latex   example chm
Microsoft HTML Help Compiler 4.74.8702
Compiling d:\biocbld\1.9d\Rpacks\R.INSTALL\Resourcerer\chm\Resourcerer.chm
Compile time: 0 minutes, 0 seconds
3	Topics
6	Local links
2	Internet links
1	Graphic
Created d:\biocbld\1.9d\Rpacks\R.INSTALL\Resourcerer\chm\Resourcerer.chm, 19,977 bytes
Compression increased file by 4,891 bytes.
  preparing package Resourcerer for lazy loading
Welcome to Bioconductor
    Vignettes contain introductory material. To view, type
    'openVignette()' or start with 'help(Biobase)'. For details
    on reading vignettes, see the openVignette help page.
Warning message:
'symbol.C' is deprecated in: symbol.C("sqlite3_libversion") 
  adding MD5 sums
packaged installation of package 'Resourcerer' as Resourcerer_1.7.0.zip
* DONE (Resourcerer)