Back to the "Multiple platform build/check report"
| Package 83/187 | OS | Arch | BUILD | CHECK | BUILD BIN | 
hypergraph1.5.0Seth Falcon | Linux (SUSE 9.2) | x86_64 | [ OK ] | OK | |
| Linux (SUSE 9.2) | i686 | OK | OK | ||
| Solaris 2.9 | sparc | OK | OK | ||
| Linux (SUSE 10.0) | x86_64 | OK | OK | ||
| Windows Server 2003 | x86_64 | OK | OK | OK | 
| Package: hypergraph | 
| Version: 1.5.0 | 
| Command: /loc/biocbuild/1.9d/R/bin/R CMD build hypergraph | 
| RetCode: 0 | 
| Time: 2.8 seconds | 
| Status: OK | 
| PackageFile: hypergraph_1.5.0.tar.gz | 
* checking for file 'hypergraph/DESCRIPTION' ... OK * preparing 'hypergraph': * checking DESCRIPTION meta-information ... OK * removing junk files * checking for LF line-endings in source files * checking for empty or unneeded directories WARNING: directory 'hypergraph/inst/doc' is empty * building 'hypergraph_1.5.0.tar.gz'