1.3.1Alexander Ploner | Linux (SUSE 9.2)  | x86_64 |  OK  |  OK  |  | 
| Linux (SUSE 9.2)  | i686 |  OK  |  OK  |  | 
| Solaris 2.9  | sparc |  OK  |  OK  |  | 
| Linux (SUSE 10.0)  | x86_64 |  OK  |  OK  |  | 
| Windows Server 2003  | x86_64 | [ OK ] |  OK  |  OK  | 
* checking for file 'Heatplus/DESCRIPTION' ... OK
* preparing 'Heatplus':
* checking DESCRIPTION meta-information ... OK
* installing the package to re-build vignettes
installing R.css in D:/biocbld/1.9d/tmpdir/Rinst172452066
---------- Making package Heatplus ------------
  adding build stamp to DESCRIPTION
  installing R files
  installing inst files
  installing man source files
  installing indices
  installing help
 >>> Building/Updating help pages for package 'Heatplus'
     Formats: text html latex example chm 
  RGBColVec                         text    html    latex   example chm
  cutplot.dendrogram                text    html    latex   example chm
  heatmap_2                         text    html    latex   example chm
  heatmap_plus                      text    html    latex   example chm
  picketplot                        text    html    latex   example chm
Microsoft HTML Help Compiler 4.74.8702
Compiling d:\biocbld\1.9d\Rpacks\Heatplus\chm\Heatplus.chm
Compile time: 0 minutes, 0 seconds
6	Topics
17	Local links
0	Internet links
1	Graphic
Created d:\biocbld\1.9d\Rpacks\Heatplus\chm\Heatplus.chm, 28,407 bytes
Compression decreased file by 2,498 bytes.
  adding MD5 sums
* DONE (Heatplus)
* creating vignettes ... OK
* removing junk files
* checking for LF line-endings in source files
* checking for empty or unneeded directories
* building 'Heatplus_1.3.1.tar.gz'