Back to the "Multiple platform build/check report"
| Package 128/187 | OS | Arch | BUILD | CHECK | BUILD BIN |
pamr1.31.0Rob TIbshirani | Linux (SUSE 9.2) | x86_64 | OK | OK | |
| Linux (SUSE 9.2) | i686 | OK | OK | ||
| Solaris 2.9 | sparc | OK | OK | ||
| Linux (SUSE 10.0) | x86_64 | OK | OK | ||
| Windows Server 2003 | x86_64 | [ OK ] | OK | OK |
| Package: pamr |
| Version: 1.31.0 |
| Command: D:\biocbld\1.9d\R\bin\R.exe CMD build pamr |
| RetCode: 0 |
| Time: 4.5 seconds |
| Status: OK |
| PackageFile: pamr_1.31.0.tar.gz |
* checking for file 'pamr/DESCRIPTION' ... OK * preparing 'pamr': * checking DESCRIPTION meta-information ... OK * cleaning src * removing junk files * excluding invalid files from 'pamr' Subdirectory 'man' contains invalid file names: internal.names * checking for LF line-endings in source files * checking for empty or unneeded directories * building 'pamr_1.31.0.tar.gz'