1.5.0Gregory R. Warnes | Linux (SUSE 9.2)  | x86_64 |  OK  |  OK  |  | 
| Linux (SUSE 9.2)  | i686 |  OK  |  OK  |  | 
| Solaris 2.9  | sparc |  OK  |  OK  |  | 
| Linux (SUSE 10.0)  | x86_64 | [ OK ] |  OK  |  | 
| Windows Server 2003  | x86_64 |  OK  |  OK  |  OK  | 
* checking for file 'ssize/DESCRIPTION' ... OK
* preparing 'ssize':
* checking DESCRIPTION meta-information ... OK
* installing the package to re-build vignettes
* Installing *source* package 'ssize' ...
** R
** data
** inst
** help
 >>> Building/Updating help pages for package 'ssize'
     Formats: text html latex example 
  exp.sd                            text    html    latex   example
  pow                               text    html    latex   example
** building package indices ...
* DONE (ssize)
* creating vignettes ... OK
* removing junk files
* checking for LF line-endings in source files
* checking for empty or unneeded directories
* building 'ssize_1.5.0.tar.gz'