Back to the "Multiple platform build/check report"
| Package 34/187 | OS | Arch | BUILD | CHECK | BUILD BIN | 
clusterStab1.5.0James W. MacDonald | Linux (SUSE 9.2) | x86_64 | OK | OK | |
| Linux (SUSE 9.2) | i686 | OK | OK | ||
| Solaris 2.9 | sparc | OK | OK | ||
| Linux (SUSE 10.0) | x86_64 | OK | OK | ||
| Windows Server 2003 | x86_64 | OK | [ OK ] | OK | 
| Package: clusterStab | 
| Version: 1.5.0 | 
| Command: D:\biocbld\1.9d\R\bin\R.exe CMD check clusterStab_1.5.0.tar.gz | 
| RetCode: 0 | 
| Time: 63.5 seconds | 
| Status: OK | 
| CheckDir: clusterStab.Rcheck | 
| Warnings: 0 | 
* checking for working latex ... OK * using log directory 'D:/biocbld/1.9d/Rpacks/clusterStab.Rcheck' * using R version 2.4.0 Under development (unstable) (2006-06-04 r38279) * checking for file 'clusterStab/DESCRIPTION' ... OK * this is package 'clusterStab' version '1.5.0' * checking package dependencies ... OK * checking if this is a source package ... OK * checking whether package 'clusterStab' can be installed ... OK * checking package directory ... OK * checking for portable file names ... OK * checking DESCRIPTION meta-information ... OK * checking top-level files ... OK * checking index information ... OK * checking package subdirectories ... OK * checking R files for syntax errors ... OK * checking R files for non-ASCII characters ... OK * checking R files for library.dynam ... OK * checking S3 generic/method consistency ... OK * checking replacement functions ... OK * checking foreign function calls ... OK * checking Rd files ... OK * checking for missing documentation entries ... OK * checking for code/documentation mismatches ... OK * checking Rd \usage sections ... OK * creating clusterStab-Ex.R ... OK * checking examples ... OK * checking package vignettes in 'inst/doc' ... OK * creating clusterStab-manual.tex ... OK * checking clusterStab-manual.tex ... OK
clusterStab.Rcheck/00install.out:
installing R.css in D:/biocbld/1.9d/Rpacks/clusterStab.Rcheck
---------- Making package clusterStab ------------
  adding build stamp to DESCRIPTION
  installing R files
  save image
Loading required package: Biobase
Loading required package: tools
Welcome to Bioconductor
    Vignettes contain introductory material. To view, type
    'openVignette()' or start with 'help(Biobase)'. For details
    on reading vignettes, see the openVignette help page.
[1] "benhur"
[1] "benhur"
[1] "benhur"
[1] "clusterComp"
[1] "clusterComp"
[1] "clusterComp"
[1] "benhur"
[1] "show"
[1] "hist"
[1] "hist"
[1] "ecdf"
[1] "ecdf"
[1] "clusterComp"
[1] "show"
  installing inst files
  installing man source files
  installing indices
  installing help
 >>> Building/Updating help pages for package 'clusterStab'
     Formats: text html latex example chm 
  benhur-class                      text    html    latex           chm
  benhur                            text    html    latex   example chm
  clusterComp-class                 text    html    latex           chm
  clusterComp                       text    html    latex   example chm
Microsoft HTML Help Compiler 4.74.8702
Compiling d:\biocbld\1.9d\Rpacks\clusterStab.Rcheck\00_pkg_src\clusterStab\chm\clusterStab.chm
Compile time: 0 minutes, 0 seconds
5	Topics
20	Local links
0	Internet links
1	Graphic
Created d:\biocbld\1.9d\Rpacks\clusterStab.Rcheck\00_pkg_src\clusterStab\chm\clusterStab.chm, 22,781 bytes
Compression decreased file by 959 bytes.
  preparing package clusterStab for lazy loading
Welcome to Bioconductor
    Vignettes contain introductory material. To view, type
    'openVignette()' or start with 'help(Biobase)'. For details
    on reading vignettes, see the openVignette help page.
  adding MD5 sums
* DONE (clusterStab)