0.99.8Benilton Carvalho | Linux (SUSE 9.2)  | x86_64 |  OK  |  WARNINGS  |  | 
| Linux (SUSE 9.2)  | i686 |  OK  |  WARNINGS  |  | 
| Solaris 2.9  | sparc | [ OK ] |  WARNINGS  |  | 
| Linux (SUSE 10.0)  | x86_64 |  OK  |  WARNINGS  |  | 
| Windows Server 2003  | x86_64 |  OK  |  WARNINGS  |  OK  | 
* checking for file 'makePlatformDesign/DESCRIPTION' ... OK
* preparing 'makePlatformDesign':
* checking DESCRIPTION meta-information ... OK
* cleaning src
* removing junk files
* checking for LF line-endings in source files
* checking for empty or unneeded directories
WARNING: directory 'makePlatformDesign/inst/Code/man' is empty
WARNING: directory 'makePlatformDesign/inst/Code/data' is empty
* building 'makePlatformDesign_0.99.8.tar.gz'