1.11.3W. Huber | Linux (SUSE 9.2) | x86_64 | OK | OK | |
Linux (SUSE 9.2) | i686 | OK | OK | |
Solaris 2.9 | sparc | [ ERROR ] | skipped | |
Linux (SUSE 10.0) | x86_64 | OK | OK | |
Windows Server 2003 | x86_64 | OK | WARNINGS | OK |
* checking for file 'tilingArray/DESCRIPTION' ... OK
* preparing 'tilingArray':
* checking DESCRIPTION meta-information ... OK
* cleaning src
* installing the package to re-build vignettes
* Installing *source* package 'tilingArray' ...
** libs
gcc -I/loc/biocbuild/1.9d/R/include -I/loc/biocbuild/1.9d/R/include -I/usr/local/include -fPIC -g -O2 -std=gnu99 -Wall -c findsegments.c -o findsegments.o
findsegments.c: In function `findsegments_dp':
findsegments.c:104: warning: implicit declaration of function `finite'
gcc -I/loc/biocbuild/1.9d/R/include -I/loc/biocbuild/1.9d/R/include -I/usr/local/include -fPIC -g -O2 -std=gnu99 -Wall -c sampleStep.c -o sampleStep.o
gcc -G -L/usr/local/lib -o tilingArray.so findsegments.o sampleStep.o
** R
** inst
** save image
Loading required package: Biobase
Loading required package: tools
Welcome to Bioconductor
Vignettes contain introductory material. To view, type
'openVignette()' or start with 'help(Biobase)'. For details
on reading vignettes, see the openVignette help page.
Loading required package: affy
Loading required package: affyio
Error in dyn.load(x, as.logical(local), as.logical(now)) :
unable to load shared library '/loc/biocbuild/1.9d/R/library/affy/libs/affy.so':
ld.so.1: /loc/biocbuild/1.9d/R/bin/exec/R: fatal: relocation error: file /loc/biocbuild/1.9d/R/library/affy/libs/affy.so: symbol nearbyint: referenced symbol not found
Error: package 'affy' could not be loaded
Execution halted
ERROR: execution of package source for 'tilingArray' failed
** Removing '/tmp/Rinst1427504153/tilingArray'
ERROR
Installation failed.
Removing '/tmp/Rinst1427504153'