1.15.0Choudary Jagarlamudi | Linux (SUSE 9.2)  | x86_64 |  OK  |  OK  |  | 
| Linux (SUSE 9.2)  | i686 |  OK  |  OK  |  | 
| Solaris 2.9  | sparc | [ OK ] |  OK  |  | 
| Linux (SUSE 10.0)  | x86_64 |  OK  |  OK  |  | 
| Windows Server 2003  | x86_64 |  OK  |  OK  |  OK  | 
* checking for file 'diffGeneAnalysis/DESCRIPTION' ... OK
* preparing 'diffGeneAnalysis':
* checking DESCRIPTION meta-information ... OK
* installing the package to re-build vignettes
* Installing *source* package 'diffGeneAnalysis' ...
** R
** data
** inst
** help
 >>> Building/Updating help pages for package 'diffGeneAnalysis'
     Formats: text html latex example 
  assocAnalysis                     text    html    latex   example
  biasAdjust                        text    html    latex   example
  curveFit                          text    html    latex   example
  dataTrim                          text    html    latex   example
  normalize                         text    html    latex   example
  rawdata                           text    html    latex   example
  refGroup                          text    html    latex   example
** building package indices ...
* DONE (diffGeneAnalysis)
* creating vignettes ... OK
* removing junk files
* excluding invalid files from 'diffGeneAnalysis'
Subdirectory 'R' contains invalid file names:
  diffGeneAnalysis
Subdirectory 'man' contains invalid file names:
  README
* checking for LF line-endings in source files
* checking for empty or unneeded directories
* building 'diffGeneAnalysis_1.15.0.tar.gz'