Back to the "Multiple platform build/check report"
| Package 22/187 | OS | Arch | BUILD | CHECK | BUILD BIN |
beadarray1.1.0Mark Dunning | Linux (SUSE 9.2) | x86_64 | OK | WARNINGS | |
| Linux (SUSE 9.2) | i686 | [ OK ] | WARNINGS | ||
| Solaris 2.9 | sparc | OK | WARNINGS | ||
| Linux (SUSE 10.0) | x86_64 | OK | WARNINGS | ||
| Windows Server 2003 | x86_64 | OK | WARNINGS | OK |
| Package: beadarray |
| Version: 1.1.0 |
| Command: /loc/biocbuild/1.9d/R/bin/R CMD build beadarray |
| RetCode: 0 |
| Time: 3.8 seconds |
| Status: OK |
| PackageFile: beadarray_1.1.0.tar.gz |
* checking for file 'beadarray/DESCRIPTION' ... OK * preparing 'beadarray': * checking DESCRIPTION meta-information ... OK * cleaning src * removing junk files * checking for LF line-endings in source files * checking for empty or unneeded directories * building 'beadarray_1.1.0.tar.gz'