Back to the "Multiple platform build/check report"
Package 103/187 | OS | Arch | BUILD | CHECK | BUILD BIN |
MantelCorr1.3.0Brian Steinmeyer | Linux (SUSE 9.2) | x86_64 | OK | OK | |
Linux (SUSE 9.2) | i686 | OK | OK | ||
Solaris 2.9 | sparc | OK | OK | ||
Linux (SUSE 10.0) | x86_64 | OK | OK | ||
Windows Server 2003 | x86_64 | OK | [ OK ] | OK |
Package: MantelCorr |
Version: 1.3.0 |
Command: D:\biocbld\1.9d\R\bin\R.exe CMD check MantelCorr_1.3.0.tar.gz |
RetCode: 0 |
Time: 97.4 seconds |
Status: OK |
CheckDir: MantelCorr.Rcheck |
Warnings: 0 |
* checking for working latex ... OK * using log directory 'D:/biocbld/1.9d/Rpacks/MantelCorr.Rcheck' * using R version 2.4.0 Under development (unstable) (2006-06-04 r38279) * checking for file 'MantelCorr/DESCRIPTION' ... OK * this is package 'MantelCorr' version '1.3.0' * checking package dependencies ... OK * checking if this is a source package ... OK * checking whether package 'MantelCorr' can be installed ... OK * checking package directory ... OK * checking for portable file names ... OK * checking DESCRIPTION meta-information ... OK * checking top-level files ... OK * checking index information ... OK * checking package subdirectories ... OK * checking R files for syntax errors ... OK * checking R files for non-ASCII characters ... OK * checking R files for library.dynam ... OK * checking S3 generic/method consistency ... OK * checking replacement functions ... OK * checking foreign function calls ... OK * checking Rd files ... OK * checking for missing documentation entries ... OK * checking for code/documentation mismatches ... OK * checking Rd \usage sections ... OK * creating MantelCorr-Ex.R ... OK * checking examples ... OK * checking package vignettes in 'inst/doc' ... OK * creating MantelCorr-manual.tex ... OK * checking MantelCorr-manual.tex ... OK
MantelCorr.Rcheck/00install.out:
installing R.css in D:/biocbld/1.9d/Rpacks/MantelCorr.Rcheck ---------- Making package MantelCorr ------------ adding build stamp to DESCRIPTION installing R files installing inst files installing data files installing man source files installing indices not zipping data installing help >>> Building/Updating help pages for package 'MantelCorr' Formats: text html latex example chm ClusterGeneList text html latex example chm ClusterList text html latex example chm DistMatrices text html latex example chm GetClusters text html latex example chm GolubTrain text html latex example chm MantelCorrs text html latex example chm PermutationTest text html latex example chm Microsoft HTML Help Compiler 4.74.8702 Compiling d:\biocbld\1.9d\Rpacks\MantelCorr.Rcheck\00_pkg_src\MantelCorr\chm\MantelCorr.chm Compile time: 0 minutes, 0 seconds 8 Topics 14 Local links 0 Internet links 1 Graphic Created d:\biocbld\1.9d\Rpacks\MantelCorr.Rcheck\00_pkg_src\MantelCorr\chm\MantelCorr.chm, 23,365 bytes Compression decreased file by 2,877 bytes. adding MD5 sums * DONE (MantelCorr)