Back to the "Multiple platform build/check report"
| Package 106/187 | OS | Arch | BUILD | CHECK | BUILD BIN |
matchprobes1.5.0Biocore Team | Linux (SUSE 9.2) | x86_64 | OK | [ OK ] | |
| Linux (SUSE 9.2) | i686 | OK | OK | ||
| Solaris 2.9 | sparc | ERROR | skipped | ||
| Linux (SUSE 10.0) | x86_64 | OK | OK | ||
| Windows Server 2003 | x86_64 | OK | OK | OK |
| Package: matchprobes |
| Version: 1.5.0 |
| Command: /loc/biocbuild/1.9d/R/bin/R CMD check matchprobes_1.5.0.tar.gz |
| RetCode: 0 |
| Time: 680.5 seconds |
| Status: OK |
| CheckDir: matchprobes.Rcheck |
| Warnings: 0 |
* checking for working latex ... OK * using log directory '/loc/biocbuild/1.9d/Rpacks/matchprobes.Rcheck' * using R version 2.4.0 Under development (unstable) (2006-06-04 r38279) * checking for file 'matchprobes/DESCRIPTION' ... OK * this is package 'matchprobes' version '1.5.0' * checking package dependencies ... OK * checking if this is a source package ... OK * checking whether package 'matchprobes' can be installed ... OK * checking package directory ... OK * checking for portable file names ... OK * checking for sufficient/correct file permissions ... OK * checking DESCRIPTION meta-information ... OK * checking top-level files ... OK * checking index information ... OK * checking package subdirectories ... OK * checking R files for syntax errors ... OK * checking R files for non-ASCII characters ... OK * checking R files for library.dynam ... OK * checking S3 generic/method consistency ... OK * checking replacement functions ... OK * checking foreign function calls ... OK * checking Rd files ... OK * checking for missing documentation entries ... OK * checking for code/documentation mismatches ... OK * checking Rd \usage sections ... OK * checking for CRLF line endings in C/C++/Fortran sources/headers ... OK * creating matchprobes-Ex.R ... OK * checking examples ... OK * checking package vignettes in 'inst/doc' ... OK * creating matchprobes-manual.tex ... OK * checking matchprobes-manual.tex ... OK
matchprobes.Rcheck/00install.out:
* Installing *source* package 'matchprobes' ...
** libs
gcc -I/loc/biocbuild/1.9d/R/include -I/loc/biocbuild/1.9d/R/include -I/usr/local/include -fpic -g -O2 -std=gnu99 -Wall -c main.c -o main.o
gcc -I/loc/biocbuild/1.9d/R/include -I/loc/biocbuild/1.9d/R/include -I/usr/local/include -fpic -g -O2 -std=gnu99 -Wall -c strutils.c -o strutils.o
strutils.c: In function `MP_longestConsecutive':
strutils.c:198: warning: int format, different type arg (arg 3)
gcc -shared -L/usr/local/lib64 -o matchprobes.so main.o strutils.o
** R
** data
** inst
** save image
Loading required package: Biobase
Loading required package: tools
Welcome to Bioconductor
Vignettes contain introductory material. To view, type
'openVignette()' or start with 'help(Biobase)'. For details
on reading vignettes, see the openVignette help page.
Loading required package: affy
Loading required package: affyio
** help
>>> Building/Updating help pages for package 'matchprobes'
Formats: text html latex example
basecontent text html latex example
combineAffyBatch text html latex example
complementSeq text html latex example
getProbeDataAffy text html latex example
getProbeData_1lq text html latex example
longestConsecutive text html latex example
makeProbePackage text html latex example
matchprobes text html latex example
print.probetable text html latex example
reverseSeq text html latex example
** building package indices ...
* DONE (matchprobes)