1.3.1Alexander Ploner | Linux (SUSE 9.2)  | x86_64 | [ OK ] |  OK  |  | 
| Linux (SUSE 9.2)  | i686 |  OK  |  OK  |  | 
| Solaris 2.9  | sparc |  OK  |  OK  |  | 
| Linux (SUSE 10.0)  | x86_64 |  OK  |  OK  |  | 
| Windows Server 2003  | x86_64 |  OK  |  OK  |  OK  | 
* checking for file 'Heatplus/DESCRIPTION' ... OK
* preparing 'Heatplus':
* checking DESCRIPTION meta-information ... OK
* installing the package to re-build vignettes
* Installing *source* package 'Heatplus' ...
** R
** inst
** help
 >>> Building/Updating help pages for package 'Heatplus'
     Formats: text html latex example 
  RGBColVec                         text    html    latex   example
  cutplot.dendrogram                text    html    latex   example
  heatmap_2                         text    html    latex   example
  heatmap_plus                      text    html    latex   example
  picketplot                        text    html    latex   example
** building package indices ...
* DONE (Heatplus)
* creating vignettes ... OK
* removing junk files
* checking for LF line-endings in source files
* checking for empty or unneeded directories
* building 'Heatplus_1.3.1.tar.gz'