Back to the "Multiple platform build/check report"
Version Built
acepack 1.3-2.2 2.4.0
aCGH 1.7.0 2.4.0
ade4 1.4-1 2.4.0
adSplit 1.3.0 2.4.0
affxparser 1.5.2 2.4.0
affy 1.11.1 2.4.0
affycomp 1.9.0 2.4.0
affycoretools 1.5.0 2.4.0
affydata 1.9.0 2.4.0
affyio 1.1.2 2.4.0
affylmGUI 1.7.0 2.4.0
affypdnn 1.7.0 2.4.0
affyPLM 1.9.5 2.4.0
affyQCReport 1.11.1 2.4.0
akima 0.5-1 2.4.0
ALL 1.2.1 2.4.0
altcdfenvs 1.7.0 2.4.0
annaffy 1.5.0 2.4.0
AnnBuilder 1.11.0 2.4.0
annotate 1.11.2 2.4.0
apComplex 1.7.1 2.4.0
ape 1.8-3 2.4.0
applera 1.3.0 2.4.0
arji 0.3.8 2.4.0
arrayMagic 1.11.0 2.4.0
arrayQuality 1.9.0 2.4.0
base 2.4.0 2.4.0
beadarray 1.1.0 2.4.0
bim 1.5.0 2.4.0
Biobase 1.11.14 2.4.0
biocViews 1.1.1 2.4.0
bioDist 1.5.0 2.4.0
biomaRt 1.7.1 2.4.0
Biostrings 2.1.3 2.4.0
boot 1.2-24 2.4.0
bridge 1.5.0 2.4.0
car 1.1-0 2.4.0
Category 1.5.1 2.4.0
cclust 0.6-12 2.4.0
CelegansGenome.ce2 0.99.1 2.4.0
cellHTS 1.3.10 2.4.0
cghMCR 1.3.1 2.4.0
ChromoViz 1.5.0 2.4.0
chron 2.3-3 2.4.0
class 7.2-28 2.4.0
cluster 1.11.0 2.4.0
clusterStab 1.5.0 2.4.0
cMAP 1.12.0 2.4.0
CoCiteStats 1.5.1 2.4.0
coda 0.10-5 2.4.0
codelink 1.1.2 2.4.0
colonCA 1.2.1 2.4.0
colorspace 0.9 2.4.0
combinat 0.0-6 2.4.0
convert 1.7.0 2.4.0
copa 1.1.1 2.4.0
corpcor 1.4.2 2.4.0
ctc 1.7.0 2.4.0
DAAG 0.79 2.4.0
daMA 1.5.0 2.4.0
datasets 2.4.0 2.4.0
DBI 0.1-10 2.4.0
DEDS 1.5.0 2.4.0
diffGeneAnalysis 1.15.0 2.4.0
digest 0.2.1 2.4.0
DNAcopy 1.7.0 2.4.0
DynDoc 1.11.1 2.4.0
dynlm 0.1-1 2.4.0
e1071 1.5-13 2.4.0
EBarrays 1.5.0 2.4.0
EBImage 1.3.019 2.4.0
Ecdat 0.1-4 2.4.0
ecolicdf 1.12.0 2.4.0
ecoliLeucine 1.0.0 2.4.0
ecolitk 1.5.0 2.4.0
edd 1.11.1 2.4.0
EMV 1.3.1 2.4.0
exprDB 0.3.0 2.4.0
exprExternal 1.5.0 2.4.0
externalVector 1.5.0 2.4.0
faahKO 1.0 2.4.0
factDesign 1.7.0 2.4.0
fBasics 221.10065 2.4.0
fCalendar 221.10065 2.4.0
fdrame 1.5.0 2.4.0
fibroEset 1.2.1 2.4.0
fields 2.3 2.4.0
foreign 0.8-15 2.4.0
gaggle 1.1.0 2.4.0
gam 0.96 2.4.0
gbm 1.5-7 2.4.0
gcrma 2.5.1 2.4.0
gdata 2.1.2 2.4.0
gee 4.13-10 2.4.0
genArise 1.9.0 2.4.0
genefilter 1.11.4 2.4.0
GeneMeta 1.5.0 2.4.0
geneplotter 1.11.1 2.4.0
GeneR 2.3.0 2.4.0
geneRecommender 1.5.0 2.4.0
GeneRfold 0.1.3 2.4.0
GeneSpring 2.5.0 2.4.0
GeneTraffic 1.5.0 2.4.0
GeneTS 2.10.2 2.4.0
GenomeBase 1.1.0 2.4.0
GEOquery 1.7.0 2.4.0
gff3Plotter 1.7.0 2.4.0
GLAD 1.7.0 2.4.0
GlobalAncova 2.3.0 2.4.0
globaltest 4.3.2 2.4.0
GO 1.12.0 2.4.0
goCluster 1.7.0 2.4.0
golubEsets 1.2.4 2.4.0
GOstats 1.7.3 2.4.0
goTools 1.5.0 2.4.0
gpls 1.5.0 2.4.0
graph 1.11.9 2.4.0
GraphAT 1.5.0 2.4.0
graphics 2.4.0 2.4.0
grDevices 2.4.0 2.4.0
grid 2.4.0 2.4.0
gridBase 0.4-3 2.4.0
gtkDevice 1.9-4 2.4.0
gtkWidgets 0.11.0 2.4.0
gtools 2.2.3 2.4.0
Heatplus 1.3.1 2.4.0
HEM 1.5.0 2.4.0
hexbin 1.7.1 2.4.0
hgfocus 1.12.0 2.4.0
hgfocuscdf 1.12.0 2.4.0
hgu133a 1.12.0 2.4.0
hgu133acdf 1.12.0 2.4.0
hgu133aprobe 1.12.0 2.4.0
hgu95acdf 1.12.0 2.4.0
hgu95av2 1.12.0 2.4.0
hgu95av2cdf 1.12.0 2.4.0
hgu95av2probe 1.12.0 2.4.0
Hmisc 3.0-12 2.4.0
hopach 1.7.0 2.4.0
hsahomology 1.12.0 2.4.0
hu6800 1.12.0 2.4.0
hu6800cdf 1.12.0 2.4.0
hu6800probe 1.12.0 2.4.0
humanLLMappings 1.12.0 2.4.0
hypergraph 1.5.0 2.4.0
Icens 1.5.0 2.4.0
idiogram 1.7.0 2.4.0
impute 1.5.0 2.4.0
ipred 0.8-3 2.4.0
iSPlot 1.7.5 2.4.0
its 1.1.1 2.4.0
Iyer517 1.2.0 2.4.0
KEGG 1.12.0 2.4.0
KEGGSOAP 1.7.0 2.4.0
KernSmooth 2.22-17 2.4.0
lattice 0.13-8 2.4.0
leaps 2.7 2.4.0
limma 2.7.3 2.4.0
limmaGUI 1.9.0 2.4.0
LMGene 1.1.0 2.4.0
lmtest 0.9-15 2.4.0
locfdr 1.0-3 2.4.0
locfit 1.5-3 2.4.0
logicFS 1.3.0 2.4.0
LogicReg 1.4.1 2.4.0
longitudinal 1.1.2 2.4.0
LPE 1.7.0 2.4.0
LPEP 0.0.4 2.4.0
maanova 1.3.1 2.4.0
macat 1.7.0 2.4.0
maCorrPlot 1.3.0 2.4.0
maDB 1.5.0 2.4.0
made4 1.7.0 2.4.0
makecdfenv 1.11.0 2.4.0
makePlatformDesign 0.99.8 2.4.0
MANOR 1.5.0 2.4.0
MantelCorr 1.3.0 2.4.0
maptools 0.5-12 2.4.0
marray 1.11.0 2.4.0
maSigPro 1.5.0 2.4.0
MASS 7.2-28 2.4.0
matchprobes 1.5.0 2.4.0
mclust 2.1-12 2.4.0
MCMCpack 0.7-2 2.4.0
MCRestimate 1.7.0 2.4.0
mda 0.3-1 2.4.0
MeasurementError.cor 1.5.0 2.4.0
MergeMaid 2.5.0 2.4.0
metaArray 1.5.0 2.4.0
methods 2.4.0 2.4.0
Mfuzz 1.1.0 2.4.0
mgcv 1.3-17 2.4.0
minpack.lm 1.0-5 2.4.0
MiPP 1.5.0 2.4.0
mlbench 1.1-1 2.4.0
MLInterfaces 1.5.0 2.4.0
mmgmos 1.5.0 2.4.0
msbase 1.5.0 2.4.0
mscalib 1.3.0 2.4.0
multtest 1.11.2 2.4.0
MVCClass 1.7.7 2.4.0
mvtnorm 0.7-2 2.4.0
nlme 3.1-74 2.4.0
nnet 7.2-28 2.4.0
nnNorm 1.9.0 2.4.0
nudge 1.3.0 2.4.0
OCplus 1.7.0 2.4.0
odesolve 0.5-13 2.4.0
oligo 0.99.11 2.4.0
OLIN 1.9.0 2.4.0
OLINgui 1.7.0 2.4.0
ontoTools 1.9.0 2.4.0
OrderedList 1.5.0 2.4.0
oz 1.0-11 2.4.0
pairseqsim 1.7.0 2.4.0
pamr 1.31.0 2.4.0
panp 1.3.0 2.4.0
pathRender 1.1.0 2.4.0
pdmclass 1.5.0 2.4.0
pgUtils 1.5.0 2.4.0
pickgene 1.5.0 2.4.0
pixmap 0.4-4 2.4.0
plasmodiumanophelescdf 1.12.0 2.4.0
plgem 1.5.0 2.4.0
plier 1.5.0 2.4.0
prada 1.9.4 2.4.0
PROcess 1.9.1 2.4.0
qtl 1.02-26 2.4.0
quadprog 1.4-8 2.4.0
qvalue 1.7.0 2.4.0
R2HTML 1.57 2.4.0
rae230a 1.12.0 2.4.0
rae230aprobe 1.12.0 2.4.0
rama 1.5.0 2.4.0
randomForest 4.5-16 2.4.0
RankProd 2.5.0 2.4.0
RBGL 1.9.3 2.4.0
RColorBrewer 0.2-3 2.4.0
RCurl 0.6-2 2.4.0
Rdbi 1.7.0 2.4.0
RdbiPgSQL 1.7.0 2.4.0
reb 1.5.0 2.4.0
Resourcerer 1.7.0 2.4.0
rfcdmin 1.5.1 2.4.0
rflowcyt 1.5.4 2.4.0
Rgraphviz 1.11.0 2.4.0
RGtk 0.7-0 2.4.0
rhdf5 1.7.0 2.4.0
rJava 0.4-3 2.4.0
RLMM 0.11.0 2.4.0
RMAGEML 2.7.0 2.4.0
RMAPPER 1.3.0 2.4.0
ROC 1.7.0 2.4.0
R.oo 1.1.6 2.4.0
rpart 3.1-29 2.4.0
rrcov 0.3-02 2.4.0
Rredland 1.0.2 2.4.0
RSNPper 1.5.0 2.4.0
RSQLite 0.4-1 2.4.0
RSvgDevice 0.6.1 2.4.0
R.utils 0.7.7 2.4.0
Ruuid 1.11.0 2.4.0
safe 1.5.0 2.4.0
SAGElyzer 1.11.0 2.4.0
sagenhaft 1.5.0 2.4.0
sandwich 1.9-0 2.4.0
SBMLR 1.27.0 2.4.0
scatterplot3d 0.3-24 2.4.0
ScISI 1.3.0 2.4.0
sem 0.9-2 2.4.0
siggenes 1.7.0 2.4.0
sigPathway 1.1.5 2.4.0
simpleaffy 2.7.0 2.4.0
simulatorAPMS 1.5.0 2.4.0
sizepower 1.3.0 2.4.0
sma 0.5.15 2.4.0
SNAData 1.7.0 2.4.0
snapCGH 1.1.0 2.4.0
som 0.3-4 2.4.0
sp 0.8-14 2.4.0
SparseM 0.68 2.4.0
spatial 7.2-28 2.4.0
spdep 0.3-25 2.4.0
splancs 2.01-17 2.4.0
splicegear 1.5.0 2.4.0
splines 2.4.0 2.4.0
spotSegmentation 1.5.0 2.4.0
sscore 1.5.0 2.4.0
ssize 1.5.0 2.4.0
SSOAP 0.3-0 2.4.0
stam 1.5.0 2.4.0
statmod 1.2.4 2.4.0
stats 2.4.0 2.4.0
stats4 2.4.0 2.4.0
stepNorm 1.5.0 2.4.0
strucchange 1.2-13 2.4.0
survival 2.26 2.4.0
systemfit 0.8-0 2.4.0
tcltk 2.4.0 2.4.0
tilingArray 1.11.3 2.4.0
timecourse 1.5.0 2.4.0
tkrplot 0.0-14 2.4.0
tkWidgets 1.11.1 2.4.0
tools 2.4.0 2.4.0
tripack 1.2-10 2.4.0
tseries 0.10-1 2.4.0
tweedie 1.02 2.4.0
twilight 1.9.2 2.4.0
TypeInfo 0.3.1 2.4.0
utils 2.4.0 2.4.0
vsn 1.11.0 2.4.0
waveslim 1.5 2.4.0
webbioc 1.5.0 2.4.0
widgetInvoke 1.5.0 2.4.0
widgetTools 1.9.1 2.4.0
xcms 1.5.1 2.4.0
xgobi 1.2-13 2.4.0
xlahomology 1.12.0 2.4.0
XML 0.99-7 2.4.0
xtable 1.3-2 2.4.0
y2hStat 1.3.2 2.4.0
YEAST 1.12.0 2.4.0
zoo 1.1-0 2.4.0