1.3.10Wolfgang Huber | Linux (SUSE 9.2)  | x86_64 |  OK  |  OK  |  | 
| Linux (SUSE 9.2)  | i686 |  OK  |  OK  |  | 
| Solaris 2.9  | sparc |  OK  |  OK  |  | 
| Linux (SUSE 10.0)  | x86_64 |  OK  |  OK  |  | 
| Windows Server 2003  | x86_64 |  OK  |  WARNINGS  | [ OK ] | 
Using auto-selected zip options 'cellHTS-ZIPDATA=zip'
---------- Making package cellHTS ------------
  adding build stamp to DESCRIPTION
  installing NAMESPACE file and metadata
  installing R files
  installing inst files
  installing data files
  installing man source files
  installing indices
  zipping data
  installing help
 >>> Building/Updating help pages for package 'cellHTS'
     Formats: text html latex example chm 
  ROC                               text    html    latex   example chm
  annotate                          text    html    latex   example chm
  bdgpbiomart                       text    html    latex   example chm
  configure                         text    html    latex   example chm
  imageScreen                       text    html    latex   example chm
  normalizeChannels                 text    html    latex   example chm
  normalizePlates                   text    html    latex   example chm
  oneRowPerId                       text    html    latex   example chm
  print.cellHTS                     text    html    latex   example chm
  readPlateData                     text    html    latex   example chm
  summarizeReplicates               text    html    latex   example chm
  writeReport                       text    html    latex   example chm
  writeTab                          text    html    latex   example chm
Microsoft HTML Help Compiler 4.74.8702
Compiling d:\biocbld\1.9d\Rpacks\R.INSTALL\cellHTS\chm\cellHTS.chm
Compile time: 0 minutes, 0 seconds
14	Topics
29	Local links
0	Internet links
1	Graphic
Created d:\biocbld\1.9d\Rpacks\R.INSTALL\cellHTS\chm\cellHTS.chm, 40,081 bytes
Compression decreased file by 28,922 bytes.
  preparing package cellHTS for lazy loading
Welcome to Bioconductor
    Vignettes contain introductory material. To view, type
    'openVignette()' or start with 'help(Biobase)'. For details
    on reading vignettes, see the openVignette help page.
  adding MD5 sums
packaged installation of package 'cellHTS' as cellHTS_1.3.10.zip
* DONE (cellHTS)