Using auto-selected zip options ' tkWidgets-HELP=ziponly'
---------- Making package tkWidgets ------------
  adding build stamp to DESCRIPTION
  installing NAMESPACE file and metadata
  installing R files
  installing inst files
  installing man source files
  installing indices
  installing help
 >>> Building/Updating help pages for package 'tkWidgets'
     Formats: text html latex example chm 
  DPExplorer                        text    html    latex   example chm
  WName                             text    html    latex   example chm
  appendSepDir                      text    html    latex   example chm
  args2XML                          text    html    latex   example chm
  argsWidget                        text    html    latex   example chm
  colInfo-class                     text    html    latex   example chm
  dataViewer                        text    html    latex   example chm
  dbArgsWidget                      text    html    latex   example chm
  eExplorer                         text    html    latex   example chm
  fileBrowser                       text    html    latex   example chm
  fileWizard                        text    html    latex   example chm
  getLightTW                        text    html    latex   example chm
  getWvalues                        text    html    latex   example chm
  guess.sep                         text    html    latex   example chm
  hasChar                           text    html    latex   example chm
  importPhenoData                   text    html    latex   example chm
  importWizard                      text    html    latex   example chm
  listSelect                        text    html    latex   example chm
  objNameToList                     text    html    latex   example chm
  objViewer                         text    html    latex   example chm
  objectBrowser                     text    html    latex   example chm
  pExplorer                         text    html    latex   example chm
  pickFiles                         text    html    latex   example chm
  pickItems                         text    html    latex   example chm
  pickObjs                          text    html    latex   example chm
  setArgsList                       text    html    latex   example chm
  stdType                           text    html    latex   example chm
  tkMIAME                           text    html    latex           chm
  tkSampleNames                     text    html    latex           chm
  tkphenoData                       text    html    latex           chm
  vExplorer                         text    html    latex   example chm
  values.Widget                     text    html    latex   example chm
  widgetRender                      text    html    latex   example chm
  zipping help files
Microsoft HTML Help Compiler 4.74.8702
Compiling d:\biocbld\1.9d\Rpacks\R.INSTALL\tkWidgets\chm\tkWidgets.chm
Compile time: 0 minutes, 0 seconds
34	Topics
323	Local links
4	Internet links
1	Graphic
Created d:\biocbld\1.9d\Rpacks\R.INSTALL\tkWidgets\chm\tkWidgets.chm, 72,613 bytes
Compression decreased file by 104,938 bytes.
  preparing package tkWidgets for lazy loading
  adding MD5 sums
packaged installation of package 'tkWidgets' as tkWidgets_1.11.1.zip
* DONE (tkWidgets)