1.9.0Tarca Laurentiu | Linux (SUSE 9.2)  | x86_64 | [ OK ] |  OK  |  | 
| Linux (SUSE 9.2)  | i686 |  OK  |  OK  |  | 
| Solaris 2.9  | sparc |  OK  |  OK  |  | 
| Linux (SUSE 10.0)  | x86_64 |  OK  |  OK  |  | 
| Windows Server 2003  | x86_64 |  OK  |  OK  |  OK  | 
* checking for file 'nnNorm/DESCRIPTION' ... OK
* preparing 'nnNorm':
* checking DESCRIPTION meta-information ... OK
* checking whether 'INDEX' is up-to-date ... NO
* use '--force' to overwrite the existing 'INDEX'
* installing the package to re-build vignettes
* Installing *source* package 'nnNorm' ...
** R
** inst
** help
 >>> Building/Updating help pages for package 'nnNorm'
     Formats: text html latex example 
  compNorm                          text    html    latex   example
  maNormNN                          text    html    latex   example
  nnNorm-internal                   text    html    latex
** building package indices ...
* DONE (nnNorm)
* creating vignettes ... OK
* removing junk files
* checking for LF line-endings in source files
* checking for empty or unneeded directories
* building 'nnNorm_1.9.0.tar.gz'