Back to the "Multiple platform build/check report"
| Package 97/187 | OS | Arch | BUILD | CHECK | BUILD BIN | 
maCorrPlot1.3.0Alexander Ploner | Linux (SUSE 9.2) | x86_64 | OK | OK | |
| Linux (SUSE 9.2) | i686 | OK | OK | ||
| Solaris 2.9 | sparc | OK | OK | ||
| Linux (SUSE 10.0) | x86_64 | OK | OK | ||
| Windows Server 2003 | x86_64 | OK | [ OK ] | OK | 
| Package: maCorrPlot | 
| Version: 1.3.0 | 
| Command: D:\biocbld\1.9d\R\bin\R.exe CMD check maCorrPlot_1.3.0.tar.gz | 
| RetCode: 0 | 
| Time: 44.9 seconds | 
| Status: OK | 
| CheckDir: maCorrPlot.Rcheck | 
| Warnings: 0 | 
* checking for working latex ... OK * using log directory 'D:/biocbld/1.9d/Rpacks/maCorrPlot.Rcheck' * using R version 2.4.0 Under development (unstable) (2006-06-04 r38279) * checking for file 'maCorrPlot/DESCRIPTION' ... OK * this is package 'maCorrPlot' version '1.3.0' * checking package dependencies ... OK * checking if this is a source package ... OK * checking whether package 'maCorrPlot' can be installed ... OK * checking package directory ... OK * checking for portable file names ... OK * checking DESCRIPTION meta-information ... OK * checking top-level files ... OK * checking index information ... OK * checking package subdirectories ... OK * checking R files for syntax errors ... OK * checking R files for non-ASCII characters ... OK * checking R files for library.dynam ... OK * checking S3 generic/method consistency ... OK * checking replacement functions ... OK * checking foreign function calls ... OK * checking Rd files ... OK * checking for missing documentation entries ... OK * checking for code/documentation mismatches ... OK * checking Rd \usage sections ... OK * creating maCorrPlot-Ex.R ... OK * checking examples ... OK * checking package vignettes in 'inst/doc' ... OK * creating maCorrPlot-manual.tex ... OK * checking maCorrPlot-manual.tex ... OK
maCorrPlot.Rcheck/00install.out:
installing R.css in D:/biocbld/1.9d/Rpacks/maCorrPlot.Rcheck
---------- Making package maCorrPlot ------------
  adding build stamp to DESCRIPTION
  installing R files
  installing inst files
  installing data files
  installing man source files
  installing indices
  not zipping data
  installing help
 >>> Building/Updating help pages for package 'maCorrPlot'
     Formats: text html latex example chm 
  CorrSample                        text    html    latex   example chm
  CutCI                             text    html    latex   example chm
  oligodata                         text    html    latex   example chm
  plot.corr.sample                  text    html    latex   example chm
Microsoft HTML Help Compiler 4.74.8702
Compiling d:\biocbld\1.9d\Rpacks\maCorrPlot.Rcheck\00_pkg_src\maCorrPlot\chm\maCorrPlot.chm
Compile time: 0 minutes, 0 seconds
5	Topics
22	Local links
2	Internet links
1	Graphic
Created d:\biocbld\1.9d\Rpacks\maCorrPlot.Rcheck\00_pkg_src\maCorrPlot\chm\maCorrPlot.chm, 27,717 bytes
Compression decreased file by 1,294 bytes.
  adding MD5 sums
* DONE (maCorrPlot)