Back to the "Multiple platform build/check report"
| Package 17/187 | OS | Arch | BUILD | CHECK | BUILD BIN |
apComplex1.7.1Denise Scholtens | Linux (SUSE 9.2) | x86_64 | OK | OK | |
| Linux (SUSE 9.2) | i686 | OK | OK | ||
| Solaris 2.9 | sparc | OK | OK | ||
| Linux (SUSE 10.0) | x86_64 | OK | OK | ||
| Windows Server 2003 | x86_64 | OK | [ OK ] | OK |
| Package: apComplex |
| Version: 1.7.1 |
| Command: D:\biocbld\1.9d\R\bin\R.exe CMD check apComplex_1.7.1.tar.gz |
| RetCode: 0 |
| Time: 111.5 seconds |
| Status: OK |
| CheckDir: apComplex.Rcheck |
| Warnings: 0 |
* checking for working latex ... OK * using log directory 'D:/biocbld/1.9d/Rpacks/apComplex.Rcheck' * using R version 2.4.0 Under development (unstable) (2006-06-04 r38279) * checking for file 'apComplex/DESCRIPTION' ... OK * this is package 'apComplex' version '1.7.1' * checking package dependencies ... OK * checking if this is a source package ... OK * checking whether package 'apComplex' can be installed ... OK * checking package directory ... OK * checking for portable file names ... OK * checking DESCRIPTION meta-information ... OK * checking top-level files ... OK * checking index information ... OK * checking package subdirectories ... OK * checking R files for syntax errors ... OK * checking R files for non-ASCII characters ... OK * checking R files for library.dynam ... OK * checking S3 generic/method consistency ... OK * checking replacement functions ... OK * checking foreign function calls ... OK * checking Rd files ... OK * checking for missing documentation entries ... OK * checking for code/documentation mismatches ... OK * checking Rd \usage sections ... OK * creating apComplex-Ex.R ... OK * checking examples ... OK * checking package vignettes in 'inst/doc' ... OK * creating apComplex-manual.tex ... OK * checking apComplex-manual.tex ... OK
apComplex.Rcheck/00install.out:
installing R.css in D:/biocbld/1.9d/Rpacks/apComplex.Rcheck
---------- Making package apComplex ------------
adding build stamp to DESCRIPTION
installing R files
installing inst files
installing data files
installing man source files
installing indices
not zipping data
installing help
>>> Building/Updating help pages for package 'apComplex'
Formats: text html latex example chm
HMSPCI text html latex example chm
Krogan text html latex example chm
LCdelta text html latex example chm
MBMEcHMSPCI text html latex example chm
MBMEcKrogan text html latex example chm
MBMEcTAP text html latex example chm
TAP text html latex example chm
apEX text html latex example chm
bhmaxSubgraph text html latex example chm
findComplexes text html latex example chm
gavinBP2006 text html latex example chm
kroganBPMat2006 text html latex example chm
mergeComplexes text html latex example chm
reduceMat text html latex example chm
sortComplexes text html latex example chm
vecInMat text html latex example chm
yNameTAP text html latex example chm
yTAP text html latex example chm
Microsoft HTML Help Compiler 4.74.8702
Compiling d:\biocbld\1.9d\Rpacks\apComplex.Rcheck\00_pkg_src\apComplex\chm\apComplex.chm
Compile time: 0 minutes, 0 seconds
19 Topics
94 Local links
0 Internet links
1 Graphic
Created d:\biocbld\1.9d\Rpacks\apComplex.Rcheck\00_pkg_src\apComplex\chm\apComplex.chm, 35,425 bytes
Compression decreased file by 27,588 bytes.
adding MD5 sums
* DONE (apComplex)