Back to the "Multiple platform build/check report"
| Package 44/187 | OS | Arch | BUILD | CHECK | BUILD BIN |
DynDoc1.11.1Biocore Team | Linux (SUSE 9.2) | x86_64 | OK | OK | |
| Linux (SUSE 9.2) | i686 | OK | OK | ||
| Solaris 2.9 | sparc | OK | OK | ||
| Linux (SUSE 10.0) | x86_64 | OK | OK | ||
| Windows Server 2003 | x86_64 | OK | [ OK ] | OK |
| Package: DynDoc |
| Version: 1.11.1 |
| Command: D:\biocbld\1.9d\R\bin\R.exe CMD check DynDoc_1.11.1.tar.gz |
| RetCode: 0 |
| Time: 32.1 seconds |
| Status: OK |
| CheckDir: DynDoc.Rcheck |
| Warnings: 0 |
* checking for working latex ... OK * using log directory 'D:/biocbld/1.9d/Rpacks/DynDoc.Rcheck' * using R version 2.4.0 Under development (unstable) (2006-06-04 r38279) * checking for file 'DynDoc/DESCRIPTION' ... OK * this is package 'DynDoc' version '1.11.1' * checking package dependencies ... OK * checking if this is a source package ... OK * checking whether package 'DynDoc' can be installed ... OK * checking package directory ... OK * checking for portable file names ... OK * checking DESCRIPTION meta-information ... OK * checking top-level files ... OK * checking index information ... OK * checking package subdirectories ... OK * checking R files for syntax errors ... OK * checking R files for non-ASCII characters ... OK * checking R files for library.dynam ... OK * checking S3 generic/method consistency ... OK * checking replacement functions ... OK * checking foreign function calls ... OK * checking Rd files ... OK * checking for missing documentation entries ... OK * checking for code/documentation mismatches ... OK * checking Rd \usage sections ... OK * creating DynDoc-Ex.R ... OK * checking examples ... OK * creating DynDoc-manual.tex ... OK * checking DynDoc-manual.tex ... OK
DynDoc.Rcheck/00install.out:
installing R.css in D:/biocbld/1.9d/Rpacks/DynDoc.Rcheck
---------- Making package DynDoc ------------
adding build stamp to DESCRIPTION
installing NAMESPACE file and metadata
installing R files
save image
Loading required package: tools
Creating a new generic function for 'summary' in 'DynDoc'
Warning message:
undefined slot classes in definition of "Vignette": vigPkgVersion(class "VersionNumber") in: .completeClassSlots(ClassDef, where)
installing man source files
installing indices
installing help
>>> Building/Updating help pages for package 'DynDoc'
Formats: text html latex example chm
DynDoc-class text html latex chm
SweaveOptions-class text html latex chm
Vignette-class text html latex chm
chunkList-class text html latex example chm
codeChunk-class text html latex example chm
getPkgVigList text html latex example chm
getVignette text html latex chm
getVignetteCode text html latex chm
getVignetteHeader text html latex chm
tangleToR text html latex example chm
vignetteCode-class text html latex chm
Microsoft HTML Help Compiler 4.74.8702
Compiling d:\biocbld\1.9d\Rpacks\DynDoc.Rcheck\00_pkg_src\DynDoc\chm\DynDoc.chm
Compile time: 0 minutes, 0 seconds
12 Topics
119 Local links
0 Internet links
1 Graphic
Created d:\biocbld\1.9d\Rpacks\DynDoc.Rcheck\00_pkg_src\DynDoc\chm\DynDoc.chm, 30,209 bytes
Compression decreased file by 39,192 bytes.
adding MD5 sums
* DONE (DynDoc)