Back to the "Multiple platform build/check report"
| Package 41/187 | OS | Arch | BUILD | CHECK | BUILD BIN |
DEDS1.5.0Yuanyuan Xiao | Linux (SUSE 9.2) | x86_64 | OK | [ OK ] | |
| Linux (SUSE 9.2) | i686 | OK | OK | ||
| Solaris 2.9 | sparc | OK | OK | ||
| Linux (SUSE 10.0) | x86_64 | OK | OK | ||
| Windows Server 2003 | x86_64 | OK | OK | OK |
| Package: DEDS |
| Version: 1.5.0 |
| Command: /loc/biocbuild/1.9d/R/bin/R CMD check DEDS_1.5.0.tar.gz |
| RetCode: 0 |
| Time: 278.4 seconds |
| Status: OK |
| CheckDir: DEDS.Rcheck |
| Warnings: 0 |
* checking for working latex ... OK * using log directory '/loc/biocbuild/1.9d/Rpacks/DEDS.Rcheck' * using R version 2.4.0 Under development (unstable) (2006-06-04 r38279) * checking for file 'DEDS/DESCRIPTION' ... OK * this is package 'DEDS' version '1.5.0' * checking package dependencies ... OK * checking if this is a source package ... OK * checking whether package 'DEDS' can be installed ... OK * checking package directory ... OK * checking for portable file names ... OK * checking for sufficient/correct file permissions ... OK * checking DESCRIPTION meta-information ... OK * checking top-level files ... OK * checking index information ... OK * checking package subdirectories ... OK * checking R files for syntax errors ... OK * checking R files for non-ASCII characters ... OK * checking R files for library.dynam ... OK * checking S3 generic/method consistency ... OK * checking replacement functions ... OK * checking foreign function calls ... OK * checking Rd files ... OK * checking for missing documentation entries ... OK * checking for code/documentation mismatches ... OK * checking Rd \usage sections ... OK * checking for CRLF line endings in C/C++/Fortran sources/headers ... OK * creating DEDS-Ex.R ... OK * checking examples ... OK * checking package vignettes in 'inst/doc' ... OK * creating DEDS-manual.tex ... OK * checking DEDS-manual.tex ... OK
DEDS.Rcheck/00install.out:
* Installing *source* package 'DEDS' ...
** libs
gcc -I/loc/biocbuild/1.9d/R/include -I/loc/biocbuild/1.9d/R/include -I/usr/local/include -fpic -g -O2 -std=gnu99 -Wall -c deds.c -o deds.o
deds.c: In function `type2stat':
deds.c:451: warning: `test' might be used uninitialized in this function
gcc -I/loc/biocbuild/1.9d/R/include -I/loc/biocbuild/1.9d/R/include -I/usr/local/include -fpic -g -O2 -std=gnu99 -Wall -c distance.c -o distance.o
gcc -I/loc/biocbuild/1.9d/R/include -I/loc/biocbuild/1.9d/R/include -I/usr/local/include -fpic -g -O2 -std=gnu99 -Wall -c input.c -o input.o
gcc -I/loc/biocbuild/1.9d/R/include -I/loc/biocbuild/1.9d/R/include -I/usr/local/include -fpic -g -O2 -std=gnu99 -Wall -c manip.c -o manip.o
gcc -I/loc/biocbuild/1.9d/R/include -I/loc/biocbuild/1.9d/R/include -I/usr/local/include -fpic -g -O2 -std=gnu99 -Wall -c random.c -o random.o
gcc -I/loc/biocbuild/1.9d/R/include -I/loc/biocbuild/1.9d/R/include -I/usr/local/include -fpic -g -O2 -std=gnu99 -Wall -c sampling.c -o sampling.o
gcc -I/loc/biocbuild/1.9d/R/include -I/loc/biocbuild/1.9d/R/include -I/usr/local/include -fpic -g -O2 -std=gnu99 -Wall -c stat_fun.c -o stat_fun.o
stat_fun.c: In function `tmixture':
stat_fun.c:1083: warning: statement with no effect
stat_fun.c:1061: warning: `res' might be used uninitialized in this function
gcc -shared -L/usr/local/lib64 -o DEDS.so deds.o distance.o input.o manip.o random.o sampling.o stat_fun.o
** R
** data
** inst
** preparing package for lazy loading
** help
>>> Building/Updating help pages for package 'DEDS'
Formats: text html latex example
ApoA1 text html latex
DEDS-internal text html latex
affySpikeIn text html latex
aggregateFun text html latex example
comp.B text html latex example
comp.F text html latex example
comp.FC text html latex example
comp.SAM text html latex example
comp.adjp text html latex example
comp.ebayes text html latex example
comp.fdr text html latex example
comp.modF text html latex example
comp.modt text html latex example
comp.stat text html latex example
comp.t text html latex example
comp.unadjp text html latex example
deds.chooseTest text html latex example
deds.class text html latex
deds.genExtra text html latex example
deds.pval text html latex example
deds.stat text html latex example
deds.stat.linkC text html latex example
hist.DEDS text html latex example
pairs.DEDS text html latex example
qqnorm.DEDS text html latex example
topgenes text html latex example
** building package indices ...
* DONE (DEDS)