1.5.0Deepayan Sarkar | Linux (SUSE 9.2)  | x86_64 |  OK  |  OK  |  | 
| Linux (SUSE 9.2)  | i686 |  OK  |  OK  |  | 
| Solaris 2.9  | sparc | [ OK ] |  OK  |  | 
| Linux (SUSE 10.0)  | x86_64 |  OK  |  OK  |  | 
| Windows Server 2003  | x86_64 |  OK  |  OK  |  OK  | 
* checking for file 'EBarrays/DESCRIPTION' ... OK
* preparing 'EBarrays':
* checking DESCRIPTION meta-information ... OK
* cleaning src
* checking whether 'INDEX' is up-to-date ... OK
* installing the package to re-build vignettes
* Installing *source* package 'EBarrays' ...
** libs
gcc -I/loc/biocbuild/1.9d/R/include -I/loc/biocbuild/1.9d/R/include  -I/usr/local/include   -fPIC  -g -O2 -std=gnu99 -Wall -c ebarrays.c -o ebarrays.o
gcc -G -L/usr/local/lib -o EBarrays.so ebarrays.o   
** R
** data
** demo
** inst
** save image
Loading required package: Biobase
Loading required package: tools
Welcome to Bioconductor
    Vignettes contain introductory material. To view, type
    'openVignette()' or start with 'help(Biobase)'. For details
    on reading vignettes, see the openVignette help page.
Loading required package: lattice
[1] "ebarraysFamily"
[1] "ebarraysPatterns"
[1] "show"
[1] "show"
[1] "ebarraysEmFit"
[1] "show"
[1] "emfit"
[1] "emfit"
[1] "emfit"
[1] "emfit"
[1] "emfit"
[1] "postprob"
[1] "ebarraysPostProb"
[1] "show"
[1] "postprob"
[1] "postprob"
** preparing package for lazy loading
Loading required package: Biobase
Loading required package: tools
Welcome to Bioconductor
    Vignettes contain introductory material. To view, type
    'openVignette()' or start with 'help(Biobase)'. For details
    on reading vignettes, see the openVignette help page.
Loading required package: lattice
** help
 >>> Building/Updating help pages for package 'EBarrays'
     Formats: text html latex example 
  ebarraysFamily-class              text    html    latex   example
  ebplots                           text    html    latex   example
  emfit                             text    html    latex   example
  gould                             text    html    latex   example
  postprob                          text    html    latex
  utilities                         text    html    latex   example
** building package indices ...
* DONE (EBarrays)
* creating vignettes ... OK
* cleaning src
* removing junk files
* checking for LF line-endings in source files
* checking for empty or unneeded directories
* building 'EBarrays_1.5.0.tar.gz'