Back to the "Multiple platform build/check report"
| Package 50/187 | OS | Arch | BUILD | CHECK | BUILD BIN |
exprExternal1.5.0Biocore Team | Linux (SUSE 9.2) | x86_64 | OK | OK | |
| Linux (SUSE 9.2) | i686 | [ OK ] | OK | ||
| Solaris 2.9 | sparc | OK | OK | ||
| Linux (SUSE 10.0) | x86_64 | OK | OK | ||
| Windows Server 2003 | x86_64 | OK | OK | OK |
| Package: exprExternal |
| Version: 1.5.0 |
| Command: /loc/biocbuild/1.9d/R/bin/R CMD build exprExternal |
| RetCode: 0 |
| Time: 0.8 seconds |
| Status: OK |
| PackageFile: exprExternal_1.5.0.tar.gz |
* checking for file 'exprExternal/DESCRIPTION' ... OK * preparing 'exprExternal': * checking DESCRIPTION meta-information ... OK * removing junk files * checking for LF line-endings in source files * checking for empty or unneeded directories * building 'exprExternal_1.5.0.tar.gz'