1.5.0Seth Falcon | Linux (SUSE 9.2)  | x86_64 |  OK  |  OK  |  | 
| Linux (SUSE 9.2)  | i686 |  OK  |  OK  |  | 
| Solaris 2.9  | sparc |  OK  |  OK  |  | 
| Linux (SUSE 10.0)  | x86_64 |  OK  |  OK  |  | 
| Windows Server 2003  | x86_64 |  OK  |  OK  | [ OK ] | 
Using auto-selected zip options ''
---------- Making package hypergraph ------------
  adding build stamp to DESCRIPTION
  installing NAMESPACE file and metadata
  installing R files
  save image
Loading required package: graph
Loading required package: Ruuid
  installing inst files
  installing man source files
  installing indices
  installing help
 >>> Building/Updating help pages for package 'hypergraph'
     Formats: text html latex example chm 
  DirectedHyperedge-class           text    html    latex   example chm
  DirectedHyperedge                 text    html    latex           chm
  Hyperedge-class                   text    html    latex   example chm
  Hyperedge                         text    html    latex           chm
  Hypergraph-class                  text    html    latex   example chm
  Hypergraph                        text    html    latex           chm
  l2hel                             text    html    latex   example chm
Microsoft HTML Help Compiler 4.74.8702
Compiling d:\biocbld\1.9d\Rpacks\R.INSTALL\hypergraph\chm\hypergraph.chm
Compile time: 0 minutes, 0 seconds
8	Topics
70	Local links
0	Internet links
1	Graphic
Created d:\biocbld\1.9d\Rpacks\R.INSTALL\hypergraph\chm\hypergraph.chm, 21,261 bytes
Compression decreased file by 10,868 bytes.
  adding MD5 sums
packaged installation of package 'hypergraph' as hypergraph_1.5.0.zip
* DONE (hypergraph)