| lamb1 |
Linux (SUSE 10.1) / x86_64 | | | |
| wilson2 |
Linux (openSUSE 10.3) / x86_64 | | | |
| wellington |
Linux (openSUSE 10.3) / i686 | | | |
| liverpool |
Windows Server 2003 R2 (32-bit) / x64 | | | |
| pitt |
Mac OS X Tiger (10.4.11) / i386 | | | |
|
| A [A] B C D E F G H I J K L M N O P Q R S T U V W X Y Z |
ABarray 1.8.0 Yongming Andrew Sun
| Last Changed Rev: 31430 / Revision: 33132 | | Last Changed Date: 2008-04-29 16:50:18 -0700 |
| lamb1 | Linux (SUSE 10.1) / x86_64 | OK | OK | |
| wilson2 | Linux (openSUSE 10.3) / x86_64 | OK | OK | |
| wellington | Linux (openSUSE 10.3) / i686 | OK | OK | |
| liverpool | Windows Server 2003 R2 (32-bit) / x64 | OK | OK | OK |
| pitt | Mac OS X Tiger (10.4.11) / i386 | OK | OK | OK |
aCGH 1.14.0 Jane Fridlyand
| Last Changed Rev: 31430 / Revision: 33132 | | Last Changed Date: 2008-04-29 16:50:18 -0700 |
| lamb1 | Linux (SUSE 10.1) / x86_64 | OK | WARNINGS | |
| wilson2 | Linux (openSUSE 10.3) / x86_64 | OK | WARNINGS | |
| wellington | Linux (openSUSE 10.3) / i686 | OK | WARNINGS | |
| liverpool | Windows Server 2003 R2 (32-bit) / x64 | OK | WARNINGS | OK |
| pitt | Mac OS X Tiger (10.4.11) / i386 | OK | WARNINGS | OK |
ACME 1.6.0 Sean Davis
| Last Changed Rev: 31430 / Revision: 33132 | | Last Changed Date: 2008-04-29 16:50:18 -0700 |
| lamb1 | Linux (SUSE 10.1) / x86_64 | OK | OK | |
| wilson2 | Linux (openSUSE 10.3) / x86_64 | OK | OK | |
| wellington | Linux (openSUSE 10.3) / i686 | OK | OK | |
| liverpool | Windows Server 2003 R2 (32-bit) / x64 | OK | OK | OK |
| pitt | Mac OS X Tiger (10.4.11) / i386 | OK | OK | OK |
adSplit 1.10.0 Claudio Lottaz
| Last Changed Rev: 31430 / Revision: 33132 | | Last Changed Date: 2008-04-29 16:50:18 -0700 |
| lamb1 | Linux (SUSE 10.1) / x86_64 | OK | OK | |
| wilson2 | Linux (openSUSE 10.3) / x86_64 | OK | OK | |
| wellington | Linux (openSUSE 10.3) / i686 | OK | OK | |
| liverpool | Windows Server 2003 R2 (32-bit) / x64 | OK | OK | OK |
| pitt | Mac OS X Tiger (10.4.11) / i386 | OK | OK | OK |
affxparser 1.12.2 Kasper Daniel Hansen
| Last Changed Rev: 31607 / Revision: 33132 | | Last Changed Date: 2008-05-09 20:30:10 -0700 |
| lamb1 | Linux (SUSE 10.1) / x86_64 | OK | OK | |
| wilson2 | Linux (openSUSE 10.3) / x86_64 | OK | OK | |
| wellington | Linux (openSUSE 10.3) / i686 | OK | OK | |
| liverpool | Windows Server 2003 R2 (32-bit) / x64 | OK | OK | OK |
| pitt | Mac OS X Tiger (10.4.11) / i386 | OK | OK | OK |
affy 1.18.2 Rafael A. Irizarry
| Last Changed Rev: 32263 / Revision: 33132 | | Last Changed Date: 2008-06-12 13:43:42 -0700 |
| lamb1 | Linux (SUSE 10.1) / x86_64 | OK | OK | |
| wilson2 | Linux (openSUSE 10.3) / x86_64 | OK | OK | |
| wellington | Linux (openSUSE 10.3) / i686 | OK | OK | |
| liverpool | Windows Server 2003 R2 (32-bit) / x64 | OK | OK | OK |
| pitt | Mac OS X Tiger (10.4.11) / i386 | OK | OK | OK |
affycomp 1.16.0 Rafael A. Irizarry
| Last Changed Rev: 31430 / Revision: 33132 | | Last Changed Date: 2008-04-29 16:50:18 -0700 |
| lamb1 | Linux (SUSE 10.1) / x86_64 | OK | OK | |
| wilson2 | Linux (openSUSE 10.3) / x86_64 | OK | OK | |
| wellington | Linux (openSUSE 10.3) / i686 | OK | OK | |
| liverpool | Windows Server 2003 R2 (32-bit) / x64 | OK | OK | OK |
| pitt | Mac OS X Tiger (10.4.11) / i386 | OK | OK | OK |
AffyCompatible 1.0.0 Martin Morgan
| Last Changed Rev: 31430 / Revision: 33132 | | Last Changed Date: 2008-04-29 16:50:18 -0700 |
| lamb1 | Linux (SUSE 10.1) / x86_64 | ERROR | skipped | |
| wilson2 | Linux (openSUSE 10.3) / x86_64 | ERROR | skipped | |
| wellington | Linux (openSUSE 10.3) / i686 | ERROR | skipped | |
| liverpool | Windows Server 2003 R2 (32-bit) / x64 | ERROR | skipped | skipped |
| pitt | Mac OS X Tiger (10.4.11) / i386 | ERROR | skipped | skipped |
affycoretools 1.12.1 James W. MacDonald
| Last Changed Rev: 32921 / Revision: 33132 | | Last Changed Date: 2008-07-26 17:03:59 -0700 |
| lamb1 | Linux (SUSE 10.1) / x86_64 | OK | OK | |
| wilson2 | Linux (openSUSE 10.3) / x86_64 | OK | OK | |
| wellington | Linux (openSUSE 10.3) / i686 | OK | OK | |
| liverpool | Windows Server 2003 R2 (32-bit) / x64 | OK | OK | OK |
| pitt | Mac OS X Tiger (10.4.11) / i386 | OK | OK | OK |
AffyExpress 1.6.0 Xuejun Arthur Li
| Last Changed Rev: 31430 / Revision: 33132 | | Last Changed Date: 2008-04-29 16:50:18 -0700 |
| lamb1 | Linux (SUSE 10.1) / x86_64 | OK | OK | |
| wilson2 | Linux (openSUSE 10.3) / x86_64 | OK | OK | |
| wellington | Linux (openSUSE 10.3) / i686 | OK | OK | |
| liverpool | Windows Server 2003 R2 (32-bit) / x64 | OK | OK | OK |
| pitt | Mac OS X Tiger (10.4.11) / i386 | OK | OK | OK |
affyio 1.8.1 Benjamin Milo Bolstad
| Last Changed Rev: 32969 / Revision: 33132 | | Last Changed Date: 2008-07-29 21:00:33 -0700 |
| lamb1 | Linux (SUSE 10.1) / x86_64 | OK | OK | |
| wilson2 | Linux (openSUSE 10.3) / x86_64 | OK | OK | |
| wellington | Linux (openSUSE 10.3) / i686 | OK | OK | |
| liverpool | Windows Server 2003 R2 (32-bit) / x64 | OK | OK | OK |
| pitt | Mac OS X Tiger (10.4.11) / i386 | OK | OK | OK |
affylmGUI 1.14.0 Keith Satterley
| Last Changed Rev: 31430 / Revision: 33132 | | Last Changed Date: 2008-04-29 16:50:18 -0700 |
| lamb1 | Linux (SUSE 10.1) / x86_64 | OK | OK | |
| wilson2 | Linux (openSUSE 10.3) / x86_64 | OK | OK | |
| wellington | Linux (openSUSE 10.3) / i686 | OK | OK | |
| liverpool | Windows Server 2003 R2 (32-bit) / x64 | OK | OK | OK |
| pitt | Mac OS X Tiger (10.4.11) / i386 | OK | WARNINGS | OK |
affyPara 1.0.0 Markus Schmidberger
| Last Changed Rev: 31430 / Revision: 33132 | | Last Changed Date: 2008-04-29 16:50:18 -0700 |
| lamb1 | Linux (SUSE 10.1) / x86_64 | OK | OK | |
| wilson2 | Linux (openSUSE 10.3) / x86_64 | OK | OK | |
| wellington | Linux (openSUSE 10.3) / i686 | OK | OK | |
| liverpool | Windows Server 2003 R2 (32-bit) / x64 | OK | OK | OK |
| pitt | Mac OS X Tiger (10.4.11) / i386 | OK | OK | OK |
affypdnn 1.14.3 Laurent Gautier
| Last Changed Rev: 31982 / Revision: 33132 | | Last Changed Date: 2008-05-27 20:56:03 -0700 |
| lamb1 | Linux (SUSE 10.1) / x86_64 | OK | OK | |
| wilson2 | Linux (openSUSE 10.3) / x86_64 | OK | OK | |
| wellington | Linux (openSUSE 10.3) / i686 | OK | OK | |
| liverpool | Windows Server 2003 R2 (32-bit) / x64 | OK | OK | OK |
| pitt | Mac OS X Tiger (10.4.11) / i386 | OK | OK | OK |
affyPLM 1.16.0 Ben Bolstad
| Last Changed Rev: 31430 / Revision: 33132 | | Last Changed Date: 2008-04-29 16:50:18 -0700 |
| lamb1 | Linux (SUSE 10.1) / x86_64 | OK | OK | |
| wilson2 | Linux (openSUSE 10.3) / x86_64 | OK | OK | |
| wellington | Linux (openSUSE 10.3) / i686 | OK | OK | |
| liverpool | Windows Server 2003 R2 (32-bit) / x64 | OK | OK | OK |
| pitt | Mac OS X Tiger (10.4.11) / i386 | OK | OK | OK |
affyQCReport 1.18.0 Craig Parman
| Last Changed Rev: 31430 / Revision: 33132 | | Last Changed Date: 2008-04-29 16:50:18 -0700 |
| lamb1 | Linux (SUSE 10.1) / x86_64 | OK | OK | |
| wilson2 | Linux (openSUSE 10.3) / x86_64 | OK | OK | |
| wellington | Linux (openSUSE 10.3) / i686 | OK | OK | |
| liverpool | Windows Server 2003 R2 (32-bit) / x64 | OK | OK | OK |
| pitt | Mac OS X Tiger (10.4.11) / i386 | OK | OK | OK |
altcdfenvs 2.2.0 Laurent Gautier
| Last Changed Rev: 31430 / Revision: 33132 | | Last Changed Date: 2008-04-29 16:50:18 -0700 |
| lamb1 | Linux (SUSE 10.1) / x86_64 | OK | OK | |
| wilson2 | Linux (openSUSE 10.3) / x86_64 | OK | OK | |
| wellington | Linux (openSUSE 10.3) / i686 | OK | OK | |
| liverpool | Windows Server 2003 R2 (32-bit) / x64 | OK | OK | OK |
| pitt | Mac OS X Tiger (10.4.11) / i386 | OK | WARNINGS | OK |
annaffy 1.12.1 Colin A. Smith
| Last Changed Rev: 31968 / Revision: 33132 | | Last Changed Date: 2008-05-26 21:26:12 -0700 |
| lamb1 | Linux (SUSE 10.1) / x86_64 | OK | OK | |
| wilson2 | Linux (openSUSE 10.3) / x86_64 | OK | OK | |
| wellington | Linux (openSUSE 10.3) / i686 | OK | OK | |
| liverpool | Windows Server 2003 R2 (32-bit) / x64 | OK | OK | OK |
| pitt | Mac OS X Tiger (10.4.11) / i386 | OK | OK | OK |
AnnBuilder 1.18.0 J. Zhang
| Last Changed Rev: 31430 / Revision: 33132 | | Last Changed Date: 2008-04-29 16:50:18 -0700 |
| lamb1 | Linux (SUSE 10.1) / x86_64 | OK | OK | |
| wilson2 | Linux (openSUSE 10.3) / x86_64 | OK | OK | |
| wellington | Linux (openSUSE 10.3) / i686 | OK | OK | |
| liverpool | Windows Server 2003 R2 (32-bit) / x64 | OK | OK | OK |
| pitt | Mac OS X Tiger (10.4.11) / i386 | OK | OK | OK |
annotate 1.18.0 Biocore Team c/o BioC user list
| Last Changed Rev: 31430 / Revision: 33132 | | Last Changed Date: 2008-04-29 16:50:18 -0700 |
| lamb1 | Linux (SUSE 10.1) / x86_64 | OK | OK | |
| wilson2 | Linux (openSUSE 10.3) / x86_64 | OK | OK | |
| wellington | Linux (openSUSE 10.3) / i686 | OK | OK | |
| liverpool | Windows Server 2003 R2 (32-bit) / x64 | OK | OK | OK |
| pitt | Mac OS X Tiger (10.4.11) / i386 | OK | OK | OK |
AnnotationDbi 1.2.2 Biocore Team c/o BioC user list
| Last Changed Rev: 32310 / Revision: 33132 | | Last Changed Date: 2008-06-17 00:37:39 -0700 |
| lamb1 | Linux (SUSE 10.1) / x86_64 | OK | OK | |
| wilson2 | Linux (openSUSE 10.3) / x86_64 | OK | OK | |
| wellington | Linux (openSUSE 10.3) / i686 | OK | OK | |
| liverpool | Windows Server 2003 R2 (32-bit) / x64 | OK | OK | OK |
| pitt | Mac OS X Tiger (10.4.11) / i386 | OK | OK | OK |
annotationTools 1.10.0 Alexandre Kuhn
| Last Changed Rev: 31430 / Revision: 33132 | | Last Changed Date: 2008-04-29 16:50:18 -0700 |
| lamb1 | Linux (SUSE 10.1) / x86_64 | OK | OK | |
| wilson2 | Linux (openSUSE 10.3) / x86_64 | OK | OK | |
| wellington | Linux (openSUSE 10.3) / i686 | OK | OK | |
| liverpool | Windows Server 2003 R2 (32-bit) / x64 | OK | OK | OK |
| pitt | Mac OS X Tiger (10.4.11) / i386 | OK | OK | OK |
apComplex 2.6.0 Denise Scholtens
| Last Changed Rev: 31430 / Revision: 33132 | | Last Changed Date: 2008-04-29 16:50:18 -0700 |
| lamb1 | Linux (SUSE 10.1) / x86_64 | OK | OK | |
| wilson2 | Linux (openSUSE 10.3) / x86_64 | OK | OK | |
| wellington | Linux (openSUSE 10.3) / i686 | OK | OK | |
| liverpool | Windows Server 2003 R2 (32-bit) / x64 | OK | OK | OK |
| pitt | Mac OS X Tiger (10.4.11) / i386 | OK | OK | OK |
aroma.light 1.8.1 Henrik Bengtsson
| Last Changed Rev: 31613 / Revision: 33132 | | Last Changed Date: 2008-05-10 14:14:42 -0700 |
| lamb1 | Linux (SUSE 10.1) / x86_64 | OK | OK | |
| wilson2 | Linux (openSUSE 10.3) / x86_64 | OK | OK | |
| wellington | Linux (openSUSE 10.3) / i686 | OK | OK | |
| liverpool | Windows Server 2003 R2 (32-bit) / x64 | OK | OK | OK |
| pitt | Mac OS X Tiger (10.4.11) / i386 | OK | OK | OK |
arrayQuality 1.18.0 Agnes Paquet
| Last Changed Rev: 31430 / Revision: 33132 | | Last Changed Date: 2008-04-29 16:50:18 -0700 |
| lamb1 | Linux (SUSE 10.1) / x86_64 | OK | OK | |
| wilson2 | Linux (openSUSE 10.3) / x86_64 | OK | OK | |
| wellington | Linux (openSUSE 10.3) / i686 | OK | OK | |
| liverpool | Windows Server 2003 R2 (32-bit) / x64 | OK | OK | OK |
| pitt | Mac OS X Tiger (10.4.11) / i386 | OK | OK | OK |
arrayQualityMetrics 1.6.1 Audrey Kauffmann
| Last Changed Rev: 33090 / Revision: 33132 | | Last Changed Date: 2008-08-06 15:20:04 -0700 |
| lamb1 | Linux (SUSE 10.1) / x86_64 | OK | OK | |
| wilson2 | Linux (openSUSE 10.3) / x86_64 | OK | OK | |
| wellington | Linux (openSUSE 10.3) / i686 | OK | OK | |
| liverpool | Windows Server 2003 R2 (32-bit) / x64 | OK | OK | OK |
| pitt | Mac OS X Tiger (10.4.11) / i386 | OK | OK | OK |
|
| B A [B] C D E F G H I J K L M N O P Q R S T U V W X Y Z |
BAC 1.0.0 Raphael Gottardo
| Last Changed Rev: 31430 / Revision: 33132 | | Last Changed Date: 2008-04-29 16:50:18 -0700 |
| lamb1 | Linux (SUSE 10.1) / x86_64 | OK | OK | |
| wilson2 | Linux (openSUSE 10.3) / x86_64 | OK | OK | |
| wellington | Linux (openSUSE 10.3) / i686 | OK | OK | |
| liverpool | Windows Server 2003 R2 (32-bit) / x64 | OK | OK | OK |
| pitt | Mac OS X Tiger (10.4.11) / i386 | OK | OK | OK |
BCRANK 1.2.0 Adam Ameur
| Last Changed Rev: 31430 / Revision: 33132 | | Last Changed Date: 2008-04-29 16:50:18 -0700 |
| lamb1 | Linux (SUSE 10.1) / x86_64 | OK | OK | |
| wilson2 | Linux (openSUSE 10.3) / x86_64 | OK | OK | |
| wellington | Linux (openSUSE 10.3) / i686 | OK | OK | |
| liverpool | Windows Server 2003 R2 (32-bit) / x64 | OK | OK | OK |
| pitt | Mac OS X Tiger (10.4.11) / i386 | OK | OK | OK |
beadarray 1.8.0 Mark Dunning
| Last Changed Rev: 31430 / Revision: 33132 | | Last Changed Date: 2008-04-29 16:50:18 -0700 |
| lamb1 | Linux (SUSE 10.1) / x86_64 | OK | OK | |
| wilson2 | Linux (openSUSE 10.3) / x86_64 | OK | OK | |
| wellington | Linux (openSUSE 10.3) / i686 | OK | OK | |
| liverpool | Windows Server 2003 R2 (32-bit) / x64 | OK | OK | OK |
| pitt | Mac OS X Tiger (10.4.11) / i386 | OK | OK | OK |
beadarraySNP 1.6.0 Jan Oosting
| Last Changed Rev: 31430 / Revision: 33132 | | Last Changed Date: 2008-04-29 16:50:18 -0700 |
| lamb1 | Linux (SUSE 10.1) / x86_64 | OK | OK | |
| wilson2 | Linux (openSUSE 10.3) / x86_64 | OK | OK | |
| wellington | Linux (openSUSE 10.3) / i686 | OK | OK | |
| liverpool | Windows Server 2003 R2 (32-bit) / x64 | OK | OK | OK |
| pitt | Mac OS X Tiger (10.4.11) / i386 | OK | OK | OK |
bgafun 1.2.0 Iain Wallace
| Last Changed Rev: 31430 / Revision: 33132 | | Last Changed Date: 2008-04-29 16:50:18 -0700 |
| lamb1 | Linux (SUSE 10.1) / x86_64 | OK | OK | |
| wilson2 | Linux (openSUSE 10.3) / x86_64 | OK | OK | |
| wellington | Linux (openSUSE 10.3) / i686 | OK | OK | |
| liverpool | Windows Server 2003 R2 (32-bit) / x64 | OK | OK | OK |
| pitt | Mac OS X Tiger (10.4.11) / i386 | OK | OK | OK |
BGmix 1.0.0 Alex Lewin
| Last Changed Rev: 32199 / Revision: 33132 | | Last Changed Date: 2008-06-09 07:46:01 -0700 |
| lamb1 | Linux (SUSE 10.1) / x86_64 | OK | OK | |
| wilson2 | Linux (openSUSE 10.3) / x86_64 | OK | OK | |
| wellington | Linux (openSUSE 10.3) / i686 | OK | OK | |
| liverpool | Windows Server 2003 R2 (32-bit) / x64 | OK | OK | OK |
| pitt | Mac OS X Tiger (10.4.11) / i386 | OK | OK | OK |
bgx 1.4.1 Ernest Turro
| Last Changed Rev: 31625 / Revision: 33132 | | Last Changed Date: 2008-05-12 06:26:19 -0700 |
| lamb1 | Linux (SUSE 10.1) / x86_64 | OK | OK | |
| wilson2 | Linux (openSUSE 10.3) / x86_64 | OK | OK | |
| wellington | Linux (openSUSE 10.3) / i686 | OK | OK | |
| liverpool | Windows Server 2003 R2 (32-bit) / x64 | OK | OK | OK |
| pitt | Mac OS X Tiger (10.4.11) / i386 | OK | OK | OK |
Biobase 2.0.1 Biocore Team c/o BioC user list
| Last Changed Rev: 31548 / Revision: 33132 | | Last Changed Date: 2008-05-07 20:42:32 -0700 |
| lamb1 | Linux (SUSE 10.1) / x86_64 | OK | OK | |
| wilson2 | Linux (openSUSE 10.3) / x86_64 | OK | OK | |
| wellington | Linux (openSUSE 10.3) / i686 | OK | OK | |
| liverpool | Windows Server 2003 R2 (32-bit) / x64 | OK | OK | OK |
| pitt | Mac OS X Tiger (10.4.11) / i386 | OK | OK | OK |
BiocCaseStudies 1.2.0 Biocore Team c/o BioC user list
| Last Changed Rev: 31430 / Revision: 33132 | | Last Changed Date: 2008-04-29 16:50:18 -0700 |
| lamb1 | Linux (SUSE 10.1) / x86_64 | OK | OK | |
| wilson2 | Linux (openSUSE 10.3) / x86_64 | OK | OK | |
| wellington | Linux (openSUSE 10.3) / i686 | OK | OK | |
| liverpool | Windows Server 2003 R2 (32-bit) / x64 | OK | OK | OK |
| pitt | Mac OS X Tiger (10.4.11) / i386 | OK | OK | OK |
biocGraph 1.2.1 Li Long
| Last Changed Rev: 31634 / Revision: 33132 | | Last Changed Date: 2008-05-12 17:02:21 -0700 |
| lamb1 | Linux (SUSE 10.1) / x86_64 | OK | OK | |
| wilson2 | Linux (openSUSE 10.3) / x86_64 | OK | OK | |
| wellington | Linux (openSUSE 10.3) / i686 | OK | OK | |
| liverpool | Windows Server 2003 R2 (32-bit) / x64 | OK | OK | OK |
| pitt | Mac OS X Tiger (10.4.11) / i386 | OK | OK | OK |
biocViews 1.8.0 Biocore Team c/o BioC user list
| Last Changed Rev: 31430 / Revision: 33132 | | Last Changed Date: 2008-04-29 16:50:18 -0700 |
| lamb1 | Linux (SUSE 10.1) / x86_64 | OK | OK | |
| wilson2 | Linux (openSUSE 10.3) / x86_64 | OK | OK | |
| wellington | Linux (openSUSE 10.3) / i686 | OK | OK | |
| liverpool | Windows Server 2003 R2 (32-bit) / x64 | OK | OK | OK |
| pitt | Mac OS X Tiger (10.4.11) / i386 | OK | OK | OK |
bioDist 1.12.0 Biocore Team c/o BioC user list
| Last Changed Rev: 31430 / Revision: 33132 | | Last Changed Date: 2008-04-29 16:50:18 -0700 |
| lamb1 | Linux (SUSE 10.1) / x86_64 | OK | OK | |
| wilson2 | Linux (openSUSE 10.3) / x86_64 | OK | OK | |
| wellington | Linux (openSUSE 10.3) / i686 | OK | OK | |
| liverpool | Windows Server 2003 R2 (32-bit) / x64 | OK | OK | OK |
| pitt | Mac OS X Tiger (10.4.11) / i386 | OK | OK | OK |
biomaRt 1.14.0 Steffen Durinck
| Last Changed Rev: 31430 / Revision: 33132 | | Last Changed Date: 2008-04-29 16:50:18 -0700 |
| lamb1 | Linux (SUSE 10.1) / x86_64 | ERROR | skipped | |
| wilson2 | Linux (openSUSE 10.3) / x86_64 | ERROR | skipped | |
| wellington | Linux (openSUSE 10.3) / i686 | ERROR | skipped | |
| liverpool | Windows Server 2003 R2 (32-bit) / x64 | ERROR | skipped | skipped |
| pitt | Mac OS X Tiger (10.4.11) / i386 | ERROR | skipped | skipped |
BioMVCClass 1.8.0 Elizabeth Whalen
| Last Changed Rev: 31430 / Revision: 33132 | | Last Changed Date: 2008-04-29 16:50:18 -0700 |
| lamb1 | Linux (SUSE 10.1) / x86_64 | OK | OK | |
| wilson2 | Linux (openSUSE 10.3) / x86_64 | OK | OK | |
| wellington | Linux (openSUSE 10.3) / i686 | OK | OK | |
| liverpool | Windows Server 2003 R2 (32-bit) / x64 | OK | OK | OK |
| pitt | Mac OS X Tiger (10.4.11) / i386 | OK | OK | OK |
Biostrings 2.8.17 H. Pages
| Last Changed Rev: 32289 / Revision: 33132 | | Last Changed Date: 2008-06-14 08:43:15 -0700 |
| lamb1 | Linux (SUSE 10.1) / x86_64 | OK | OK | |
| wilson2 | Linux (openSUSE 10.3) / x86_64 | OK | OK | |
| wellington | Linux (openSUSE 10.3) / i686 | OK | OK | |
| liverpool | Windows Server 2003 R2 (32-bit) / x64 | OK | OK | OK |
| pitt | Mac OS X Tiger (10.4.11) / i386 | OK | OK | OK |
bridge 1.4.0 Raphael Gottardo
| Last Changed Rev: 31430 / Revision: 33132 | | Last Changed Date: 2008-04-29 16:50:18 -0700 |
| lamb1 | Linux (SUSE 10.1) / x86_64 | OK | OK | |
| wilson2 | Linux (openSUSE 10.3) / x86_64 | OK | OK | |
| wellington | Linux (openSUSE 10.3) / i686 | OK | OK | |
| liverpool | Windows Server 2003 R2 (32-bit) / x64 | OK | OK | OK |
| pitt | Mac OS X Tiger (10.4.11) / i386 | OK | OK | OK |
BSgenome 1.8.4 H. Pages
| Last Changed Rev: 32998 / Revision: 33132 | | Last Changed Date: 2008-08-01 12:04:56 -0700 |
| lamb1 | Linux (SUSE 10.1) / x86_64 | OK | OK | |
| wilson2 | Linux (openSUSE 10.3) / x86_64 | OK | OK | |
| wellington | Linux (openSUSE 10.3) / i686 | OK | OK | |
| liverpool | Windows Server 2003 R2 (32-bit) / x64 | OK | OK | OK |
| pitt | Mac OS X Tiger (10.4.11) / i386 | OK | OK | OK |
BufferedMatrix 1.4.0 Benjamin Milo Bolstad
| Last Changed Rev: 31430 / Revision: 33132 | | Last Changed Date: 2008-04-29 16:50:18 -0700 |
| lamb1 | Linux (SUSE 10.1) / x86_64 | OK | OK | |
| wilson2 | Linux (openSUSE 10.3) / x86_64 | OK | OK | |
| wellington | Linux (openSUSE 10.3) / i686 | OK | OK | |
| liverpool | Windows Server 2003 R2 (32-bit) / x64 | OK | OK | OK |
| pitt | Mac OS X Tiger (10.4.11) / i386 | OK | OK | OK |
BufferedMatrixMethods 1.4.0 B. M. Bolstad
| Last Changed Rev: 31430 / Revision: 33132 | | Last Changed Date: 2008-04-29 16:50:18 -0700 |
| lamb1 | Linux (SUSE 10.1) / x86_64 | OK | OK | |
| wilson2 | Linux (openSUSE 10.3) / x86_64 | OK | OK | |
| wellington | Linux (openSUSE 10.3) / i686 | OK | OK | |
| liverpool | Windows Server 2003 R2 (32-bit) / x64 | OK | OK | OK |
| pitt | Mac OS X Tiger (10.4.11) / i386 | OK | OK | OK |
|
| C A B [C] D E F G H I J K L M N O P Q R S T U V W X Y Z |
CALIB 1.6.0 Hui Zhao
| Last Changed Rev: 31430 / Revision: 33132 | | Last Changed Date: 2008-04-29 16:50:18 -0700 |
| lamb1 | Linux (SUSE 10.1) / x86_64 | OK | OK | |
| wilson2 | Linux (openSUSE 10.3) / x86_64 | OK | OK | |
| wellington | Linux (openSUSE 10.3) / i686 | OK | OK | |
| liverpool | Windows Server 2003 R2 (32-bit) / x64 | OK | OK | OK |
| pitt | Mac OS X Tiger (10.4.11) / i386 | OK | OK | OK |
Category 2.6.0 Robert Gentleman
| Last Changed Rev: 31430 / Revision: 33132 | | Last Changed Date: 2008-04-29 16:50:18 -0700 |
| lamb1 | Linux (SUSE 10.1) / x86_64 | OK | WARNINGS | |
| wilson2 | Linux (openSUSE 10.3) / x86_64 | OK | WARNINGS | |
| wellington | Linux (openSUSE 10.3) / i686 | OK | WARNINGS | |
| liverpool | Windows Server 2003 R2 (32-bit) / x64 | OK | WARNINGS | OK |
| pitt | Mac OS X Tiger (10.4.11) / i386 | OK | WARNINGS | OK |
cellHTS 1.10.0 Ligia Bras
| Last Changed Rev: 31430 / Revision: 33132 | | Last Changed Date: 2008-04-29 16:50:18 -0700 |
| lamb1 | Linux (SUSE 10.1) / x86_64 | OK | OK | |
| wilson2 | Linux (openSUSE 10.3) / x86_64 | OK | OK | |
| wellington | Linux (openSUSE 10.3) / i686 | OK | OK | |
| liverpool | Windows Server 2003 R2 (32-bit) / x64 | OK | OK | OK |
| pitt | Mac OS X Tiger (10.4.11) / i386 | OK | OK | OK |
cellHTS2 2.4.1 Gregoire Pau
| Last Changed Rev: 31883 / Revision: 33132 | | Last Changed Date: 2008-05-22 01:31:33 -0700 |
| lamb1 | Linux (SUSE 10.1) / x86_64 | OK | OK | |
| wilson2 | Linux (openSUSE 10.3) / x86_64 | OK | OK | |
| wellington | Linux (openSUSE 10.3) / i686 | OK | OK | |
| liverpool | Windows Server 2003 R2 (32-bit) / x64 | OK | OK | OK |
| pitt | Mac OS X Tiger (10.4.11) / i386 | OK | OK | OK |
CGHcall 1.2.0 Sjoerd Vosse
| Last Changed Rev: 31430 / Revision: 33132 | | Last Changed Date: 2008-04-29 16:50:18 -0700 |
| lamb1 | Linux (SUSE 10.1) / x86_64 | OK | OK | |
| wilson2 | Linux (openSUSE 10.3) / x86_64 | OK | OK | |
| wellington | Linux (openSUSE 10.3) / i686 | OK | OK | |
| liverpool | Windows Server 2003 R2 (32-bit) / x64 | OK | OK | OK |
| pitt | Mac OS X Tiger (10.4.11) / i386 | OK | OK | OK |
cghMCR 1.10.0 J. Zhang
| Last Changed Rev: 31430 / Revision: 33132 | | Last Changed Date: 2008-04-29 16:50:18 -0700 |
| lamb1 | Linux (SUSE 10.1) / x86_64 | OK | OK | |
| wilson2 | Linux (openSUSE 10.3) / x86_64 | OK | OK | |
| wellington | Linux (openSUSE 10.3) / i686 | OK | OK | |
| liverpool | Windows Server 2003 R2 (32-bit) / x64 | OK | OK | OK |
| pitt | Mac OS X Tiger (10.4.11) / i386 | OK | OK | OK |
clusterStab 1.12.0 James W. MacDonald
| Last Changed Rev: 31430 / Revision: 33132 | | Last Changed Date: 2008-04-29 16:50:18 -0700 |
| lamb1 | Linux (SUSE 10.1) / x86_64 | OK | OK | |
| wilson2 | Linux (openSUSE 10.3) / x86_64 | OK | OK | |
| wellington | Linux (openSUSE 10.3) / i686 | OK | OK | |
| liverpool | Windows Server 2003 R2 (32-bit) / x64 | OK | OK | OK |
| pitt | Mac OS X Tiger (10.4.11) / i386 | OK | OK | OK |
CoCiteStats 1.12.0 R. Gentleman
| Last Changed Rev: 31430 / Revision: 33132 | | Last Changed Date: 2008-04-29 16:50:18 -0700 |
| lamb1 | Linux (SUSE 10.1) / x86_64 | OK | OK | |
| wilson2 | Linux (openSUSE 10.3) / x86_64 | OK | OK | |
| wellington | Linux (openSUSE 10.3) / i686 | OK | OK | |
| liverpool | Windows Server 2003 R2 (32-bit) / x64 | OK | OK | OK |
| pitt | Mac OS X Tiger (10.4.11) / i386 | OK | OK | OK |
codelink 1.8.1 Diego Diez
| Last Changed Rev: 32625 / Revision: 33132 | | Last Changed Date: 2008-07-08 22:44:30 -0700 |
| lamb1 | Linux (SUSE 10.1) / x86_64 | OK | OK | |
| wilson2 | Linux (openSUSE 10.3) / x86_64 | OK | OK | |
| wellington | Linux (openSUSE 10.3) / i686 | OK | OK | |
| liverpool | Windows Server 2003 R2 (32-bit) / x64 | OK | OK | OK |
| pitt | Mac OS X Tiger (10.4.11) / i386 | OK | OK | OK |
convert 1.16.0 Yee Hwa (Jean) Yang
| Last Changed Rev: 31430 / Revision: 33132 | | Last Changed Date: 2008-04-29 16:50:18 -0700 |
| lamb1 | Linux (SUSE 10.1) / x86_64 | OK | OK | |
| wilson2 | Linux (openSUSE 10.3) / x86_64 | OK | OK | |
| wellington | Linux (openSUSE 10.3) / i686 | OK | OK | |
| liverpool | Windows Server 2003 R2 (32-bit) / x64 | OK | OK | OK |
| pitt | Mac OS X Tiger (10.4.11) / i386 | OK | OK | OK |
copa 1.8.0 James W. MacDonald
| Last Changed Rev: 31430 / Revision: 33132 | | Last Changed Date: 2008-04-29 16:50:18 -0700 |
| lamb1 | Linux (SUSE 10.1) / x86_64 | OK | OK | |
| wilson2 | Linux (openSUSE 10.3) / x86_64 | OK | OK | |
| wellington | Linux (openSUSE 10.3) / i686 | OK | OK | |
| liverpool | Windows Server 2003 R2 (32-bit) / x64 | OK | OK | OK |
| pitt | Mac OS X Tiger (10.4.11) / i386 | OK | OK | OK |
CORREP 1.6.0 Dongxiao Zhu
| Last Changed Rev: 31430 / Revision: 33132 | | Last Changed Date: 2008-04-29 16:50:18 -0700 |
| lamb1 | Linux (SUSE 10.1) / x86_64 | OK | OK | |
| wilson2 | Linux (openSUSE 10.3) / x86_64 | OK | OK | |
| wellington | Linux (openSUSE 10.3) / i686 | OK | OK | |
| liverpool | Windows Server 2003 R2 (32-bit) / x64 | OK | OK | OK |
| pitt | Mac OS X Tiger (10.4.11) / i386 | OK | OK | OK |
cosmo 1.6.0 Oliver Bembom
| Last Changed Rev: 31430 / Revision: 33132 | | Last Changed Date: 2008-04-29 16:50:18 -0700 |
| lamb1 | Linux (SUSE 10.1) / x86_64 | OK | OK | |
| wilson2 | Linux (openSUSE 10.3) / x86_64 | OK | OK | |
| wellington | Linux (openSUSE 10.3) / i686 | OK | OK | |
| liverpool | Windows Server 2003 R2 (32-bit) / x64 | OK | OK | OK |
| pitt | Mac OS X Tiger (10.4.11) / i386 | OK | OK | OK |
cosmoGUI 1.6.0 Oliver Bembom
| Last Changed Rev: 31430 / Revision: 33132 | | Last Changed Date: 2008-04-29 16:50:18 -0700 |
| lamb1 | Linux (SUSE 10.1) / x86_64 | OK | OK | |
| wilson2 | Linux (openSUSE 10.3) / x86_64 | OK | OK | |
| wellington | Linux (openSUSE 10.3) / i686 | OK | OK | |
| liverpool | Windows Server 2003 R2 (32-bit) / x64 | OK | OK | OK |
| pitt | Mac OS X Tiger (10.4.11) / i386 | OK | OK | OK |
ctc 1.14.0 Antoine Lucas
| Last Changed Rev: 31430 / Revision: 33132 | | Last Changed Date: 2008-04-29 16:50:18 -0700 |
| lamb1 | Linux (SUSE 10.1) / x86_64 | OK | OK | |
| wilson2 | Linux (openSUSE 10.3) / x86_64 | OK | OK | |
| wellington | Linux (openSUSE 10.3) / i686 | OK | OK | |
| liverpool | Windows Server 2003 R2 (32-bit) / x64 | OK | OK | OK |
| pitt | Mac OS X Tiger (10.4.11) / i386 | OK | OK | OK |
|
| D A B C [D] E F G H I J K L M N O P Q R S T U V W X Y Z |
daMA 1.12.0 Jobst Landgrebe
| Last Changed Rev: 31430 / Revision: 33132 | | Last Changed Date: 2008-04-29 16:50:18 -0700 |
| lamb1 | Linux (SUSE 10.1) / x86_64 | OK | OK | |
| wilson2 | Linux (openSUSE 10.3) / x86_64 | OK | OK | |
| wellington | Linux (openSUSE 10.3) / i686 | OK | OK | |
| liverpool | Windows Server 2003 R2 (32-bit) / x64 | OK | OK | OK |
| pitt | Mac OS X Tiger (10.4.11) / i386 | OK | OK | OK |
DEDS 1.14.0 Yuanyuan Xiao
| Last Changed Rev: 31430 / Revision: 33132 | | Last Changed Date: 2008-04-29 16:50:18 -0700 |
| lamb1 | Linux (SUSE 10.1) / x86_64 | OK | OK | |
| wilson2 | Linux (openSUSE 10.3) / x86_64 | OK | OK | |
| wellington | Linux (openSUSE 10.3) / i686 | OK | OK | |
| liverpool | Windows Server 2003 R2 (32-bit) / x64 | OK | OK | OK |
| pitt | Mac OS X Tiger (10.4.11) / i386 | OK | OK | OK |
diffGeneAnalysis 1.22.0 Choudary Jagarlamudi
| Last Changed Rev: 31430 / Revision: 33132 | | Last Changed Date: 2008-04-29 16:50:18 -0700 |
| lamb1 | Linux (SUSE 10.1) / x86_64 | OK | OK | |
| wilson2 | Linux (openSUSE 10.3) / x86_64 | OK | OK | |
| wellington | Linux (openSUSE 10.3) / i686 | OK | OK | |
| liverpool | Windows Server 2003 R2 (32-bit) / x64 | OK | OK | OK |
| pitt | Mac OS X Tiger (10.4.11) / i386 | OK | OK | OK |
DNAcopy 1.14.0 Venkatraman E. Seshan
| Last Changed Rev: 31430 / Revision: 33132 | | Last Changed Date: 2008-04-29 16:50:18 -0700 |
| lamb1 | Linux (SUSE 10.1) / x86_64 | OK | OK | |
| wilson2 | Linux (openSUSE 10.3) / x86_64 | OK | OK | |
| wellington | Linux (openSUSE 10.3) / i686 | OK | OK | |
| liverpool | Windows Server 2003 R2 (32-bit) / x64 | OK | OK | OK |
| pitt | Mac OS X Tiger (10.4.11) / i386 | OK | OK | OK |
DynDoc 1.18.0 Biocore Team c/o BioC user list
| Last Changed Rev: 31430 / Revision: 33132 | | Last Changed Date: 2008-04-29 16:50:18 -0700 |
| lamb1 | Linux (SUSE 10.1) / x86_64 | OK | OK | |
| wilson2 | Linux (openSUSE 10.3) / x86_64 | OK | OK | |
| wellington | Linux (openSUSE 10.3) / i686 | OK | OK | |
| liverpool | Windows Server 2003 R2 (32-bit) / x64 | OK | OK | OK |
| pitt | Mac OS X Tiger (10.4.11) / i386 | OK | OK | OK |
|
| E A B C D [E] F G H I J K L M N O P Q R S T U V W X Y Z |
EBarrays 2.4.0 Ming Yuan
| Last Changed Rev: 31430 / Revision: 33132 | | Last Changed Date: 2008-04-29 16:50:18 -0700 |
| lamb1 | Linux (SUSE 10.1) / x86_64 | OK | OK | |
| wilson2 | Linux (openSUSE 10.3) / x86_64 | OK | OK | |
| wellington | Linux (openSUSE 10.3) / i686 | OK | OK | |
| liverpool | Windows Server 2003 R2 (32-bit) / x64 | OK | OK | OK |
| pitt | Mac OS X Tiger (10.4.11) / i386 | OK | OK | OK |
EBImage 2.4.0 Oleg Sklyar
| Last Changed Rev: 31430 / Revision: 33132 | | Last Changed Date: 2008-04-29 16:50:18 -0700 |
| lamb1 | Linux (SUSE 10.1) / x86_64 | OK | OK | |
| wilson2 | Linux (openSUSE 10.3) / x86_64 | OK | OK | |
| wellington | Linux (openSUSE 10.3) / i686 | OK | OK | |
| liverpool | Windows Server 2003 R2 (32-bit) / x64 | OK | WARNINGS | OK |
| pitt | Mac OS X Tiger (10.4.11) / i386 | OK | OK | OK |
ecolitk 1.12.0 Laurent
| Last Changed Rev: 31430 / Revision: 33132 | | Last Changed Date: 2008-04-29 16:50:18 -0700 |
| lamb1 | Linux (SUSE 10.1) / x86_64 | OK | OK | |
| wilson2 | Linux (openSUSE 10.3) / x86_64 | OK | OK | |
| wellington | Linux (openSUSE 10.3) / i686 | OK | OK | |
| liverpool | Windows Server 2003 R2 (32-bit) / x64 | OK | OK | OK |
| pitt | Mac OS X Tiger (10.4.11) / i386 | OK | OK | OK |
edd 1.18.0 Vince Carey
| Last Changed Rev: 31430 / Revision: 33132 | | Last Changed Date: 2008-04-29 16:50:18 -0700 |
| lamb1 | Linux (SUSE 10.1) / x86_64 | OK | OK | |
| wilson2 | Linux (openSUSE 10.3) / x86_64 | OK | OK | |
| wellington | Linux (openSUSE 10.3) / i686 | OK | OK | |
| liverpool | Windows Server 2003 R2 (32-bit) / x64 | OK | OK | OK |
| pitt | Mac OS X Tiger (10.4.11) / i386 | OK | OK | OK |
exonmap 1.6.05 Crispin Miller
| Last Changed Rev: 32670 / Revision: 33132 | | Last Changed Date: 2008-07-11 09:25:07 -0700 |
| lamb1 | Linux (SUSE 10.1) / x86_64 | OK | WARNINGS | |
| wilson2 | Linux (openSUSE 10.3) / x86_64 | OK | WARNINGS | |
| wellington | Linux (openSUSE 10.3) / i686 | OK | WARNINGS | |
| liverpool | Windows Server 2003 R2 (32-bit) / x64 | OK | WARNINGS | OK |
| pitt | Mac OS X Tiger (10.4.11) / i386 | OK | WARNINGS | OK |
explorase 1.4.0 Michael Lawrence
| Last Changed Rev: 31430 / Revision: 33132 | | Last Changed Date: 2008-04-29 16:50:18 -0700 |
| lamb1 | Linux (SUSE 10.1) / x86_64 | OK | OK | |
| wilson2 | Linux (openSUSE 10.3) / x86_64 | OK | OK | |
| wellington | Linux (openSUSE 10.3) / i686 | OK | OK | |
| liverpool | Windows Server 2003 R2 (32-bit) / x64 | OK | OK | OK |
| pitt | Mac OS X Tiger (10.4.11) / i386 | N O T S U P P O R T E D |
externalVector 1.6.0 Biocore Team c/o BioC user list
| Last Changed Rev: 31430 / Revision: 33132 | | Last Changed Date: 2008-04-29 16:50:18 -0700 |
| lamb1 | Linux (SUSE 10.1) / x86_64 | OK | OK | |
| wilson2 | Linux (openSUSE 10.3) / x86_64 | OK | OK | |
| wellington | Linux (openSUSE 10.3) / i686 | OK | OK | |
| liverpool | Windows Server 2003 R2 (32-bit) / x64 | OK | OK | OK |
| pitt | Mac OS X Tiger (10.4.11) / i386 | OK | OK | OK |
|
| F A B C D E [F] G H I J K L M N O P Q R S T U V W X Y Z |
factDesign 1.14.0 Denise Scholtens
| Last Changed Rev: 31430 / Revision: 33132 | | Last Changed Date: 2008-04-29 16:50:18 -0700 |
| lamb1 | Linux (SUSE 10.1) / x86_64 | OK | OK | |
| wilson2 | Linux (openSUSE 10.3) / x86_64 | OK | OK | |
| wellington | Linux (openSUSE 10.3) / i686 | OK | OK | |
| liverpool | Windows Server 2003 R2 (32-bit) / x64 | OK | OK | OK |
| pitt | Mac OS X Tiger (10.4.11) / i386 | OK | OK | OK |
fbat 1.4.0 Weiliang Qiu
| Last Changed Rev: 31430 / Revision: 33132 | | Last Changed Date: 2008-04-29 16:50:18 -0700 |
| lamb1 | Linux (SUSE 10.1) / x86_64 | OK | OK | |
| wilson2 | Linux (openSUSE 10.3) / x86_64 | OK | OK | |
| wellington | Linux (openSUSE 10.3) / i686 | OK | OK | |
| liverpool | Windows Server 2003 R2 (32-bit) / x64 | OK | OK | OK |
| pitt | Mac OS X Tiger (10.4.11) / i386 | OK | OK | OK |
fdrame 1.12.0 Effi Kenigsberg
| Last Changed Rev: 31430 / Revision: 33132 | | Last Changed Date: 2008-04-29 16:50:18 -0700 |
| lamb1 | Linux (SUSE 10.1) / x86_64 | OK | OK | |
| wilson2 | Linux (openSUSE 10.3) / x86_64 | OK | OK | |
| wellington | Linux (openSUSE 10.3) / i686 | OK | OK | |
| liverpool | Windows Server 2003 R2 (32-bit) / x64 | OK | OK | OK |
| pitt | Mac OS X Tiger (10.4.11) / i386 | OK | OK | OK |
flowClust 1.3.2 Raphael Gottardo
| Last Changed Rev: 32123 / Revision: 33132 | | Last Changed Date: 2008-06-04 09:45:58 -0700 |
| lamb1 | Linux (SUSE 10.1) / x86_64 | OK | OK | |
| wilson2 | Linux (openSUSE 10.3) / x86_64 | OK | OK | |
| wellington | Linux (openSUSE 10.3) / i686 | OK | OK | |
| liverpool | Windows Server 2003 R2 (32-bit) / x64 | OK | OK | OK |
| pitt | Mac OS X Tiger (10.4.11) / i386 | OK | OK | OK |
flowCore 1.6.0 Nolwenn Le Meur
| Last Changed Rev: 31430 / Revision: 33132 | | Last Changed Date: 2008-04-29 16:50:18 -0700 |
| lamb1 | Linux (SUSE 10.1) / x86_64 | OK | OK | |
| wilson2 | Linux (openSUSE 10.3) / x86_64 | OK | OK | |
| wellington | Linux (openSUSE 10.3) / i686 | OK | OK | |
| liverpool | Windows Server 2003 R2 (32-bit) / x64 | OK | OK | OK |
| pitt | Mac OS X Tiger (10.4.11) / i386 | OK | OK | OK |
flowQ 1.0.0 N. Le Meur
| Last Changed Rev: 31430 / Revision: 33132 | | Last Changed Date: 2008-04-29 16:50:18 -0700 |
| lamb1 | Linux (SUSE 10.1) / x86_64 | OK | OK | |
| wilson2 | Linux (openSUSE 10.3) / x86_64 | OK | OK | |
| wellington | Linux (openSUSE 10.3) / i686 | OK | OK | |
| liverpool | Windows Server 2003 R2 (32-bit) / x64 | OK | WARNINGS | OK |
| pitt | Mac OS X Tiger (10.4.11) / i386 | OK | OK | OK |
flowUtils 1.0.0 Florian Hahne
| Last Changed Rev: 31430 / Revision: 33132 | | Last Changed Date: 2008-04-29 16:50:18 -0700 |
| lamb1 | Linux (SUSE 10.1) / x86_64 | OK | OK | |
| wilson2 | Linux (openSUSE 10.3) / x86_64 | OK | OK | |
| wellington | Linux (openSUSE 10.3) / i686 | OK | OK | |
| liverpool | Windows Server 2003 R2 (32-bit) / x64 | OK | OK | OK |
| pitt | Mac OS X Tiger (10.4.11) / i386 | OK | OK | OK |
flowViz 1.4.1 Florian Hahne
| Last Changed Rev: 32080 / Revision: 33132 | | Last Changed Date: 2008-06-02 12:27:58 -0700 |
| lamb1 | Linux (SUSE 10.1) / x86_64 | OK | OK | |
| wilson2 | Linux (openSUSE 10.3) / x86_64 | OK | OK | |
| wellington | Linux (openSUSE 10.3) / i686 | OK | OK | |
| liverpool | Windows Server 2003 R2 (32-bit) / x64 | OK | OK | OK |
| pitt | Mac OS X Tiger (10.4.11) / i386 | OK | OK | OK |
|
| G A B C D E F [G] H I J K L M N O P Q R S T U V W X Y Z |
gaga 1.0.0 David Rossell
| Last Changed Rev: 31430 / Revision: 33132 | | Last Changed Date: 2008-04-29 16:50:18 -0700 |
| lamb1 | Linux (SUSE 10.1) / x86_64 | OK | OK | |
| wilson2 | Linux (openSUSE 10.3) / x86_64 | OK | OK | |
| wellington | Linux (openSUSE 10.3) / i686 | OK | OK | |
| liverpool | Windows Server 2003 R2 (32-bit) / x64 | OK | OK | OK |
| pitt | Mac OS X Tiger (10.4.11) / i386 | OK | OK | OK |
gaggle 1.8.0 Dan Tenenbaum
| Last Changed Rev: 31430 / Revision: 33132 | | Last Changed Date: 2008-04-29 16:50:18 -0700 |
| lamb1 | Linux (SUSE 10.1) / x86_64 | OK | OK | |
| wilson2 | Linux (openSUSE 10.3) / x86_64 | OK | OK | |
| wellington | Linux (openSUSE 10.3) / i686 | OK | OK | |
| liverpool | Windows Server 2003 R2 (32-bit) / x64 | OK | OK | OK |
| pitt | Mac OS X Tiger (10.4.11) / i386 | OK | OK | OK |
gcrma 2.12.1 Z. Wu
| Last Changed Rev: 31852 / Revision: 33132 | | Last Changed Date: 2008-05-21 10:58:38 -0700 |
| lamb1 | Linux (SUSE 10.1) / x86_64 | OK | OK | |
| wilson2 | Linux (openSUSE 10.3) / x86_64 | OK | OK | |
| wellington | Linux (openSUSE 10.3) / i686 | OK | OK | |
| liverpool | Windows Server 2003 R2 (32-bit) / x64 | OK | OK | OK |
| pitt | Mac OS X Tiger (10.4.11) / i386 | OK | OK | OK |
genArise 1.16.0 IFC Development Team
| Last Changed Rev: 31430 / Revision: 33132 | | Last Changed Date: 2008-04-29 16:50:18 -0700 |
| lamb1 | Linux (SUSE 10.1) / x86_64 | OK | OK | |
| wilson2 | Linux (openSUSE 10.3) / x86_64 | OK | OK | |
| wellington | Linux (openSUSE 10.3) / i686 | OK | OK | |
| liverpool | Windows Server 2003 R2 (32-bit) / x64 | OK | OK | OK |
| pitt | Mac OS X Tiger (10.4.11) / i386 | OK | OK | OK |
genefilter 1.20.0 Biocore Team c/o BioC user list
| Last Changed Rev: 31430 / Revision: 33132 | | Last Changed Date: 2008-04-29 16:50:18 -0700 |
| lamb1 | Linux (SUSE 10.1) / x86_64 | OK | OK | |
| wilson2 | Linux (openSUSE 10.3) / x86_64 | OK | OK | |
| wellington | Linux (openSUSE 10.3) / i686 | OK | OK | |
| liverpool | Windows Server 2003 R2 (32-bit) / x64 | OK | OK | OK |
| pitt | Mac OS X Tiger (10.4.11) / i386 | OK | OK | OK |
GeneMeta 1.12.0 Biocore Team c/o BioC user list
| Last Changed Rev: 31430 / Revision: 33132 | | Last Changed Date: 2008-04-29 16:50:18 -0700 |
| lamb1 | Linux (SUSE 10.1) / x86_64 | OK | OK | |
| wilson2 | Linux (openSUSE 10.3) / x86_64 | OK | OK | |
| wellington | Linux (openSUSE 10.3) / i686 | OK | OK | |
| liverpool | Windows Server 2003 R2 (32-bit) / x64 | OK | OK | OK |
| pitt | Mac OS X Tiger (10.4.11) / i386 | OK | OK | OK |
geneplotter 1.18.0 Biocore Team c/o BioC user list
| Last Changed Rev: 31430 / Revision: 33132 | | Last Changed Date: 2008-04-29 16:50:18 -0700 |
| lamb1 | Linux (SUSE 10.1) / x86_64 | OK | OK | |
| wilson2 | Linux (openSUSE 10.3) / x86_64 | OK | OK | |
| wellington | Linux (openSUSE 10.3) / i686 | OK | OK | |
| liverpool | Windows Server 2003 R2 (32-bit) / x64 | OK | OK | OK |
| pitt | Mac OS X Tiger (10.4.11) / i386 | OK | OK | OK |
GeneR 2.10.0 Y. d'Aubenton-Carafa
| Last Changed Rev: 31430 / Revision: 33132 | | Last Changed Date: 2008-04-29 16:50:18 -0700 |
| lamb1 | Linux (SUSE 10.1) / x86_64 | OK | OK | |
| wilson2 | Linux (openSUSE 10.3) / x86_64 | OK | OK | |
| wellington | Linux (openSUSE 10.3) / i686 | OK | OK | |
| liverpool | Windows Server 2003 R2 (32-bit) / x64 | OK | OK | OK |
| pitt | Mac OS X Tiger (10.4.11) / i386 | OK | OK | OK |
geneRecommender 1.12.0 Greg Hather
| Last Changed Rev: 31430 / Revision: 33132 | | Last Changed Date: 2008-04-29 16:50:18 -0700 |
| lamb1 | Linux (SUSE 10.1) / x86_64 | OK | OK | |
| wilson2 | Linux (openSUSE 10.3) / x86_64 | OK | OK | |
| wellington | Linux (openSUSE 10.3) / i686 | OK | OK | |
| liverpool | Windows Server 2003 R2 (32-bit) / x64 | OK | OK | OK |
| pitt | Mac OS X Tiger (10.4.11) / i386 | OK | OK | OK |
GeneRfold 0.2.0 Antoine Lucas
| Last Changed Rev: 31430 / Revision: 33132 | | Last Changed Date: 2008-04-29 16:50:18 -0700 |
| lamb1 | Linux (SUSE 10.1) / x86_64 | OK | OK | |
| wilson2 | Linux (openSUSE 10.3) / x86_64 | OK | OK | |
| wellington | Linux (openSUSE 10.3) / i686 | OK | OK | |
| liverpool | Windows Server 2003 R2 (32-bit) / x64 | N O T S U P P O R T E D |
| pitt | Mac OS X Tiger (10.4.11) / i386 | OK | OK | OK |
GeneSelector 1.0.1 Martin Slawski
| Last Changed Rev: 32234 / Revision: 33132 | | Last Changed Date: 2008-06-10 17:19:03 -0700 |
| lamb1 | Linux (SUSE 10.1) / x86_64 | OK | OK | |
| wilson2 | Linux (openSUSE 10.3) / x86_64 | OK | OK | |
| wellington | Linux (openSUSE 10.3) / i686 | OK | OK | |
| liverpool | Windows Server 2003 R2 (32-bit) / x64 | OK | OK | OK |
| pitt | Mac OS X Tiger (10.4.11) / i386 | OK | OK | OK |
GeneSpring 2.14.0 Thon de Boer
| Last Changed Rev: 31430 / Revision: 33132 | | Last Changed Date: 2008-04-29 16:50:18 -0700 |
| lamb1 | Linux (SUSE 10.1) / x86_64 | OK | OK | |
| wilson2 | Linux (openSUSE 10.3) / x86_64 | OK | OK | |
| wellington | Linux (openSUSE 10.3) / i686 | OK | OK | |
| liverpool | Windows Server 2003 R2 (32-bit) / x64 | OK | OK | OK |
| pitt | Mac OS X Tiger (10.4.11) / i386 | OK | OK | OK |
GeneticsBase 1.6.0 Gregory Warnes
| Last Changed Rev: 31430 / Revision: 33132 | | Last Changed Date: 2008-04-29 16:50:18 -0700 |
| lamb1 | Linux (SUSE 10.1) / x86_64 | OK | OK | |
| wilson2 | Linux (openSUSE 10.3) / x86_64 | OK | OK | |
| wellington | Linux (openSUSE 10.3) / i686 | OK | OK | |
| liverpool | Windows Server 2003 R2 (32-bit) / x64 | OK | OK | OK |
| pitt | Mac OS X Tiger (10.4.11) / i386 | OK | OK | OK |
GeneticsDesign 1.8.0 Gregory Warnes
| Last Changed Rev: 31430 / Revision: 33132 | | Last Changed Date: 2008-04-29 16:50:18 -0700 |
| lamb1 | Linux (SUSE 10.1) / x86_64 | OK | OK | |
| wilson2 | Linux (openSUSE 10.3) / x86_64 | OK | OK | |
| wellington | Linux (openSUSE 10.3) / i686 | OK | OK | |
| liverpool | Windows Server 2003 R2 (32-bit) / x64 | OK | OK | OK |
| pitt | Mac OS X Tiger (10.4.11) / i386 | OK | OK | OK |
GeneticsPed 1.2.0 Gregor Gorjanc
| Last Changed Rev: 31430 / Revision: 33132 | | Last Changed Date: 2008-04-29 16:50:18 -0700 |
| lamb1 | Linux (SUSE 10.1) / x86_64 | OK | OK | |
| wilson2 | Linux (openSUSE 10.3) / x86_64 | OK | OK | |
| wellington | Linux (openSUSE 10.3) / i686 | OK | OK | |
| liverpool | Windows Server 2003 R2 (32-bit) / x64 | OK | OK | OK |
| pitt | Mac OS X Tiger (10.4.11) / i386 | OK | ERROR | OK |
GeneTraffic 1.12.0 Daniel Iordan
| Last Changed Rev: 31430 / Revision: 33132 | | Last Changed Date: 2008-04-29 16:50:18 -0700 |
| lamb1 | Linux (SUSE 10.1) / x86_64 | OK | OK | |
| wilson2 | Linux (openSUSE 10.3) / x86_64 | OK | OK | |
| wellington | Linux (openSUSE 10.3) / i686 | OK | OK | |
| liverpool | Windows Server 2003 R2 (32-bit) / x64 | OK | OK | OK |
| pitt | Mac OS X Tiger (10.4.11) / i386 | OK | OK | OK |
GenomeGraphs 1.0.1 Steffen Durinck
| Last Changed Rev: 33070 / Revision: 33132 | | Last Changed Date: 2008-08-05 20:03:36 -0700 |
| lamb1 | Linux (SUSE 10.1) / x86_64 | OK | OK | |
| wilson2 | Linux (openSUSE 10.3) / x86_64 | OK | OK | |
| wellington | Linux (openSUSE 10.3) / i686 | OK | OK | |
| liverpool | Windows Server 2003 R2 (32-bit) / x64 | OK | OK | OK |
| pitt | Mac OS X Tiger (10.4.11) / i386 | OK | OK | OK |
GEOmetadb 1.0.3 Jack Zhu
| Last Changed Rev: 32893 / Revision: 33132 | | Last Changed Date: 2008-07-24 08:15:55 -0700 |
| lamb1 | Linux (SUSE 10.1) / x86_64 | OK | OK | |
| wilson2 | Linux (openSUSE 10.3) / x86_64 | OK | OK | |
| wellington | Linux (openSUSE 10.3) / i686 | OK | OK | |
| liverpool | Windows Server 2003 R2 (32-bit) / x64 | OK | OK | OK |
| pitt | Mac OS X Tiger (10.4.11) / i386 | OK | OK | OK |
GEOquery 2.4.4 Sean Davis
| Last Changed Rev: 33111 / Revision: 33132 | | Last Changed Date: 2008-08-07 08:36:57 -0700 |
| lamb1 | Linux (SUSE 10.1) / x86_64 | OK | OK | |
| wilson2 | Linux (openSUSE 10.3) / x86_64 | OK | OK | |
| wellington | Linux (openSUSE 10.3) / i686 | OK | OK | |
| liverpool | Windows Server 2003 R2 (32-bit) / x64 | TIMEOUT | skipped | skipped |
| pitt | Mac OS X Tiger (10.4.11) / i386 | OK | OK | OK |
GGBase 2.0.4 Vince Carey
| Last Changed Rev: 31821 / Revision: 33132 | | Last Changed Date: 2008-05-20 14:37:00 -0700 |
| lamb1 | Linux (SUSE 10.1) / x86_64 | OK | OK | |
| wilson2 | Linux (openSUSE 10.3) / x86_64 | OK | OK | |
| wellington | Linux (openSUSE 10.3) / i686 | OK | OK | |
| liverpool | Windows Server 2003 R2 (32-bit) / x64 | OK | OK | OK |
| pitt | Mac OS X Tiger (10.4.11) / i386 | OK | OK | OK |
GGtools 2.0.2 Vince Carey
| Last Changed Rev: 31794 / Revision: 33132 | | Last Changed Date: 2008-05-19 15:09:13 -0700 |
| lamb1 | Linux (SUSE 10.1) / x86_64 | OK | OK | |
| wilson2 | Linux (openSUSE 10.3) / x86_64 | OK | OK | |
| wellington | Linux (openSUSE 10.3) / i686 | OK | OK | |
| liverpool | Windows Server 2003 R2 (32-bit) / x64 | OK | OK | OK |
| pitt | Mac OS X Tiger (10.4.11) / i386 | OK | OK | OK |
GLAD 1.16.0 Philippe Hupe
| Last Changed Rev: 31430 / Revision: 33132 | | Last Changed Date: 2008-04-29 16:50:18 -0700 |
| lamb1 | Linux (SUSE 10.1) / x86_64 | OK | OK | |
| wilson2 | Linux (openSUSE 10.3) / x86_64 | OK | OK | |
| wellington | Linux (openSUSE 10.3) / i686 | OK | OK | |
| liverpool | Windows Server 2003 R2 (32-bit) / x64 | OK | OK | OK |
| pitt | Mac OS X Tiger (10.4.11) / i386 | OK | OK | OK |
GlobalAncova 3.6.0 R. Meister
| Last Changed Rev: 31430 / Revision: 33132 | | Last Changed Date: 2008-04-29 16:50:18 -0700 |
| lamb1 | Linux (SUSE 10.1) / x86_64 | OK | OK | |
| wilson2 | Linux (openSUSE 10.3) / x86_64 | OK | OK | |
| wellington | Linux (openSUSE 10.3) / i686 | OK | OK | |
| liverpool | Windows Server 2003 R2 (32-bit) / x64 | OK | OK | OK |
| pitt | Mac OS X Tiger (10.4.11) / i386 | OK | OK | OK |
globaltest 4.10.0 Jelle Goeman
| Last Changed Rev: 31430 / Revision: 33132 | | Last Changed Date: 2008-04-29 16:50:18 -0700 |
| lamb1 | Linux (SUSE 10.1) / x86_64 | OK | OK | |
| wilson2 | Linux (openSUSE 10.3) / x86_64 | OK | OK | |
| wellington | Linux (openSUSE 10.3) / i686 | OK | OK | |
| liverpool | Windows Server 2003 R2 (32-bit) / x64 | OK | OK | OK |
| pitt | Mac OS X Tiger (10.4.11) / i386 | OK | WARNINGS | OK |
goProfiles 1.2.0 Alex Sanchez
| Last Changed Rev: 31430 / Revision: 33132 | | Last Changed Date: 2008-04-29 16:50:18 -0700 |
| lamb1 | Linux (SUSE 10.1) / x86_64 | OK | OK | |
| wilson2 | Linux (openSUSE 10.3) / x86_64 | OK | OK | |
| wellington | Linux (openSUSE 10.3) / i686 | OK | OK | |
| liverpool | Windows Server 2003 R2 (32-bit) / x64 | OK | OK | OK |
| pitt | Mac OS X Tiger (10.4.11) / i386 | OK | OK | OK |
GOstats 2.6.0 Robert Gentleman
| Last Changed Rev: 31430 / Revision: 33132 | | Last Changed Date: 2008-04-29 16:50:18 -0700 |
| lamb1 | Linux (SUSE 10.1) / x86_64 | OK | WARNINGS | |
| wilson2 | Linux (openSUSE 10.3) / x86_64 | OK | WARNINGS | |
| wellington | Linux (openSUSE 10.3) / i686 | OK | WARNINGS | |
| liverpool | Windows Server 2003 R2 (32-bit) / x64 | OK | WARNINGS | OK |
| pitt | Mac OS X Tiger (10.4.11) / i386 | OK | WARNINGS | OK |
goTools 1.12.0 Agnes Paquet
| Last Changed Rev: 31430 / Revision: 33132 | | Last Changed Date: 2008-04-29 16:50:18 -0700 |
| lamb1 | Linux (SUSE 10.1) / x86_64 | OK | OK | |
| wilson2 | Linux (openSUSE 10.3) / x86_64 | OK | OK | |
| wellington | Linux (openSUSE 10.3) / i686 | OK | OK | |
| liverpool | Windows Server 2003 R2 (32-bit) / x64 | OK | OK | OK |
| pitt | Mac OS X Tiger (10.4.11) / i386 | OK | OK | OK |
gpls 1.12.0 Biocore Team c/o BioC user list
| Last Changed Rev: 31430 / Revision: 33132 | | Last Changed Date: 2008-04-29 16:50:18 -0700 |
| lamb1 | Linux (SUSE 10.1) / x86_64 | OK | OK | |
| wilson2 | Linux (openSUSE 10.3) / x86_64 | OK | OK | |
| wellington | Linux (openSUSE 10.3) / i686 | OK | OK | |
| liverpool | Windows Server 2003 R2 (32-bit) / x64 | OK | OK | OK |
| pitt | Mac OS X Tiger (10.4.11) / i386 | OK | OK | OK |
graph 1.18.1 Robert Gentleman
| Last Changed Rev: 31560 / Revision: 33132 | | Last Changed Date: 2008-05-08 07:01:15 -0700 |
| lamb1 | Linux (SUSE 10.1) / x86_64 | OK | OK | |
| wilson2 | Linux (openSUSE 10.3) / x86_64 | OK | OK | |
| wellington | Linux (openSUSE 10.3) / i686 | OK | OK | |
| liverpool | Windows Server 2003 R2 (32-bit) / x64 | OK | OK | OK |
| pitt | Mac OS X Tiger (10.4.11) / i386 | OK | OK | OK |
GraphAlignment 1.2.0 Joern P. Meier
| Last Changed Rev: 31430 / Revision: 33132 | | Last Changed Date: 2008-04-29 16:50:18 -0700 |
| lamb1 | Linux (SUSE 10.1) / x86_64 | OK | OK | |
| wilson2 | Linux (openSUSE 10.3) / x86_64 | OK | OK | |
| wellington | Linux (openSUSE 10.3) / i686 | OK | OK | |
| liverpool | Windows Server 2003 R2 (32-bit) / x64 | OK | OK | OK |
| pitt | Mac OS X Tiger (10.4.11) / i386 | OK | OK | OK |
GraphAT 1.12.0 Thomas LaFramboise
| Last Changed Rev: 31430 / Revision: 33132 | | Last Changed Date: 2008-04-29 16:50:18 -0700 |
| lamb1 | Linux (SUSE 10.1) / x86_64 | OK | OK | |
| wilson2 | Linux (openSUSE 10.3) / x86_64 | OK | OK | |
| wellington | Linux (openSUSE 10.3) / i686 | OK | OK | |
| liverpool | Windows Server 2003 R2 (32-bit) / x64 | OK | OK | OK |
| pitt | Mac OS X Tiger (10.4.11) / i386 | OK | OK | OK |
GSEABase 1.2.2 Biocore Team c/o BioC user list
| Last Changed Rev: 32225 / Revision: 33132 | | Last Changed Date: 2008-06-09 20:20:04 -0700 |
| lamb1 | Linux (SUSE 10.1) / x86_64 | OK | OK | |
| wilson2 | Linux (openSUSE 10.3) / x86_64 | OK | OK | |
| wellington | Linux (openSUSE 10.3) / i686 | OK | OK | |
| liverpool | Windows Server 2003 R2 (32-bit) / x64 | OK | OK | OK |
| pitt | Mac OS X Tiger (10.4.11) / i386 | OK | OK | OK |
GSEAlm 1.0.0 Assaf Oron
| Last Changed Rev: 31430 / Revision: 33132 | | Last Changed Date: 2008-04-29 16:50:18 -0700 |
| lamb1 | Linux (SUSE 10.1) / x86_64 | OK | OK | |
| wilson2 | Linux (openSUSE 10.3) / x86_64 | OK | OK | |
| wellington | Linux (openSUSE 10.3) / i686 | OK | OK | |
| liverpool | Windows Server 2003 R2 (32-bit) / x64 | OK | OK | OK |
| pitt | Mac OS X Tiger (10.4.11) / i386 | OK | OK | OK |
|
| H A B C D E F G [H] I J K L M N O P Q R S T U V W X Y Z |
Harshlight 1.10.0 Maurizio Pellegrino
| Last Changed Rev: 31430 / Revision: 33132 | | Last Changed Date: 2008-04-29 16:50:18 -0700 |
| lamb1 | Linux (SUSE 10.1) / x86_64 | OK | OK | |
| wilson2 | Linux (openSUSE 10.3) / x86_64 | OK | OK | |
| wellington | Linux (openSUSE 10.3) / i686 | OK | OK | |
| liverpool | Windows Server 2003 R2 (32-bit) / x64 | OK | OK | OK |
| pitt | Mac OS X Tiger (10.4.11) / i386 | OK | OK | OK |
Heatplus 1.10.0 Alexander Ploner
| Last Changed Rev: 31430 / Revision: 33132 | | Last Changed Date: 2008-04-29 16:50:18 -0700 |
| lamb1 | Linux (SUSE 10.1) / x86_64 | OK | OK | |
| wilson2 | Linux (openSUSE 10.3) / x86_64 | OK | OK | |
| wellington | Linux (openSUSE 10.3) / i686 | OK | OK | |
| liverpool | Windows Server 2003 R2 (32-bit) / x64 | OK | OK | OK |
| pitt | Mac OS X Tiger (10.4.11) / i386 | OK | OK | OK |
HEM 1.12.0 HyungJun Cho
| Last Changed Rev: 31430 / Revision: 33132 | | Last Changed Date: 2008-04-29 16:50:18 -0700 |
| lamb1 | Linux (SUSE 10.1) / x86_64 | OK | OK | |
| wilson2 | Linux (openSUSE 10.3) / x86_64 | OK | OK | |
| wellington | Linux (openSUSE 10.3) / i686 | OK | OK | |
| liverpool | Windows Server 2003 R2 (32-bit) / x64 | OK | OK | OK |
| pitt | Mac OS X Tiger (10.4.11) / i386 | OK | OK | OK |
hexbin 1.14.0 Nicholas Lewin-Koh
| Last Changed Rev: 31430 / Revision: 33132 | | Last Changed Date: 2008-04-29 16:50:18 -0700 |
| lamb1 | Linux (SUSE 10.1) / x86_64 | OK | OK | |
| wilson2 | Linux (openSUSE 10.3) / x86_64 | OK | OK | |
| wellington | Linux (openSUSE 10.3) / i686 | OK | OK | |
| liverpool | Windows Server 2003 R2 (32-bit) / x64 | OK | OK | OK |
| pitt | Mac OS X Tiger (10.4.11) / i386 | OK | OK | OK |
hopach 1.14.0 Katherine S. Pollard
| Last Changed Rev: 31430 / Revision: 33132 | | Last Changed Date: 2008-04-29 16:50:18 -0700 |
| lamb1 | Linux (SUSE 10.1) / x86_64 | OK | OK | |
| wilson2 | Linux (openSUSE 10.3) / x86_64 | OK | OK | |
| wellington | Linux (openSUSE 10.3) / i686 | OK | OK | |
| liverpool | Windows Server 2003 R2 (32-bit) / x64 | OK | OK | OK |
| pitt | Mac OS X Tiger (10.4.11) / i386 | OK | OK | OK |
hypergraph 1.12.0 Robert Gentleman
| Last Changed Rev: 31430 / Revision: 33132 | | Last Changed Date: 2008-04-29 16:50:18 -0700 |
| lamb1 | Linux (SUSE 10.1) / x86_64 | OK | OK | |
| wilson2 | Linux (openSUSE 10.3) / x86_64 | OK | OK | |
| wellington | Linux (openSUSE 10.3) / i686 | OK | OK | |
| liverpool | Windows Server 2003 R2 (32-bit) / x64 | OK | OK | OK |
| pitt | Mac OS X Tiger (10.4.11) / i386 | OK | OK | OK |
|
| I A B C D E F G H [I] J K L M N O P Q R S T U V W X Y Z |
Icens 1.12.0 Biocore Team c/o BioC user list
| Last Changed Rev: 31430 / Revision: 33132 | | Last Changed Date: 2008-04-29 16:50:18 -0700 |
| lamb1 | Linux (SUSE 10.1) / x86_64 | OK | OK | |
| wilson2 | Linux (openSUSE 10.3) / x86_64 | OK | OK | |
| wellington | Linux (openSUSE 10.3) / i686 | OK | OK | |
| liverpool | Windows Server 2003 R2 (32-bit) / x64 | OK | OK | OK |
| pitt | Mac OS X Tiger (10.4.11) / i386 | OK | OK | OK |
idiogram 1.14.0 Karl J. Dykema
| Last Changed Rev: 31430 / Revision: 33132 | | Last Changed Date: 2008-04-29 16:50:18 -0700 |
| lamb1 | Linux (SUSE 10.1) / x86_64 | OK | OK | |
| wilson2 | Linux (openSUSE 10.3) / x86_64 | OK | OK | |
| wellington | Linux (openSUSE 10.3) / i686 | OK | OK | |
| liverpool | Windows Server 2003 R2 (32-bit) / x64 | OK | OK | OK |
| pitt | Mac OS X Tiger (10.4.11) / i386 | OK | OK | OK |
impute 1.12.0 Balasubramanian Narasimhan
| Last Changed Rev: 31430 / Revision: 33132 | | Last Changed Date: 2008-04-29 16:50:18 -0700 |
| lamb1 | Linux (SUSE 10.1) / x86_64 | OK | OK | |
| wilson2 | Linux (openSUSE 10.3) / x86_64 | OK | OK | |
| wellington | Linux (openSUSE 10.3) / i686 | OK | OK | |
| liverpool | Windows Server 2003 R2 (32-bit) / x64 | OK | OK | OK |
| pitt | Mac OS X Tiger (10.4.11) / i386 | OK | OK | OK |
|
| K A B C D E F G H I J [K] L M N O P Q R S T U V W X Y Z |
keggorth 1.2.0 VJ Carey
| Last Changed Rev: 31430 / Revision: 33132 | | Last Changed Date: 2008-04-29 16:50:18 -0700 |
| lamb1 | Linux (SUSE 10.1) / x86_64 | OK | OK | |
| wilson2 | Linux (openSUSE 10.3) / x86_64 | OK | OK | |
| wellington | Linux (openSUSE 10.3) / i686 | OK | OK | |
| liverpool | Windows Server 2003 R2 (32-bit) / x64 | OK | OK | OK |
| pitt | Mac OS X Tiger (10.4.11) / i386 | OK | OK | OK |
KEGGSOAP 1.14.0 Robert Gentleman
| Last Changed Rev: 31430 / Revision: 33132 | | Last Changed Date: 2008-04-29 16:50:18 -0700 |
| lamb1 | Linux (SUSE 10.1) / x86_64 | OK | OK | |
| wilson2 | Linux (openSUSE 10.3) / x86_64 | OK | OK | |
| wellington | Linux (openSUSE 10.3) / i686 | OK | OK | |
| liverpool | Windows Server 2003 R2 (32-bit) / x64 | OK | OK | OK |
| pitt | Mac OS X Tiger (10.4.11) / i386 | OK | OK | OK |
|
| L A B C D E F G H I J K [L] M N O P Q R S T U V W X Y Z |
lapmix 1.6.0 Yann Ruffieux
| Last Changed Rev: 31430 / Revision: 33132 | | Last Changed Date: 2008-04-29 16:50:18 -0700 |
| lamb1 | Linux (SUSE 10.1) / x86_64 | OK | OK | |
| wilson2 | Linux (openSUSE 10.3) / x86_64 | OK | OK | |
| wellington | Linux (openSUSE 10.3) / i686 | OK | OK | |
| liverpool | Windows Server 2003 R2 (32-bit) / x64 | OK | OK | OK |
| pitt | Mac OS X Tiger (10.4.11) / i386 | OK | OK | OK |
LBE 1.8.0 Cyril Dalmasso
| Last Changed Rev: 31430 / Revision: 33132 | | Last Changed Date: 2008-04-29 16:50:18 -0700 |
| lamb1 | Linux (SUSE 10.1) / x86_64 | OK | OK | |
| wilson2 | Linux (openSUSE 10.3) / x86_64 | OK | OK | |
| wellington | Linux (openSUSE 10.3) / i686 | OK | OK | |
| liverpool | Windows Server 2003 R2 (32-bit) / x64 | OK | OK | OK |
| pitt | Mac OS X Tiger (10.4.11) / i386 | OK | OK | OK |
limma 2.14.5 Gordon Smyth
| Last Changed Rev: 32237 / Revision: 33132 | | Last Changed Date: 2008-06-10 18:48:31 -0700 |
| lamb1 | Linux (SUSE 10.1) / x86_64 | OK | OK | |
| wilson2 | Linux (openSUSE 10.3) / x86_64 | OK | OK | |
| wellington | Linux (openSUSE 10.3) / i686 | OK | OK | |
| liverpool | Windows Server 2003 R2 (32-bit) / x64 | OK | OK | OK |
| pitt | Mac OS X Tiger (10.4.11) / i386 | OK | OK | OK |
limmaGUI 1.16.0 Keith Satterley
| Last Changed Rev: 31430 / Revision: 33132 | | Last Changed Date: 2008-04-29 16:50:18 -0700 |
| lamb1 | Linux (SUSE 10.1) / x86_64 | OK | OK | |
| wilson2 | Linux (openSUSE 10.3) / x86_64 | OK | OK | |
| wellington | Linux (openSUSE 10.3) / i686 | OK | OK | |
| liverpool | Windows Server 2003 R2 (32-bit) / x64 | OK | OK | OK |
| pitt | Mac OS X Tiger (10.4.11) / i386 | OK | WARNINGS | OK |
LMGene 1.10.0 John Tillinghast
| Last Changed Rev: 31430 / Revision: 33132 | | Last Changed Date: 2008-04-29 16:50:18 -0700 |
| lamb1 | Linux (SUSE 10.1) / x86_64 | OK | OK | |
| wilson2 | Linux (openSUSE 10.3) / x86_64 | OK | OK | |
| wellington | Linux (openSUSE 10.3) / i686 | OK | OK | |
| liverpool | Windows Server 2003 R2 (32-bit) / x64 | OK | OK | OK |
| pitt | Mac OS X Tiger (10.4.11) / i386 | OK | OK | OK |
logicFS 1.10.0 Holger Schwender
| Last Changed Rev: 31430 / Revision: 33132 | | Last Changed Date: 2008-04-29 16:50:18 -0700 |
| lamb1 | Linux (SUSE 10.1) / x86_64 | OK | OK | |
| wilson2 | Linux (openSUSE 10.3) / x86_64 | OK | OK | |
| wellington | Linux (openSUSE 10.3) / i686 | OK | OK | |
| liverpool | Windows Server 2003 R2 (32-bit) / x64 | OK | OK | OK |
| pitt | Mac OS X Tiger (10.4.11) / i386 | OK | OK | OK |
LPE 1.14.0 Nitin Jain
| Last Changed Rev: 31430 / Revision: 33132 | | Last Changed Date: 2008-04-29 16:50:18 -0700 |
| lamb1 | Linux (SUSE 10.1) / x86_64 | OK | OK | |
| wilson2 | Linux (openSUSE 10.3) / x86_64 | OK | OK | |
| wellington | Linux (openSUSE 10.3) / i686 | OK | OK | |
| liverpool | Windows Server 2003 R2 (32-bit) / x64 | OK | OK | OK |
| pitt | Mac OS X Tiger (10.4.11) / i386 | OK | OK | OK |
lumi 1.6.2 Pan Du
| Last Changed Rev: 32496 / Revision: 33132 | | Last Changed Date: 2008-06-30 10:58:38 -0700 |
| lamb1 | Linux (SUSE 10.1) / x86_64 | OK | OK | |
| wilson2 | Linux (openSUSE 10.3) / x86_64 | OK | OK | |
| wellington | Linux (openSUSE 10.3) / i686 | OK | OK | |
| liverpool | Windows Server 2003 R2 (32-bit) / x64 | OK | OK | OK |
| pitt | Mac OS X Tiger (10.4.11) / i386 | OK | OK | OK |
|
| M A B C D E F G H I J K L [M] N O P Q R S T U V W X Y Z |
maanova 1.10.0 Hyuna Yang
| Last Changed Rev: 31430 / Revision: 33132 | | Last Changed Date: 2008-04-29 16:50:18 -0700 |
| lamb1 | Linux (SUSE 10.1) / x86_64 | OK | OK | |
| wilson2 | Linux (openSUSE 10.3) / x86_64 | OK | OK | |
| wellington | Linux (openSUSE 10.3) / i686 | OK | OK | |
| liverpool | Windows Server 2003 R2 (32-bit) / x64 | OK | OK | OK |
| pitt | Mac OS X Tiger (10.4.11) / i386 | OK | OK | OK |
macat 1.14.0 Joern Toedling
| Last Changed Rev: 31430 / Revision: 33132 | | Last Changed Date: 2008-04-29 16:50:18 -0700 |
| lamb1 | Linux (SUSE 10.1) / x86_64 | OK | OK | |
| wilson2 | Linux (openSUSE 10.3) / x86_64 | OK | OK | |
| wellington | Linux (openSUSE 10.3) / i686 | OK | OK | |
| liverpool | Windows Server 2003 R2 (32-bit) / x64 | OK | OK | OK |
| pitt | Mac OS X Tiger (10.4.11) / i386 | OK | OK | OK |
maCorrPlot 1.10.0 Alexander Ploner
| Last Changed Rev: 31430 / Revision: 33132 | | Last Changed Date: 2008-04-29 16:50:18 -0700 |
| lamb1 | Linux (SUSE 10.1) / x86_64 | OK | OK | |
| wilson2 | Linux (openSUSE 10.3) / x86_64 | OK | OK | |
| wellington | Linux (openSUSE 10.3) / i686 | OK | OK | |
| liverpool | Windows Server 2003 R2 (32-bit) / x64 | OK | OK | OK |
| pitt | Mac OS X Tiger (10.4.11) / i386 | OK | OK | OK |
maDB 1.12.0 Johannes Rainer
| Last Changed Rev: 31430 / Revision: 33132 | | Last Changed Date: 2008-04-29 16:50:18 -0700 |
| lamb1 | Linux (SUSE 10.1) / x86_64 | OK | OK | |
| wilson2 | Linux (openSUSE 10.3) / x86_64 | OK | OK | |
| wellington | Linux (openSUSE 10.3) / i686 | OK | OK | |
| liverpool | Windows Server 2003 R2 (32-bit) / x64 | N O T S U P P O R T E D |
| pitt | Mac OS X Tiger (10.4.11) / i386 | OK | OK | OK |
made4 1.14.0 Aedin Culhane
| Last Changed Rev: 31430 / Revision: 33132 | | Last Changed Date: 2008-04-29 16:50:18 -0700 |
| lamb1 | Linux (SUSE 10.1) / x86_64 | OK | OK | |
| wilson2 | Linux (openSUSE 10.3) / x86_64 | OK | OK | |
| wellington | Linux (openSUSE 10.3) / i686 | OK | OK | |
| liverpool | Windows Server 2003 R2 (32-bit) / x64 | OK | OK | OK |
| pitt | Mac OS X Tiger (10.4.11) / i386 | OK | OK | OK |
maigesPack 1.4.0 Gustavo H. Esteves
| Last Changed Rev: 31430 / Revision: 33132 | | Last Changed Date: 2008-04-29 16:50:18 -0700 |
| lamb1 | Linux (SUSE 10.1) / x86_64 | OK | OK | |
| wilson2 | Linux (openSUSE 10.3) / x86_64 | OK | OK | |
| wellington | Linux (openSUSE 10.3) / i686 | OK | OK | |
| liverpool | Windows Server 2003 R2 (32-bit) / x64 | OK | OK | OK |
| pitt | Mac OS X Tiger (10.4.11) / i386 | OK | OK | OK |
makecdfenv 1.18.0 James W. MacDonald
| Last Changed Rev: 31430 / Revision: 33132 | | Last Changed Date: 2008-04-29 16:50:18 -0700 |
| lamb1 | Linux (SUSE 10.1) / x86_64 | OK | OK | |
| wilson2 | Linux (openSUSE 10.3) / x86_64 | OK | OK | |
| wellington | Linux (openSUSE 10.3) / i686 | OK | OK | |
| liverpool | Windows Server 2003 R2 (32-bit) / x64 | OK | OK | OK |
| pitt | Mac OS X Tiger (10.4.11) / i386 | OK | OK | OK |
makePlatformDesign 1.4.0 Benilton Carvalho
| Last Changed Rev: 31430 / Revision: 33132 | | Last Changed Date: 2008-04-29 16:50:18 -0700 |
| lamb1 | Linux (SUSE 10.1) / x86_64 | OK | OK | |
| wilson2 | Linux (openSUSE 10.3) / x86_64 | OK | OK | |
| wellington | Linux (openSUSE 10.3) / i686 | OK | OK | |
| liverpool | Windows Server 2003 R2 (32-bit) / x64 | OK | OK | OK |
| pitt | Mac OS X Tiger (10.4.11) / i386 | OK | OK | OK |
MANOR 1.12.0 Pierre Neuvial
| Last Changed Rev: 31430 / Revision: 33132 | | Last Changed Date: 2008-04-29 16:50:18 -0700 |
| lamb1 | Linux (SUSE 10.1) / x86_64 | OK | OK | |
| wilson2 | Linux (openSUSE 10.3) / x86_64 | OK | OK | |
| wellington | Linux (openSUSE 10.3) / i686 | OK | OK | |
| liverpool | Windows Server 2003 R2 (32-bit) / x64 | OK | OK | OK |
| pitt | Mac OS X Tiger (10.4.11) / i386 | OK | OK | OK |
MantelCorr 1.10.0 Brian Steinmeyer
| Last Changed Rev: 31430 / Revision: 33132 | | Last Changed Date: 2008-04-29 16:50:18 -0700 |
| lamb1 | Linux (SUSE 10.1) / x86_64 | OK | OK | |
| wilson2 | Linux (openSUSE 10.3) / x86_64 | OK | OK | |
| wellington | Linux (openSUSE 10.3) / i686 | OK | OK | |
| liverpool | Windows Server 2003 R2 (32-bit) / x64 | OK | OK | OK |
| pitt | Mac OS X Tiger (10.4.11) / i386 | OK | OK | OK |
marray 1.18.0 Yee Hwa (Jean) Yang
| Last Changed Rev: 31430 / Revision: 33132 | | Last Changed Date: 2008-04-29 16:50:18 -0700 |
| lamb1 | Linux (SUSE 10.1) / x86_64 | OK | OK | |
| wilson2 | Linux (openSUSE 10.3) / x86_64 | OK | OK | |
| wellington | Linux (openSUSE 10.3) / i686 | OK | OK | |
| liverpool | Windows Server 2003 R2 (32-bit) / x64 | OK | OK | OK |
| pitt | Mac OS X Tiger (10.4.11) / i386 | OK | OK | OK |
maSigPro 1.12.0 Ana Conesa
| Last Changed Rev: 31430 / Revision: 33132 | | Last Changed Date: 2008-04-29 16:50:18 -0700 |
| lamb1 | Linux (SUSE 10.1) / x86_64 | OK | OK | |
| wilson2 | Linux (openSUSE 10.3) / x86_64 | OK | OK | |
| wellington | Linux (openSUSE 10.3) / i686 | OK | OK | |
| liverpool | Windows Server 2003 R2 (32-bit) / x64 | OK | OK | OK |
| pitt | Mac OS X Tiger (10.4.11) / i386 | OK | OK | OK |
MassSpecWavelet 1.6.0 Pan Du
| Last Changed Rev: 31430 / Revision: 33132 | | Last Changed Date: 2008-04-29 16:50:18 -0700 |
| lamb1 | Linux (SUSE 10.1) / x86_64 | OK | OK | |
| wilson2 | Linux (openSUSE 10.3) / x86_64 | OK | OK | |
| wellington | Linux (openSUSE 10.3) / i686 | OK | OK | |
| liverpool | Windows Server 2003 R2 (32-bit) / x64 | OK | OK | OK |
| pitt | Mac OS X Tiger (10.4.11) / i386 | OK | OK | OK |
matchprobes 1.12.0 Biocore Team c/o BioC user list
| Last Changed Rev: 31430 / Revision: 33132 | | Last Changed Date: 2008-04-29 16:50:18 -0700 |
| lamb1 | Linux (SUSE 10.1) / x86_64 | OK | OK | |
| wilson2 | Linux (openSUSE 10.3) / x86_64 | OK | OK | |
| wellington | Linux (openSUSE 10.3) / i686 | OK | OK | |
| liverpool | Windows Server 2003 R2 (32-bit) / x64 | OK | OK | OK |
| pitt | Mac OS X Tiger (10.4.11) / i386 | OK | OK | OK |
mdqc 1.2.1 Gabriela Cohen-Freue
| Last Changed Rev: 31651 / Revision: 33132 | | Last Changed Date: 2008-05-13 11:04:13 -0700 |
| lamb1 | Linux (SUSE 10.1) / x86_64 | OK | OK | |
| wilson2 | Linux (openSUSE 10.3) / x86_64 | OK | OK | |
| wellington | Linux (openSUSE 10.3) / i686 | OK | OK | |
| liverpool | Windows Server 2003 R2 (32-bit) / x64 | OK | OK | OK |
| pitt | Mac OS X Tiger (10.4.11) / i386 | OK | OK | OK |
MeasurementError.cor 1.12.0 Beiying Ding
| Last Changed Rev: 31430 / Revision: 33132 | | Last Changed Date: 2008-04-29 16:50:18 -0700 |
| lamb1 | Linux (SUSE 10.1) / x86_64 | OK | OK | |
| wilson2 | Linux (openSUSE 10.3) / x86_64 | OK | OK | |
| wellington | Linux (openSUSE 10.3) / i686 | OK | OK | |
| liverpool | Windows Server 2003 R2 (32-bit) / x64 | OK | OK | OK |
| pitt | Mac OS X Tiger (10.4.11) / i386 | OK | OK | OK |
MergeMaid 2.12.0 Xiaogang Zhong
| Last Changed Rev: 31430 / Revision: 33132 | | Last Changed Date: 2008-04-29 16:50:18 -0700 |
| lamb1 | Linux (SUSE 10.1) / x86_64 | OK | OK | |
| wilson2 | Linux (openSUSE 10.3) / x86_64 | OK | OK | |
| wellington | Linux (openSUSE 10.3) / i686 | OK | OK | |
| liverpool | Windows Server 2003 R2 (32-bit) / x64 | OK | OK | OK |
| pitt | Mac OS X Tiger (10.4.11) / i386 | OK | OK | OK |
metaArray 1.14.0 Hyungwon Choi
| Last Changed Rev: 31430 / Revision: 33132 | | Last Changed Date: 2008-04-29 16:50:18 -0700 |
| lamb1 | Linux (SUSE 10.1) / x86_64 | OK | OK | |
| wilson2 | Linux (openSUSE 10.3) / x86_64 | OK | OK | |
| wellington | Linux (openSUSE 10.3) / i686 | OK | OK | |
| liverpool | Windows Server 2003 R2 (32-bit) / x64 | OK | OK | OK |
| pitt | Mac OS X Tiger (10.4.11) / i386 | OK | OK | OK |
Mfuzz 1.10.0 Matthias Futschik
| Last Changed Rev: 31430 / Revision: 33132 | | Last Changed Date: 2008-04-29 16:50:18 -0700 |
| lamb1 | Linux (SUSE 10.1) / x86_64 | OK | OK | |
| wilson2 | Linux (openSUSE 10.3) / x86_64 | OK | OK | |
| wellington | Linux (openSUSE 10.3) / i686 | OK | OK | |
| liverpool | Windows Server 2003 R2 (32-bit) / x64 | OK | OK | OK |
| pitt | Mac OS X Tiger (10.4.11) / i386 | OK | OK | OK |
MiPP 1.12.0 Sukwoo Kim
| Last Changed Rev: 31430 / Revision: 33132 | | Last Changed Date: 2008-04-29 16:50:18 -0700 |
| lamb1 | Linux (SUSE 10.1) / x86_64 | OK | OK | |
| wilson2 | Linux (openSUSE 10.3) / x86_64 | OK | OK | |
| wellington | Linux (openSUSE 10.3) / i686 | OK | OK | |
| liverpool | Windows Server 2003 R2 (32-bit) / x64 | OK | OK | OK |
| pitt | Mac OS X Tiger (10.4.11) / i386 | OK | OK | OK |
MLInterfaces 1.14.1 V. Carey
| Last Changed Rev: 32886 / Revision: 33132 | | Last Changed Date: 2008-07-24 03:35:26 -0700 |
| lamb1 | Linux (SUSE 10.1) / x86_64 | OK | OK | |
| wilson2 | Linux (openSUSE 10.3) / x86_64 | OK | OK | |
| wellington | Linux (openSUSE 10.3) / i686 | OK | OK | |
| liverpool | Windows Server 2003 R2 (32-bit) / x64 | OK | OK | OK |
| pitt | Mac OS X Tiger (10.4.11) / i386 | OK | OK | OK |
multtest 1.20.0 Katherine S. Pollard
| Last Changed Rev: 31430 / Revision: 33132 | | Last Changed Date: 2008-04-29 16:50:18 -0700 |
| lamb1 | Linux (SUSE 10.1) / x86_64 | OK | OK | |
| wilson2 | Linux (openSUSE 10.3) / x86_64 | OK | OK | |
| wellington | Linux (openSUSE 10.3) / i686 | OK | OK | |
| liverpool | Windows Server 2003 R2 (32-bit) / x64 | OK | OK | OK |
| pitt | Mac OS X Tiger (10.4.11) / i386 | OK | OK | OK |
MVCClass 1.14.0 Elizabeth Whalen
| Last Changed Rev: 31430 / Revision: 33132 | | Last Changed Date: 2008-04-29 16:50:18 -0700 |
| lamb1 | Linux (SUSE 10.1) / x86_64 | OK | OK | |
| wilson2 | Linux (openSUSE 10.3) / x86_64 | OK | OK | |
| wellington | Linux (openSUSE 10.3) / i686 | OK | OK | |
| liverpool | Windows Server 2003 R2 (32-bit) / x64 | OK | OK | OK |
| pitt | Mac OS X Tiger (10.4.11) / i386 | OK | OK | OK |
|
| N A B C D E F G H I J K L M [N] O P Q R S T U V W X Y Z |
nem 2.4.0 Florian Markowetz
| Last Changed Rev: 31430 / Revision: 33132 | | Last Changed Date: 2008-04-29 16:50:18 -0700 |
| lamb1 | Linux (SUSE 10.1) / x86_64 | OK | OK | |
| wilson2 | Linux (openSUSE 10.3) / x86_64 | OK | OK | |
| wellington | Linux (openSUSE 10.3) / i686 | OK | OK | |
| liverpool | Windows Server 2003 R2 (32-bit) / x64 | OK | OK | OK |
| pitt | Mac OS X Tiger (10.4.11) / i386 | OK | OK | OK |
nnNorm 2.4.0 Adi Laurentiu Tarca
| Last Changed Rev: 31430 / Revision: 33132 | | Last Changed Date: 2008-04-29 16:50:18 -0700 |
| lamb1 | Linux (SUSE 10.1) / x86_64 | OK | OK | |
| wilson2 | Linux (openSUSE 10.3) / x86_64 | OK | OK | |
| wellington | Linux (openSUSE 10.3) / i686 | OK | OK | |
| liverpool | Windows Server 2003 R2 (32-bit) / x64 | OK | OK | OK |
| pitt | Mac OS X Tiger (10.4.11) / i386 | OK | OK | OK |
nudge 1.6.0 N. Dean
| Last Changed Rev: 31430 / Revision: 33132 | | Last Changed Date: 2008-04-29 16:50:18 -0700 |
| lamb1 | Linux (SUSE 10.1) / x86_64 | OK | OK | |
| wilson2 | Linux (openSUSE 10.3) / x86_64 | OK | OK | |
| wellington | Linux (openSUSE 10.3) / i686 | OK | OK | |
| liverpool | Windows Server 2003 R2 (32-bit) / x64 | OK | OK | OK |
| pitt | Mac OS X Tiger (10.4.11) / i386 | OK | OK | OK |
|
| O A B C D E F G H I J K L M N [O] P Q R S T U V W X Y Z |
occugene 1.0.0 Oliver Will
| Last Changed Rev: 31430 / Revision: 33132 | | Last Changed Date: 2008-04-29 16:50:18 -0700 |
| lamb1 | Linux (SUSE 10.1) / x86_64 | OK | OK | |
| wilson2 | Linux (openSUSE 10.3) / x86_64 | OK | OK | |
| wellington | Linux (openSUSE 10.3) / i686 | OK | OK | |
| liverpool | Windows Server 2003 R2 (32-bit) / x64 | OK | OK | OK |
| pitt | Mac OS X Tiger (10.4.11) / i386 | OK | OK | OK |
OCplus 1.14.0 Alexander Ploner
| Last Changed Rev: 31430 / Revision: 33132 | | Last Changed Date: 2008-04-29 16:50:18 -0700 |
| lamb1 | Linux (SUSE 10.1) / x86_64 | OK | OK | |
| wilson2 | Linux (openSUSE 10.3) / x86_64 | OK | OK | |
| wellington | Linux (openSUSE 10.3) / i686 | OK | OK | |
| liverpool | Windows Server 2003 R2 (32-bit) / x64 | OK | OK | OK |
| pitt | Mac OS X Tiger (10.4.11) / i386 | OK | OK | OK |
oligo 1.4.0 Benilton Carvalho
| Last Changed Rev: 31430 / Revision: 33132 | | Last Changed Date: 2008-04-29 16:50:18 -0700 |
| lamb1 | Linux (SUSE 10.1) / x86_64 | OK | OK | |
| wilson2 | Linux (openSUSE 10.3) / x86_64 | OK | OK | |
| wellington | Linux (openSUSE 10.3) / i686 | OK | OK | |
| liverpool | Windows Server 2003 R2 (32-bit) / x64 | OK | OK | OK |
| pitt | Mac OS X Tiger (10.4.11) / i386 | OK | OK | OK |
oligoClasses 1.2.0 Benilton Carvalho
| Last Changed Rev: 31430 / Revision: 33132 | | Last Changed Date: 2008-04-29 16:50:18 -0700 |
| lamb1 | Linux (SUSE 10.1) / x86_64 | OK | OK | |
| wilson2 | Linux (openSUSE 10.3) / x86_64 | OK | OK | |
| wellington | Linux (openSUSE 10.3) / i686 | OK | OK | |
| liverpool | Windows Server 2003 R2 (32-bit) / x64 | OK | OK | OK |
| pitt | Mac OS X Tiger (10.4.11) / i386 | OK | OK | OK |
OLIN 1.16.0 Matthias Futschik
| Last Changed Rev: 31430 / Revision: 33132 | | Last Changed Date: 2008-04-29 16:50:18 -0700 |
| lamb1 | Linux (SUSE 10.1) / x86_64 | OK | OK | |
| wilson2 | Linux (openSUSE 10.3) / x86_64 | OK | OK | |
| wellington | Linux (openSUSE 10.3) / i686 | OK | OK | |
| liverpool | Windows Server 2003 R2 (32-bit) / x64 | OK | OK | OK |
| pitt | Mac OS X Tiger (10.4.11) / i386 | OK | OK | OK |
OLINgui 1.14.0 Matthias Futschik
| Last Changed Rev: 31430 / Revision: 33132 | | Last Changed Date: 2008-04-29 16:50:18 -0700 |
| lamb1 | Linux (SUSE 10.1) / x86_64 | OK | OK | |
| wilson2 | Linux (openSUSE 10.3) / x86_64 | OK | OK | |
| wellington | Linux (openSUSE 10.3) / i686 | OK | OK | |
| liverpool | Windows Server 2003 R2 (32-bit) / x64 | OK | OK | OK |
| pitt | Mac OS X Tiger (10.4.11) / i386 | OK | OK | OK |
oneChannelGUI 1.6.4 Raffaele A Calogero
| Last Changed Rev: 32515 / Revision: 33132 | | Last Changed Date: 2008-07-01 10:00:48 -0700 |
| lamb1 | Linux (SUSE 10.1) / x86_64 | OK | OK | |
| wilson2 | Linux (openSUSE 10.3) / x86_64 | OK | OK | |
| wellington | Linux (openSUSE 10.3) / i686 | OK | OK | |
| liverpool | Windows Server 2003 R2 (32-bit) / x64 | OK | OK | OK |
| pitt | Mac OS X Tiger (10.4.11) / i386 | OK | OK | OK |
ontoTools 1.16.0 Vince Carey
| Last Changed Rev: 31430 / Revision: 33132 | | Last Changed Date: 2008-04-29 16:50:18 -0700 |
| lamb1 | Linux (SUSE 10.1) / x86_64 | OK | OK | |
| wilson2 | Linux (openSUSE 10.3) / x86_64 | OK | OK | |
| wellington | Linux (openSUSE 10.3) / i686 | OK | OK | |
| liverpool | Windows Server 2003 R2 (32-bit) / x64 | OK | OK | OK |
| pitt | Mac OS X Tiger (10.4.11) / i386 | OK | OK | OK |
OrderedList 1.12.0 Claudio Lottaz
| Last Changed Rev: 31430 / Revision: 33132 | | Last Changed Date: 2008-04-29 16:50:18 -0700 |
| lamb1 | Linux (SUSE 10.1) / x86_64 | OK | OK | |
| wilson2 | Linux (openSUSE 10.3) / x86_64 | OK | OK | |
| wellington | Linux (openSUSE 10.3) / i686 | OK | OK | |
| liverpool | Windows Server 2003 R2 (32-bit) / x64 | OK | OK | OK |
| pitt | Mac OS X Tiger (10.4.11) / i386 | OK | OK | OK |
OutlierD 1.4.0 Sukwoo Kim
| Last Changed Rev: 31430 / Revision: 33132 | | Last Changed Date: 2008-04-29 16:50:18 -0700 |
| lamb1 | Linux (SUSE 10.1) / x86_64 | OK | OK | |
| wilson2 | Linux (openSUSE 10.3) / x86_64 | OK | OK | |
| wellington | Linux (openSUSE 10.3) / i686 | OK | OK | |
| liverpool | Windows Server 2003 R2 (32-bit) / x64 | OK | OK | OK |
| pitt | Mac OS X Tiger (10.4.11) / i386 | OK | OK | OK |
|
| P A B C D E F G H I J K L M N O [P] Q R S T U V W X Y Z |
pamr 1.38.0 Rob Tibshirani
| Last Changed Rev: 31430 / Revision: 33132 | | Last Changed Date: 2008-04-29 16:50:18 -0700 |
| lamb1 | Linux (SUSE 10.1) / x86_64 | OK | OK | |
| wilson2 | Linux (openSUSE 10.3) / x86_64 | OK | OK | |
| wellington | Linux (openSUSE 10.3) / i686 | OK | OK | |
| liverpool | Windows Server 2003 R2 (32-bit) / x64 | OK | OK | OK |
| pitt | Mac OS X Tiger (10.4.11) / i386 | OK | OK | OK |
panp 1.10.0 Peter Warren
| Last Changed Rev: 31430 / Revision: 33132 | | Last Changed Date: 2008-04-29 16:50:18 -0700 |
| lamb1 | Linux (SUSE 10.1) / x86_64 | OK | OK | |
| wilson2 | Linux (openSUSE 10.3) / x86_64 | OK | OK | |
| wellington | Linux (openSUSE 10.3) / i686 | OK | OK | |
| liverpool | Windows Server 2003 R2 (32-bit) / x64 | OK | OK | OK |
| pitt | Mac OS X Tiger (10.4.11) / i386 | OK | OK | OK |
pathRender 1.8.1 Li Long
| Last Changed Rev: 31650 / Revision: 33132 | | Last Changed Date: 2008-05-13 11:00:36 -0700 |
| lamb1 | Linux (SUSE 10.1) / x86_64 | OK | OK | |
| wilson2 | Linux (openSUSE 10.3) / x86_64 | OK | OK | |
| wellington | Linux (openSUSE 10.3) / i686 | OK | OK | |
| liverpool | Windows Server 2003 R2 (32-bit) / x64 | OK | OK | OK |
| pitt | Mac OS X Tiger (10.4.11) / i386 | OK | OK | OK |
pcaMethods 1.16.0 Wolfram Stacklies
| Last Changed Rev: 31430 / Revision: 33132 | | Last Changed Date: 2008-04-29 16:50:18 -0700 |
| lamb1 | Linux (SUSE 10.1) / x86_64 | OK | OK | |
| wilson2 | Linux (openSUSE 10.3) / x86_64 | OK | OK | |
| wellington | Linux (openSUSE 10.3) / i686 | OK | OK | |
| liverpool | Windows Server 2003 R2 (32-bit) / x64 | OK | OK | OK |
| pitt | Mac OS X Tiger (10.4.11) / i386 | OK | OK | OK |
pcot2 1.8.0 Sarah Song
| Last Changed Rev: 31430 / Revision: 33132 | | Last Changed Date: 2008-04-29 16:50:18 -0700 |
| lamb1 | Linux (SUSE 10.1) / x86_64 | OK | OK | |
| wilson2 | Linux (openSUSE 10.3) / x86_64 | OK | OK | |
| wellington | Linux (openSUSE 10.3) / i686 | OK | OK | |
| liverpool | Windows Server 2003 R2 (32-bit) / x64 | OK | OK | OK |
| pitt | Mac OS X Tiger (10.4.11) / i386 | OK | OK | OK |
PCpheno 1.2.0 Nolwenn Le Meur
| Last Changed Rev: 31430 / Revision: 33132 | | Last Changed Date: 2008-04-29 16:50:18 -0700 |
| lamb1 | Linux (SUSE 10.1) / x86_64 | OK | WARNINGS | |
| wilson2 | Linux (openSUSE 10.3) / x86_64 | OK | WARNINGS | |
| wellington | Linux (openSUSE 10.3) / i686 | OK | WARNINGS | |
| liverpool | Windows Server 2003 R2 (32-bit) / x64 | OK | WARNINGS | OK |
| pitt | Mac OS X Tiger (10.4.11) / i386 | OK | WARNINGS | OK |
pdInfoBuilder 1.4.0 Benilton Carvalho
| Last Changed Rev: 31430 / Revision: 33132 | | Last Changed Date: 2008-04-29 16:50:18 -0700 |
| lamb1 | Linux (SUSE 10.1) / x86_64 | OK | OK | |
| wilson2 | Linux (openSUSE 10.3) / x86_64 | OK | OK | |
| wellington | Linux (openSUSE 10.3) / i686 | OK | OK | |
| liverpool | Windows Server 2003 R2 (32-bit) / x64 | OK | OK | OK |
| pitt | Mac OS X Tiger (10.4.11) / i386 | OK | OK | OK |
pdmclass 1.12.0 James W. MacDonald
| Last Changed Rev: 31430 / Revision: 33132 | | Last Changed Date: 2008-04-29 16:50:18 -0700 |
| lamb1 | Linux (SUSE 10.1) / x86_64 | OK | OK | |
| wilson2 | Linux (openSUSE 10.3) / x86_64 | OK | OK | |
| wellington | Linux (openSUSE 10.3) / i686 | OK | OK | |
| liverpool | Windows Server 2003 R2 (32-bit) / x64 | OK | OK | OK |
| pitt | Mac OS X Tiger (10.4.11) / i386 | OK | OK | OK |
PGSEA 1.8.0 Karl Dykema
| Last Changed Rev: 31430 / Revision: 33132 | | Last Changed Date: 2008-04-29 16:50:18 -0700 |
| lamb1 | Linux (SUSE 10.1) / x86_64 | OK | OK | |
| wilson2 | Linux (openSUSE 10.3) / x86_64 | OK | OK | |
| wellington | Linux (openSUSE 10.3) / i686 | OK | OK | |
| liverpool | Windows Server 2003 R2 (32-bit) / x64 | OK | OK | OK |
| pitt | Mac OS X Tiger (10.4.11) / i386 | OK | OK | OK |
pgUtils 1.12.0 Johannes Rainer
| Last Changed Rev: 31430 / Revision: 33132 | | Last Changed Date: 2008-04-29 16:50:18 -0700 |
| lamb1 | Linux (SUSE 10.1) / x86_64 | OK | OK | |
| wilson2 | Linux (openSUSE 10.3) / x86_64 | OK | OK | |
| wellington | Linux (openSUSE 10.3) / i686 | OK | OK | |
| liverpool | Windows Server 2003 R2 (32-bit) / x64 | N O T S U P P O R T E D |
| pitt | Mac OS X Tiger (10.4.11) / i386 | OK | OK | OK |
pickgene 1.12.0 Brian S. Yandell
| Last Changed Rev: 31430 / Revision: 33132 | | Last Changed Date: 2008-04-29 16:50:18 -0700 |
| lamb1 | Linux (SUSE 10.1) / x86_64 | OK | OK | |
| wilson2 | Linux (openSUSE 10.3) / x86_64 | OK | OK | |
| wellington | Linux (openSUSE 10.3) / i686 | OK | OK | |
| liverpool | Windows Server 2003 R2 (32-bit) / x64 | OK | OK | OK |
| pitt | Mac OS X Tiger (10.4.11) / i386 | OK | OK | OK |
pkgDepTools 1.6.0 Seth Falcon
| Last Changed Rev: 31430 / Revision: 33132 | | Last Changed Date: 2008-04-29 16:50:18 -0700 |
| lamb1 | Linux (SUSE 10.1) / x86_64 | OK | OK | |
| wilson2 | Linux (openSUSE 10.3) / x86_64 | OK | OK | |
| wellington | Linux (openSUSE 10.3) / i686 | OK | OK | |
| liverpool | Windows Server 2003 R2 (32-bit) / x64 | OK | OK | OK |
| pitt | Mac OS X Tiger (10.4.11) / i386 | OK | OK | OK |
plgem 1.12.0 Mattia Pelizzola
| Last Changed Rev: 31430 / Revision: 33132 | | Last Changed Date: 2008-04-29 16:50:18 -0700 |
| lamb1 | Linux (SUSE 10.1) / x86_64 | OK | OK | |
| wilson2 | Linux (openSUSE 10.3) / x86_64 | OK | OK | |
| wellington | Linux (openSUSE 10.3) / i686 | OK | OK | |
| liverpool | Windows Server 2003 R2 (32-bit) / x64 | OK | OK | OK |
| pitt | Mac OS X Tiger (10.4.11) / i386 | OK | OK | OK |
plier 1.10.0 Crispin Miller
| Last Changed Rev: 31430 / Revision: 33132 | | Last Changed Date: 2008-04-29 16:50:18 -0700 |
| lamb1 | Linux (SUSE 10.1) / x86_64 | OK | OK | |
| wilson2 | Linux (openSUSE 10.3) / x86_64 | OK | OK | |
| wellington | Linux (openSUSE 10.3) / i686 | OK | OK | |
| liverpool | Windows Server 2003 R2 (32-bit) / x64 | OK | OK | OK |
| pitt | Mac OS X Tiger (10.4.11) / i386 | OK | OK | OK |
plw 1.0.0 Magnus Astrand
| Last Changed Rev: 31430 / Revision: 33132 | | Last Changed Date: 2008-04-29 16:50:18 -0700 |
| lamb1 | Linux (SUSE 10.1) / x86_64 | OK | OK | |
| wilson2 | Linux (openSUSE 10.3) / x86_64 | OK | OK | |
| wellington | Linux (openSUSE 10.3) / i686 | OK | OK | |
| liverpool | Windows Server 2003 R2 (32-bit) / x64 | OK | OK | OK |
| pitt | Mac OS X Tiger (10.4.11) / i386 | OK | OK | OK |
ppiStats 1.6.0 Tony Chiang
| Last Changed Rev: 31430 / Revision: 33132 | | Last Changed Date: 2008-04-29 16:50:18 -0700 |
| lamb1 | Linux (SUSE 10.1) / x86_64 | OK | OK | |
| wilson2 | Linux (openSUSE 10.3) / x86_64 | OK | OK | |
| wellington | Linux (openSUSE 10.3) / i686 | OK | OK | |
| liverpool | Windows Server 2003 R2 (32-bit) / x64 | OK | OK | OK |
| pitt | Mac OS X Tiger (10.4.11) / i386 | OK | OK | OK |
prada 1.16.0 Florian Hahne
| Last Changed Rev: 31430 / Revision: 33132 | | Last Changed Date: 2008-04-29 16:50:18 -0700 |
| lamb1 | Linux (SUSE 10.1) / x86_64 | OK | OK | |
| wilson2 | Linux (openSUSE 10.3) / x86_64 | OK | OK | |
| wellington | Linux (openSUSE 10.3) / i686 | OK | OK | |
| liverpool | Windows Server 2003 R2 (32-bit) / x64 | OK | OK | OK |
| pitt | Mac OS X Tiger (10.4.11) / i386 | OK | OK | OK |
preprocessCore 1.2.1 Benjamin Milo Bolstad
| Last Changed Rev: 32850 / Revision: 33132 | | Last Changed Date: 2008-07-22 07:01:44 -0700 |
| lamb1 | Linux (SUSE 10.1) / x86_64 | OK | OK | |
| wilson2 | Linux (openSUSE 10.3) / x86_64 | OK | OK | |
| wellington | Linux (openSUSE 10.3) / i686 | OK | OK | |
| liverpool | Windows Server 2003 R2 (32-bit) / x64 | OK | OK | OK |
| pitt | Mac OS X Tiger (10.4.11) / i386 | OK | OK | OK |
PROcess 1.16.0 Xiaochun Li
| Last Changed Rev: 31430 / Revision: 33132 | | Last Changed Date: 2008-04-29 16:50:18 -0700 |
| lamb1 | Linux (SUSE 10.1) / x86_64 | OK | OK | |
| wilson2 | Linux (openSUSE 10.3) / x86_64 | OK | OK | |
| wellington | Linux (openSUSE 10.3) / i686 | OK | OK | |
| liverpool | Windows Server 2003 R2 (32-bit) / x64 | OK | OK | OK |
| pitt | Mac OS X Tiger (10.4.11) / i386 | OK | OK | OK |
puma 1.6.0 Richard Pearson
| Last Changed Rev: 31430 / Revision: 33132 | | Last Changed Date: 2008-04-29 16:50:18 -0700 |
| lamb1 | Linux (SUSE 10.1) / x86_64 | OK | OK | |
| wilson2 | Linux (openSUSE 10.3) / x86_64 | OK | OK | |
| wellington | Linux (openSUSE 10.3) / i686 | OK | OK | |
| liverpool | Windows Server 2003 R2 (32-bit) / x64 | OK | OK | OK |
| pitt | Mac OS X Tiger (10.4.11) / i386 | OK | OK | OK |
|
| Q A B C D E F G H I J K L M N O P [Q] R S T U V W X Y Z |
quantsmooth 1.6.0 Jan Oosting
| Last Changed Rev: 31430 / Revision: 33132 | | Last Changed Date: 2008-04-29 16:50:18 -0700 |
| lamb1 | Linux (SUSE 10.1) / x86_64 | OK | OK | |
| wilson2 | Linux (openSUSE 10.3) / x86_64 | OK | OK | |
| wellington | Linux (openSUSE 10.3) / i686 | OK | OK | |
| liverpool | Windows Server 2003 R2 (32-bit) / x64 | OK | OK | OK |
| pitt | Mac OS X Tiger (10.4.11) / i386 | OK | OK | OK |
qvalue 1.14.0 John D. Storey
| Last Changed Rev: 31430 / Revision: 33132 | | Last Changed Date: 2008-04-29 16:50:18 -0700 |
| lamb1 | Linux (SUSE 10.1) / x86_64 | OK | OK | |
| wilson2 | Linux (openSUSE 10.3) / x86_64 | OK | OK | |
| wellington | Linux (openSUSE 10.3) / i686 | OK | OK | |
| liverpool | Windows Server 2003 R2 (32-bit) / x64 | OK | OK | OK |
| pitt | Mac OS X Tiger (10.4.11) / i386 | OK | OK | OK |
|
| R A B C D E F G H I J K L M N O P Q [R] S T U V W X Y Z |
rama 1.14.0 Raphael Gottardo
| Last Changed Rev: 31430 / Revision: 33132 | | Last Changed Date: 2008-04-29 16:50:18 -0700 |
| lamb1 | Linux (SUSE 10.1) / x86_64 | OK | OK | |
| wilson2 | Linux (openSUSE 10.3) / x86_64 | OK | OK | |
| wellington | Linux (openSUSE 10.3) / i686 | OK | OK | |
| liverpool | Windows Server 2003 R2 (32-bit) / x64 | OK | OK | OK |
| pitt | Mac OS X Tiger (10.4.11) / i386 | OK | OK | OK |
RankProd 2.12.0 Fangxin Hong
| Last Changed Rev: 31430 / Revision: 33132 | | Last Changed Date: 2008-04-29 16:50:18 -0700 |
| lamb1 | Linux (SUSE 10.1) / x86_64 | OK | OK | |
| wilson2 | Linux (openSUSE 10.3) / x86_64 | OK | OK | |
| wellington | Linux (openSUSE 10.3) / i686 | OK | OK | |
| liverpool | Windows Server 2003 R2 (32-bit) / x64 | OK | OK | OK |
| pitt | Mac OS X Tiger (10.4.11) / i386 | OK | OK | OK |
RbcBook1 1.8.0 Vince Carey
| Last Changed Rev: 31430 / Revision: 33132 | | Last Changed Date: 2008-04-29 16:50:18 -0700 |
| lamb1 | Linux (SUSE 10.1) / x86_64 | OK | OK | |
| wilson2 | Linux (openSUSE 10.3) / x86_64 | OK | OK | |
| wellington | Linux (openSUSE 10.3) / i686 | OK | OK | |
| liverpool | Windows Server 2003 R2 (32-bit) / x64 | OK | OK | OK |
| pitt | Mac OS X Tiger (10.4.11) / i386 | OK | OK | OK |
RBGL 1.16.0 Li Long
| Last Changed Rev: 31430 / Revision: 33132 | | Last Changed Date: 2008-04-29 16:50:18 -0700 |
| lamb1 | Linux (SUSE 10.1) / x86_64 | OK | WARNINGS | |
| wilson2 | Linux (openSUSE 10.3) / x86_64 | OK | WARNINGS | |
| wellington | Linux (openSUSE 10.3) / i686 | OK | TIMEOUT | |
| liverpool | Windows Server 2003 R2 (32-bit) / x64 | OK | WARNINGS | OK |
| pitt | Mac OS X Tiger (10.4.11) / i386 | ERROR | skipped | skipped |
RBioinf 1.0.0 Robert Gentleman
| Last Changed Rev: 31430 / Revision: 33132 | | Last Changed Date: 2008-04-29 16:50:18 -0700 |
| lamb1 | Linux (SUSE 10.1) / x86_64 | OK | OK | |
| wilson2 | Linux (openSUSE 10.3) / x86_64 | OK | OK | |
| wellington | Linux (openSUSE 10.3) / i686 | OK | OK | |
| liverpool | Windows Server 2003 R2 (32-bit) / x64 | OK | OK | OK |
| pitt | Mac OS X Tiger (10.4.11) / i386 | OK | OK | OK |
rbsurv 1.6.0 Sukwoo Kim
| Last Changed Rev: 31430 / Revision: 33132 | | Last Changed Date: 2008-04-29 16:50:18 -0700 |
| lamb1 | Linux (SUSE 10.1) / x86_64 | OK | OK | |
| wilson2 | Linux (openSUSE 10.3) / x86_64 | OK | OK | |
| wellington | Linux (openSUSE 10.3) / i686 | OK | OK | |
| liverpool | Windows Server 2003 R2 (32-bit) / x64 | OK | OK | OK |
| pitt | Mac OS X Tiger (10.4.11) / i386 | OK | OK | OK |
Rdbi 1.14.0 Jianhua Zhang
| Last Changed Rev: 31430 / Revision: 33132 | | Last Changed Date: 2008-04-29 16:50:18 -0700 |
| lamb1 | Linux (SUSE 10.1) / x86_64 | OK | OK | |
| wilson2 | Linux (openSUSE 10.3) / x86_64 | OK | OK | |
| wellington | Linux (openSUSE 10.3) / i686 | OK | OK | |
| liverpool | Windows Server 2003 R2 (32-bit) / x64 | OK | OK | OK |
| pitt | Mac OS X Tiger (10.4.11) / i386 | OK | OK | OK |
RdbiPgSQL 1.14.0 Jianhua Zhang
| Last Changed Rev: 31430 / Revision: 33132 | | Last Changed Date: 2008-04-29 16:50:18 -0700 |
| lamb1 | Linux (SUSE 10.1) / x86_64 | OK | OK | |
| wilson2 | Linux (openSUSE 10.3) / x86_64 | OK | OK | |
| wellington | Linux (openSUSE 10.3) / i686 | OK | OK | |
| liverpool | Windows Server 2003 R2 (32-bit) / x64 | N O T S U P P O R T E D |
| pitt | Mac OS X Tiger (10.4.11) / i386 | OK | OK | OK |
Rdisop 1.0.0 Steffen Neumann
| Last Changed Rev: 31430 / Revision: 33132 | | Last Changed Date: 2008-04-29 16:50:18 -0700 |
| lamb1 | Linux (SUSE 10.1) / x86_64 | OK | OK | |
| wilson2 | Linux (openSUSE 10.3) / x86_64 | OK | OK | |
| wellington | Linux (openSUSE 10.3) / i686 | OK | OK | |
| liverpool | Windows Server 2003 R2 (32-bit) / x64 | OK | OK | OK |
| pitt | Mac OS X Tiger (10.4.11) / i386 | N O T S U P P O R T E D |
reb 1.14.0 Karl J. Dykema
| Last Changed Rev: 31430 / Revision: 33132 | | Last Changed Date: 2008-04-29 16:50:18 -0700 |
| lamb1 | Linux (SUSE 10.1) / x86_64 | OK | OK | |
| wilson2 | Linux (openSUSE 10.3) / x86_64 | OK | OK | |
| wellington | Linux (openSUSE 10.3) / i686 | OK | OK | |
| liverpool | Windows Server 2003 R2 (32-bit) / x64 | OK | OK | OK |
| pitt | Mac OS X Tiger (10.4.11) / i386 | OK | OK | OK |
RefPlus 1.10.0 Kai-Ming Chang
| Last Changed Rev: 31430 / Revision: 33132 | | Last Changed Date: 2008-04-29 16:50:18 -0700 |
| lamb1 | Linux (SUSE 10.1) / x86_64 | OK | OK | |
| wilson2 | Linux (openSUSE 10.3) / x86_64 | OK | OK | |
| wellington | Linux (openSUSE 10.3) / i686 | OK | OK | |
| liverpool | Windows Server 2003 R2 (32-bit) / x64 | OK | OK | OK |
| pitt | Mac OS X Tiger (10.4.11) / i386 | OK | OK | OK |
Resourcerer 1.14.0 Jianhua Zhang
| Last Changed Rev: 31430 / Revision: 33132 | | Last Changed Date: 2008-04-29 16:50:18 -0700 |
| lamb1 | Linux (SUSE 10.1) / x86_64 | OK | OK | |
| wilson2 | Linux (openSUSE 10.3) / x86_64 | OK | OK | |
| wellington | Linux (openSUSE 10.3) / i686 | OK | OK | |
| liverpool | Windows Server 2003 R2 (32-bit) / x64 | OK | OK | OK |
| pitt | Mac OS X Tiger (10.4.11) / i386 | OK | OK | OK |
rflowcyt 1.12.0 N. LeMeur
| Last Changed Rev: 31430 / Revision: 33132 | | Last Changed Date: 2008-04-29 16:50:18 -0700 |
| lamb1 | Linux (SUSE 10.1) / x86_64 | OK | OK | |
| wilson2 | Linux (openSUSE 10.3) / x86_64 | OK | OK | |
| wellington | Linux (openSUSE 10.3) / i686 | OK | OK | |
| liverpool | Windows Server 2003 R2 (32-bit) / x64 | OK | OK | OK |
| pitt | Mac OS X Tiger (10.4.11) / i386 | OK | OK | OK |
Rgraphviz 1.18.1 Li Long
| Last Changed Rev: 32020 / Revision: 33132 | | Last Changed Date: 2008-05-29 16:04:59 -0700 |
| lamb1 | Linux (SUSE 10.1) / x86_64 | OK | OK | |
| wilson2 | Linux (openSUSE 10.3) / x86_64 | OK | OK | |
| wellington | Linux (openSUSE 10.3) / i686 | OK | OK | |
| liverpool | Windows Server 2003 R2 (32-bit) / x64 | OK | ERROR | OK |
| pitt | Mac OS X Tiger (10.4.11) / i386 | OK | OK | OK |
rHVDM 1.6.5 Martino Barenco
| Last Changed Rev: 31991 / Revision: 33132 | | Last Changed Date: 2008-05-28 04:48:40 -0700 |
| lamb1 | Linux (SUSE 10.1) / x86_64 | OK | OK | |
| wilson2 | Linux (openSUSE 10.3) / x86_64 | OK | OK | |
| wellington | Linux (openSUSE 10.3) / i686 | OK | OK | |
| liverpool | Windows Server 2003 R2 (32-bit) / x64 | OK | OK | OK |
| pitt | Mac OS X Tiger (10.4.11) / i386 | OK | OK | OK |
Ringo 1.4.0 J. Toedling
| Last Changed Rev: 31430 / Revision: 33132 | | Last Changed Date: 2008-04-29 16:50:18 -0700 |
| lamb1 | Linux (SUSE 10.1) / x86_64 | OK | OK | |
| wilson2 | Linux (openSUSE 10.3) / x86_64 | OK | OK | |
| wellington | Linux (openSUSE 10.3) / i686 | OK | OK | |
| liverpool | Windows Server 2003 R2 (32-bit) / x64 | OK | OK | OK |
| pitt | Mac OS X Tiger (10.4.11) / i386 | OK | OK | OK |
Rintact 1.2.0 Tony Chiang
| Last Changed Rev: 31430 / Revision: 33132 | | Last Changed Date: 2008-04-29 16:50:18 -0700 |
| lamb1 | Linux (SUSE 10.1) / x86_64 | OK | OK | |
| wilson2 | Linux (openSUSE 10.3) / x86_64 | OK | OK | |
| wellington | Linux (openSUSE 10.3) / i686 | OK | OK | |
| liverpool | Windows Server 2003 R2 (32-bit) / x64 | OK | OK | OK |
| pitt | Mac OS X Tiger (10.4.11) / i386 | OK | OK | OK |
RLMM 1.2.0 Nusrat Rabbee
| Last Changed Rev: 31430 / Revision: 33132 | | Last Changed Date: 2008-04-29 16:50:18 -0700 |
| lamb1 | Linux (SUSE 10.1) / x86_64 | OK | OK | |
| wilson2 | Linux (openSUSE 10.3) / x86_64 | OK | OK | |
| wellington | Linux (openSUSE 10.3) / i686 | OK | OK | |
| liverpool | Windows Server 2003 R2 (32-bit) / x64 | OK | OK | OK |
| pitt | Mac OS X Tiger (10.4.11) / i386 | OK | OK | OK |
RMAGEML 2.14.0 Steffen Durinck
| Last Changed Rev: 31430 / Revision: 33132 | | Last Changed Date: 2008-04-29 16:50:18 -0700 |
| lamb1 | Linux (SUSE 10.1) / x86_64 | ERROR | skipped | |
| wilson2 | Linux (openSUSE 10.3) / x86_64 | OK | OK | |
| wellington | Linux (openSUSE 10.3) / i686 | OK | OK | |
| liverpool | Windows Server 2003 R2 (32-bit) / x64 | N O T S U P P O R T E D |
| pitt | Mac OS X Tiger (10.4.11) / i386 | N O T S U P P O R T E D |
ROC 1.14.0 Vince Carey
| Last Changed Rev: 31430 / Revision: 33132 | | Last Changed Date: 2008-04-29 16:50:18 -0700 |
| lamb1 | Linux (SUSE 10.1) / x86_64 | OK | OK | |
| wilson2 | Linux (openSUSE 10.3) / x86_64 | OK | OK | |
| wellington | Linux (openSUSE 10.3) / i686 | OK | OK | |
| liverpool | Windows Server 2003 R2 (32-bit) / x64 | OK | OK | OK |
| pitt | Mac OS X Tiger (10.4.11) / i386 | OK | OK | OK |
Rredland 1.6.0 VJ Carey
| Last Changed Rev: 31430 / Revision: 33132 | | Last Changed Date: 2008-04-29 16:50:18 -0700 |
| lamb1 | Linux (SUSE 10.1) / x86_64 | OK | OK | |
| wilson2 | Linux (openSUSE 10.3) / x86_64 | OK | OK | |
| wellington | Linux (openSUSE 10.3) / i686 | OK | OK | |
| liverpool | Windows Server 2003 R2 (32-bit) / x64 | N O T S U P P O R T E D |
| pitt | Mac OS X Tiger (10.4.11) / i386 | OK | OK | OK |
rsbml 1.6.0 Michael Lawrence
| Last Changed Rev: 31890 / Revision: 33132 | | Last Changed Date: 2008-05-22 13:47:31 -0700 |
| lamb1 | Linux (SUSE 10.1) / x86_64 | OK | OK | |
| wilson2 | Linux (openSUSE 10.3) / x86_64 | OK | OK | |
| wellington | Linux (openSUSE 10.3) / i686 | OK | OK | |
| liverpool | Windows Server 2003 R2 (32-bit) / x64 | OK | OK | OK |
| pitt | Mac OS X Tiger (10.4.11) / i386 | OK | OK | OK |
RSNPper 1.14.0 VJ Carey
| Last Changed Rev: 31430 / Revision: 33132 | | Last Changed Date: 2008-04-29 16:50:18 -0700 |
| lamb1 | Linux (SUSE 10.1) / x86_64 | OK | OK | |
| wilson2 | Linux (openSUSE 10.3) / x86_64 | OK | OK | |
| wellington | Linux (openSUSE 10.3) / i686 | OK | OK | |
| liverpool | Windows Server 2003 R2 (32-bit) / x64 | OK | OK | OK |
| pitt | Mac OS X Tiger (10.4.11) / i386 | OK | OK | OK |
rtracklayer 1.0.0 Michael Lawrence
| Last Changed Rev: 31430 / Revision: 33132 | | Last Changed Date: 2008-04-29 16:50:18 -0700 |
| lamb1 | Linux (SUSE 10.1) / x86_64 | OK | OK | |
| wilson2 | Linux (openSUSE 10.3) / x86_64 | OK | OK | |
| wellington | Linux (openSUSE 10.3) / i686 | OK | OK | |
| liverpool | Windows Server 2003 R2 (32-bit) / x64 | OK | OK | OK |
| pitt | Mac OS X Tiger (10.4.11) / i386 | OK | OK | OK |
Rtreemix 1.2.0 Jasmina Bogojeska
| Last Changed Rev: 31430 / Revision: 33132 | | Last Changed Date: 2008-04-29 16:50:18 -0700 |
| lamb1 | Linux (SUSE 10.1) / x86_64 | OK | OK | |
| wilson2 | Linux (openSUSE 10.3) / x86_64 | OK | OK | |
| wellington | Linux (openSUSE 10.3) / i686 | OK | OK | |
| liverpool | Windows Server 2003 R2 (32-bit) / x64 | OK | OK | OK |
| pitt | Mac OS X Tiger (10.4.11) / i386 | OK | OK | OK |
Ruuid 1.18.0 Biocore Team c/o BioC user list
| Last Changed Rev: 31430 / Revision: 33132 | | Last Changed Date: 2008-04-29 16:50:18 -0700 |
| lamb1 | Linux (SUSE 10.1) / x86_64 | OK | OK | |
| wilson2 | Linux (openSUSE 10.3) / x86_64 | OK | OK | |
| wellington | Linux (openSUSE 10.3) / i686 | OK | OK | |
| liverpool | Windows Server 2003 R2 (32-bit) / x64 | OK | OK | OK |
| pitt | Mac OS X Tiger (10.4.11) / i386 | OK | OK | OK |
RWebServices 1.4.0 Martin Morgan
| Last Changed Rev: 31430 / Revision: 33132 | | Last Changed Date: 2008-04-29 16:50:18 -0700 |
| lamb1 | Linux (SUSE 10.1) / x86_64 | OK | OK | |
| wilson2 | Linux (openSUSE 10.3) / x86_64 | OK | OK | |
| wellington | Linux (openSUSE 10.3) / i686 | OK | OK | |
| liverpool | Windows Server 2003 R2 (32-bit) / x64 | N O T S U P P O R T E D |
| pitt | Mac OS X Tiger (10.4.11) / i386 | N O T S U P P O R T E D |
|
| S A B C D E F G H I J K L M N O P Q R [S] T U V W X Y Z |
safe 2.2.0 William T. Barry
| Last Changed Rev: 31430 / Revision: 33132 | | Last Changed Date: 2008-04-29 16:50:18 -0700 |
| lamb1 | Linux (SUSE 10.1) / x86_64 | OK | OK | |
| wilson2 | Linux (openSUSE 10.3) / x86_64 | OK | OK | |
| wellington | Linux (openSUSE 10.3) / i686 | OK | OK | |
| liverpool | Windows Server 2003 R2 (32-bit) / x64 | OK | OK | OK |
| pitt | Mac OS X Tiger (10.4.11) / i386 | OK | OK | OK |
sagenhaft 1.10.0 Tim Beissbarth
| Last Changed Rev: 31430 / Revision: 33132 | | Last Changed Date: 2008-04-29 16:50:18 -0700 |
| lamb1 | Linux (SUSE 10.1) / x86_64 | OK | OK | |
| wilson2 | Linux (openSUSE 10.3) / x86_64 | OK | OK | |
| wellington | Linux (openSUSE 10.3) / i686 | OK | OK | |
| liverpool | Windows Server 2003 R2 (32-bit) / x64 | OK | OK | OK |
| pitt | Mac OS X Tiger (10.4.11) / i386 | OK | OK | OK |
SAGx 1.14.0 Per Broberg,
| Last Changed Rev: 31430 / Revision: 33132 | | Last Changed Date: 2008-04-29 16:50:18 -0700 |
| lamb1 | Linux (SUSE 10.1) / x86_64 | OK | OK | |
| wilson2 | Linux (openSUSE 10.3) / x86_64 | OK | OK | |
| wellington | Linux (openSUSE 10.3) / i686 | OK | OK | |
| liverpool | Windows Server 2003 R2 (32-bit) / x64 | OK | OK | OK |
| pitt | Mac OS X Tiger (10.4.11) / i386 | OK | OK | OK |
SBMLR 1.34.0 Tomas Radivoyevitch
| Last Changed Rev: 31430 / Revision: 33132 | | Last Changed Date: 2008-04-29 16:50:18 -0700 |
| lamb1 | Linux (SUSE 10.1) / x86_64 | OK | OK | |
| wilson2 | Linux (openSUSE 10.3) / x86_64 | OK | OK | |
| wellington | Linux (openSUSE 10.3) / i686 | OK | OK | |
| liverpool | Windows Server 2003 R2 (32-bit) / x64 | OK | OK | OK |
| pitt | Mac OS X Tiger (10.4.11) / i386 | OK | OK | OK |
ScISI 1.12.0 Tony Chiang
| Last Changed Rev: 31430 / Revision: 33132 | | Last Changed Date: 2008-04-29 16:50:18 -0700 |
| lamb1 | Linux (SUSE 10.1) / x86_64 | OK | OK | |
| wilson2 | Linux (openSUSE 10.3) / x86_64 | OK | OK | |
| wellington | Linux (openSUSE 10.3) / i686 | OK | OK | |
| liverpool | Windows Server 2003 R2 (32-bit) / x64 | OK | OK | OK |
| pitt | Mac OS X Tiger (10.4.11) / i386 | OK | OK | OK |
SemSim 1.6.0 Xiang Guo
| Last Changed Rev: 31430 / Revision: 33132 | | Last Changed Date: 2008-04-29 16:50:18 -0700 |
| lamb1 | Linux (SUSE 10.1) / x86_64 | OK | OK | |
| wilson2 | Linux (openSUSE 10.3) / x86_64 | OK | OK | |
| wellington | Linux (openSUSE 10.3) / i686 | OK | OK | |
| liverpool | Windows Server 2003 R2 (32-bit) / x64 | OK | OK | OK |
| pitt | Mac OS X Tiger (10.4.11) / i386 | OK | OK | OK |
seqLogo 1.6.0 Oliver Bembom
| Last Changed Rev: 31430 / Revision: 33132 | | Last Changed Date: 2008-04-29 16:50:18 -0700 |
| lamb1 | Linux (SUSE 10.1) / x86_64 | OK | OK | |
| wilson2 | Linux (openSUSE 10.3) / x86_64 | OK | OK | |
| wellington | Linux (openSUSE 10.3) / i686 | OK | OK | |
| liverpool | Windows Server 2003 R2 (32-bit) / x64 | OK | OK | OK |
| pitt | Mac OS X Tiger (10.4.11) / i386 | OK | OK | OK |
siggenes 1.14.0 Holger Schwender
| Last Changed Rev: 31430 / Revision: 33132 | | Last Changed Date: 2008-04-29 16:50:18 -0700 |
| lamb1 | Linux (SUSE 10.1) / x86_64 | OK | OK | |
| wilson2 | Linux (openSUSE 10.3) / x86_64 | OK | OK | |
| wellington | Linux (openSUSE 10.3) / i686 | OK | OK | |
| liverpool | Windows Server 2003 R2 (32-bit) / x64 | OK | OK | OK |
| pitt | Mac OS X Tiger (10.4.11) / i386 | OK | OK | OK |
sigPathway 1.8.0 Weil Lai
| Last Changed Rev: 31430 / Revision: 33132 | | Last Changed Date: 2008-04-29 16:50:18 -0700 |
| lamb1 | Linux (SUSE 10.1) / x86_64 | OK | OK | |
| wilson2 | Linux (openSUSE 10.3) / x86_64 | OK | OK | |
| wellington | Linux (openSUSE 10.3) / i686 | OK | OK | |
| liverpool | Windows Server 2003 R2 (32-bit) / x64 | OK | OK | OK |
| pitt | Mac OS X Tiger (10.4.11) / i386 | OK | OK | OK |
simpleaffy 2.16.0 Crispin Miller
| Last Changed Rev: 31430 / Revision: 33132 | | Last Changed Date: 2008-04-29 16:50:18 -0700 |
| lamb1 | Linux (SUSE 10.1) / x86_64 | OK | WARNINGS | |
| wilson2 | Linux (openSUSE 10.3) / x86_64 | OK | WARNINGS | |
| wellington | Linux (openSUSE 10.3) / i686 | OK | WARNINGS | |
| liverpool | Windows Server 2003 R2 (32-bit) / x64 | OK | WARNINGS | OK |
| pitt | Mac OS X Tiger (10.4.11) / i386 | OK | WARNINGS | OK |
simulatorAPMS 1.12.0 Tony Chiang
| Last Changed Rev: 31430 / Revision: 33132 | | Last Changed Date: 2008-04-29 16:50:18 -0700 |
| lamb1 | Linux (SUSE 10.1) / x86_64 | OK | OK | |
| wilson2 | Linux (openSUSE 10.3) / x86_64 | OK | OK | |
| wellington | Linux (openSUSE 10.3) / i686 | OK | OK | |
| liverpool | Windows Server 2003 R2 (32-bit) / x64 | OK | OK | OK |
| pitt | Mac OS X Tiger (10.4.11) / i386 | OK | OK | OK |
sizepower 1.10.0 Weiliang Qiu
| Last Changed Rev: 31430 / Revision: 33132 | | Last Changed Date: 2008-04-29 16:50:18 -0700 |
| lamb1 | Linux (SUSE 10.1) / x86_64 | OK | OK | |
| wilson2 | Linux (openSUSE 10.3) / x86_64 | OK | OK | |
| wellington | Linux (openSUSE 10.3) / i686 | OK | OK | |
| liverpool | Windows Server 2003 R2 (32-bit) / x64 | OK | OK | OK |
| pitt | Mac OS X Tiger (10.4.11) / i386 | OK | OK | OK |
SLGI 1.0.0 Nolwenn Le Meur
| Last Changed Rev: 31430 / Revision: 33132 | | Last Changed Date: 2008-04-29 16:50:18 -0700 |
| lamb1 | Linux (SUSE 10.1) / x86_64 | OK | OK | |
| wilson2 | Linux (openSUSE 10.3) / x86_64 | OK | OK | |
| wellington | Linux (openSUSE 10.3) / i686 | OK | OK | |
| liverpool | Windows Server 2003 R2 (32-bit) / x64 | OK | OK | OK |
| pitt | Mac OS X Tiger (10.4.11) / i386 | OK | OK | OK |
SLqPCR 1.6.0 Matthias Kohl
| Last Changed Rev: 31430 / Revision: 33132 | | Last Changed Date: 2008-04-29 16:50:18 -0700 |
| lamb1 | Linux (SUSE 10.1) / x86_64 | OK | OK | |
| wilson2 | Linux (openSUSE 10.3) / x86_64 | OK | OK | |
| wellington | Linux (openSUSE 10.3) / i686 | OK | OK | |
| liverpool | Windows Server 2003 R2 (32-bit) / x64 | OK | OK | OK |
| pitt | Mac OS X Tiger (10.4.11) / i386 | OK | OK | OK |
SMAP 1.4.0 Robin Andersson
| Last Changed Rev: 31430 / Revision: 33132 | | Last Changed Date: 2008-04-29 16:50:18 -0700 |
| lamb1 | Linux (SUSE 10.1) / x86_64 | OK | OK | |
| wilson2 | Linux (openSUSE 10.3) / x86_64 | OK | OK | |
| wellington | Linux (openSUSE 10.3) / i686 | OK | OK | |
| liverpool | Windows Server 2003 R2 (32-bit) / x64 | OK | OK | OK |
| pitt | Mac OS X Tiger (10.4.11) / i386 | OK | OK | OK |
snapCGH 1.8.0 John Marioni
| Last Changed Rev: 31430 / Revision: 33132 | | Last Changed Date: 2008-04-29 16:50:18 -0700 |
| lamb1 | Linux (SUSE 10.1) / x86_64 | OK | OK | |
| wilson2 | Linux (openSUSE 10.3) / x86_64 | OK | OK | |
| wellington | Linux (openSUSE 10.3) / i686 | OK | OK | |
| liverpool | Windows Server 2003 R2 (32-bit) / x64 | OK | OK | OK |
| pitt | Mac OS X Tiger (10.4.11) / i386 | OK | OK | OK |
SNPchip 1.4.0 Robert Scharpf
| Last Changed Rev: 31430 / Revision: 33132 | | Last Changed Date: 2008-04-29 16:50:18 -0700 |
| lamb1 | Linux (SUSE 10.1) / x86_64 | OK | OK | |
| wilson2 | Linux (openSUSE 10.3) / x86_64 | OK | OK | |
| wellington | Linux (openSUSE 10.3) / i686 | OK | OK | |
| liverpool | Windows Server 2003 R2 (32-bit) / x64 | OK | OK | OK |
| pitt | Mac OS X Tiger (10.4.11) / i386 | OK | OK | OK |
snpMatrix 1.4.2 David Clayton
| Last Changed Rev: 32197 / Revision: 33132 | | Last Changed Date: 2008-06-08 20:03:07 -0700 |
| lamb1 | Linux (SUSE 10.1) / x86_64 | OK | OK | |
| wilson2 | Linux (openSUSE 10.3) / x86_64 | OK | OK | |
| wellington | Linux (openSUSE 10.3) / i686 | OK | OK | |
| liverpool | Windows Server 2003 R2 (32-bit) / x64 | OK | OK | OK |
| pitt | Mac OS X Tiger (10.4.11) / i386 | OK | OK | OK |
spikeLI 1.8.0 Enrico Carlon
| Last Changed Rev: 31430 / Revision: 33132 | | Last Changed Date: 2008-04-29 16:50:18 -0700 |
| lamb1 | Linux (SUSE 10.1) / x86_64 | OK | OK | |
| wilson2 | Linux (openSUSE 10.3) / x86_64 | OK | OK | |
| wellington | Linux (openSUSE 10.3) / i686 | OK | OK | |
| liverpool | Windows Server 2003 R2 (32-bit) / x64 | OK | OK | OK |
| pitt | Mac OS X Tiger (10.4.11) / i386 | OK | OK | OK |
splicegear 1.12.0 Laurent Gautier
| Last Changed Rev: 31430 / Revision: 33132 | | Last Changed Date: 2008-04-29 16:50:18 -0700 |
| lamb1 | Linux (SUSE 10.1) / x86_64 | OK | OK | |
| wilson2 | Linux (openSUSE 10.3) / x86_64 | OK | OK | |
| wellington | Linux (openSUSE 10.3) / i686 | OK | OK | |
| liverpool | Windows Server 2003 R2 (32-bit) / x64 | OK | OK | OK |
| pitt | Mac OS X Tiger (10.4.11) / i386 | OK | OK | OK |
splots 1.6.0 Oleg Sklyar
| Last Changed Rev: 31430 / Revision: 33132 | | Last Changed Date: 2008-04-29 16:50:18 -0700 |
| lamb1 | Linux (SUSE 10.1) / x86_64 | OK | OK | |
| wilson2 | Linux (openSUSE 10.3) / x86_64 | OK | OK | |
| wellington | Linux (openSUSE 10.3) / i686 | OK | OK | |
| liverpool | Windows Server 2003 R2 (32-bit) / x64 | OK | OK | OK |
| pitt | Mac OS X Tiger (10.4.11) / i386 | OK | OK | OK |
spotSegmentation 1.14.0 Chris Fraley
| Last Changed Rev: 31430 / Revision: 33132 | | Last Changed Date: 2008-04-29 16:50:18 -0700 |
| lamb1 | Linux (SUSE 10.1) / x86_64 | OK | OK | |
| wilson2 | Linux (openSUSE 10.3) / x86_64 | OK | OK | |
| wellington | Linux (openSUSE 10.3) / i686 | OK | OK | |
| liverpool | Windows Server 2003 R2 (32-bit) / x64 | OK | OK | OK |
| pitt | Mac OS X Tiger (10.4.11) / i386 | OK | OK | OK |
sscore 1.12.0 Richard Kennedy
| Last Changed Rev: 31430 / Revision: 33132 | | Last Changed Date: 2008-04-29 16:50:18 -0700 |
| lamb1 | Linux (SUSE 10.1) / x86_64 | OK | OK | |
| wilson2 | Linux (openSUSE 10.3) / x86_64 | OK | OK | |
| wellington | Linux (openSUSE 10.3) / i686 | OK | OK | |
| liverpool | Windows Server 2003 R2 (32-bit) / x64 | OK | OK | OK |
| pitt | Mac OS X Tiger (10.4.11) / i386 | OK | OK | OK |
ssize 1.12.0 Gregory R. Warnes
| Last Changed Rev: 31430 / Revision: 33132 | | Last Changed Date: 2008-04-29 16:50:18 -0700 |
| lamb1 | Linux (SUSE 10.1) / x86_64 | OK | OK | |
| wilson2 | Linux (openSUSE 10.3) / x86_64 | OK | OK | |
| wellington | Linux (openSUSE 10.3) / i686 | OK | OK | |
| liverpool | Windows Server 2003 R2 (32-bit) / x64 | OK | OK | OK |
| pitt | Mac OS X Tiger (10.4.11) / i386 | OK | OK | OK |
stam 1.8.0 Claudio Lottaz
| Last Changed Rev: 31430 / Revision: 33132 | | Last Changed Date: 2008-04-29 16:50:18 -0700 |
| lamb1 | Linux (SUSE 10.1) / x86_64 | OK | OK | |
| wilson2 | Linux (openSUSE 10.3) / x86_64 | OK | OK | |
| wellington | Linux (openSUSE 10.3) / i686 | OK | OK | |
| liverpool | Windows Server 2003 R2 (32-bit) / x64 | OK | OK | OK |
| pitt | Mac OS X Tiger (10.4.11) / i386 | OK | OK | OK |
stepNorm 1.12.0 Yuanyuan Xiao
| Last Changed Rev: 31430 / Revision: 33132 | | Last Changed Date: 2008-04-29 16:50:18 -0700 |
| lamb1 | Linux (SUSE 10.1) / x86_64 | OK | OK | |
| wilson2 | Linux (openSUSE 10.3) / x86_64 | OK | OK | |
| wellington | Linux (openSUSE 10.3) / i686 | OK | OK | |
| liverpool | Windows Server 2003 R2 (32-bit) / x64 | OK | OK | OK |
| pitt | Mac OS X Tiger (10.4.11) / i386 | OK | OK | OK |
|
| T A B C D E F G H I J K L M N O P Q R S [T] U V W X Y Z |
tilingArray 1.18.0 W. Huber
| Last Changed Rev: 31430 / Revision: 33132 | | Last Changed Date: 2008-04-29 16:50:18 -0700 |
| lamb1 | Linux (SUSE 10.1) / x86_64 | OK | OK | |
| wilson2 | Linux (openSUSE 10.3) / x86_64 | OK | OK | |
| wellington | Linux (openSUSE 10.3) / i686 | OK | OK | |
| liverpool | Windows Server 2003 R2 (32-bit) / x64 | OK | OK | OK |
| pitt | Mac OS X Tiger (10.4.11) / i386 | OK | OK | OK |
timecourse 1.12.0 Yu Chuan Tai
| Last Changed Rev: 31430 / Revision: 33132 | | Last Changed Date: 2008-04-29 16:50:18 -0700 |
| lamb1 | Linux (SUSE 10.1) / x86_64 | OK | OK | |
| wilson2 | Linux (openSUSE 10.3) / x86_64 | OK | OK | |
| wellington | Linux (openSUSE 10.3) / i686 | OK | OK | |
| liverpool | Windows Server 2003 R2 (32-bit) / x64 | OK | OK | OK |
| pitt | Mac OS X Tiger (10.4.11) / i386 | OK | OK | OK |
tkWidgets 1.18.0 J. Zhang
| Last Changed Rev: 31430 / Revision: 33132 | | Last Changed Date: 2008-04-29 16:50:18 -0700 |
| lamb1 | Linux (SUSE 10.1) / x86_64 | OK | OK | |
| wilson2 | Linux (openSUSE 10.3) / x86_64 | OK | OK | |
| wellington | Linux (openSUSE 10.3) / i686 | OK | OK | |
| liverpool | Windows Server 2003 R2 (32-bit) / x64 | OK | OK | OK |
| pitt | Mac OS X Tiger (10.4.11) / i386 | OK | OK | OK |
topGO 1.8.1 Adrian Alexa
| Last Changed Rev: 31502 / Revision: 33132 | | Last Changed Date: 2008-05-04 23:50:18 -0700 |
| lamb1 | Linux (SUSE 10.1) / x86_64 | OK | OK | |
| wilson2 | Linux (openSUSE 10.3) / x86_64 | OK | OK | |
| wellington | Linux (openSUSE 10.3) / i686 | OK | OK | |
| liverpool | Windows Server 2003 R2 (32-bit) / x64 | OK | OK | OK |
| pitt | Mac OS X Tiger (10.4.11) / i386 | OK | OK | OK |
twilight 1.16.0 Stefanie Scheid
| Last Changed Rev: 31430 / Revision: 33132 | | Last Changed Date: 2008-04-29 16:50:18 -0700 |
| lamb1 | Linux (SUSE 10.1) / x86_64 | OK | OK | |
| wilson2 | Linux (openSUSE 10.3) / x86_64 | OK | OK | |
| wellington | Linux (openSUSE 10.3) / i686 | OK | OK | |
| liverpool | Windows Server 2003 R2 (32-bit) / x64 | OK | OK | OK |
| pitt | Mac OS X Tiger (10.4.11) / i386 | OK | OK | OK |
TypeInfo 1.6.0 Duncan Temple Lang
| Last Changed Rev: 31430 / Revision: 33132 | | Last Changed Date: 2008-04-29 16:50:18 -0700 |
| lamb1 | Linux (SUSE 10.1) / x86_64 | OK | OK | |
| wilson2 | Linux (openSUSE 10.3) / x86_64 | OK | OK | |
| wellington | Linux (openSUSE 10.3) / i686 | OK | OK | |
| liverpool | Windows Server 2003 R2 (32-bit) / x64 | OK | OK | OK |
| pitt | Mac OS X Tiger (10.4.11) / i386 | OK | OK | OK |
|
| V A B C D E F G H I J K L M N O P Q R S T U [V] W X Y Z |
VanillaICE 1.2.0 Robert Scharpf
| Last Changed Rev: 31430 / Revision: 33132 | | Last Changed Date: 2008-04-29 16:50:18 -0700 |
| lamb1 | Linux (SUSE 10.1) / x86_64 | OK | OK | |
| wilson2 | Linux (openSUSE 10.3) / x86_64 | OK | OK | |
| wellington | Linux (openSUSE 10.3) / i686 | OK | OK | |
| liverpool | Windows Server 2003 R2 (32-bit) / x64 | OK | OK | OK |
| pitt | Mac OS X Tiger (10.4.11) / i386 | OK | OK | OK |
vbmp 1.8.0 Nicola Lama
| Last Changed Rev: 31430 / Revision: 33132 | | Last Changed Date: 2008-04-29 16:50:18 -0700 |
| lamb1 | Linux (SUSE 10.1) / x86_64 | OK | OK | |
| wilson2 | Linux (openSUSE 10.3) / x86_64 | OK | OK | |
| wellington | Linux (openSUSE 10.3) / i686 | OK | OK | |
| liverpool | Windows Server 2003 R2 (32-bit) / x64 | OK | OK | OK |
| pitt | Mac OS X Tiger (10.4.11) / i386 | OK | OK | OK |
vsn 3.6.0 Wolfgang Huber
| Last Changed Rev: 31430 / Revision: 33132 | | Last Changed Date: 2008-04-29 16:50:18 -0700 |
| lamb1 | Linux (SUSE 10.1) / x86_64 | OK | OK | |
| wilson2 | Linux (openSUSE 10.3) / x86_64 | OK | OK | |
| wellington | Linux (openSUSE 10.3) / i686 | OK | OK | |
| liverpool | Windows Server 2003 R2 (32-bit) / x64 | OK | OK | OK |
| pitt | Mac OS X Tiger (10.4.11) / i386 | OK | OK | OK |
|
| W A B C D E F G H I J K L M N O P Q R S T U V [W] X Y Z |
weaver 1.6.0 Seth Falcon
| Last Changed Rev: 31430 / Revision: 33132 | | Last Changed Date: 2008-04-29 16:50:18 -0700 |
| lamb1 | Linux (SUSE 10.1) / x86_64 | OK | OK | |
| wilson2 | Linux (openSUSE 10.3) / x86_64 | OK | OK | |
| wellington | Linux (openSUSE 10.3) / i686 | OK | OK | |
| liverpool | Windows Server 2003 R2 (32-bit) / x64 | OK | OK | OK |
| pitt | Mac OS X Tiger (10.4.11) / i386 | OK | OK | OK |
webbioc 1.12.0 Colin A. Smith
| Last Changed Rev: 31430 / Revision: 33132 | | Last Changed Date: 2008-04-29 16:50:18 -0700 |
| lamb1 | Linux (SUSE 10.1) / x86_64 | OK | OK | |
| wilson2 | Linux (openSUSE 10.3) / x86_64 | OK | OK | |
| wellington | Linux (openSUSE 10.3) / i686 | OK | OK | |
| liverpool | Windows Server 2003 R2 (32-bit) / x64 | OK | OK | OK |
| pitt | Mac OS X Tiger (10.4.11) / i386 | OK | OK | OK |
widgetInvoke 1.12.0 Jeff Gentry
| Last Changed Rev: 31430 / Revision: 33132 | | Last Changed Date: 2008-04-29 16:50:18 -0700 |
| lamb1 | Linux (SUSE 10.1) / x86_64 | OK | OK | |
| wilson2 | Linux (openSUSE 10.3) / x86_64 | OK | OK | |
| wellington | Linux (openSUSE 10.3) / i686 | OK | OK | |
| liverpool | Windows Server 2003 R2 (32-bit) / x64 | N O T S U P P O R T E D |
| pitt | Mac OS X Tiger (10.4.11) / i386 | OK | OK | OK |
widgetTools 1.16.0 Jianhua Zhang
| Last Changed Rev: 31430 / Revision: 33132 | | Last Changed Date: 2008-04-29 16:50:18 -0700 |
| lamb1 | Linux (SUSE 10.1) / x86_64 | OK | OK | |
| wilson2 | Linux (openSUSE 10.3) / x86_64 | OK | OK | |
| wellington | Linux (openSUSE 10.3) / i686 | OK | OK | |
| liverpool | Windows Server 2003 R2 (32-bit) / x64 | OK | OK | OK |
| pitt | Mac OS X Tiger (10.4.11) / i386 | OK | OK | OK |
|
| X A B C D E F G H I J K L M N O P Q R S T U V W [X] Y Z |
xcms 1.12.1 Colin A. Smith
| Last Changed Rev: 31623 / Revision: 33132 | | Last Changed Date: 2008-05-12 04:39:45 -0700 |
| lamb1 | Linux (SUSE 10.1) / x86_64 | OK | OK | |
| wilson2 | Linux (openSUSE 10.3) / x86_64 | OK | OK | |
| wellington | Linux (openSUSE 10.3) / i686 | OK | OK | |
| liverpool | Windows Server 2003 R2 (32-bit) / x64 | OK | OK | OK |
| pitt | Mac OS X Tiger (10.4.11) / i386 | OK | OK | OK |
XDE 1.0.0 Robert Scharpf
| Last Changed Rev: 31430 / Revision: 33132 | | Last Changed Date: 2008-04-29 16:50:18 -0700 |
| lamb1 | Linux (SUSE 10.1) / x86_64 | OK | OK | |
| wilson2 | Linux (openSUSE 10.3) / x86_64 | OK | OK | |
| wellington | Linux (openSUSE 10.3) / i686 | OK | OK | |
| liverpool | Windows Server 2003 R2 (32-bit) / x64 | OK | OK | OK |
| pitt | Mac OS X Tiger (10.4.11) / i386 | OK | OK | OK |
xps 1.0.2 Christian Stratowa
| Last Changed Rev: 32964 / Revision: 33132 | | Last Changed Date: 2008-07-29 14:50:16 -0700 |
| lamb1 | Linux (SUSE 10.1) / x86_64 | OK | OK | |
| wilson2 | Linux (openSUSE 10.3) / x86_64 | OK | OK | |
| wellington | Linux (openSUSE 10.3) / i686 | OK | OK | |
| liverpool | Windows Server 2003 R2 (32-bit) / x64 | OK | OK | OK |
| pitt | Mac OS X Tiger (10.4.11) / i386 | OK | WARNINGS | OK |
|
| Y A B C D E F G H I J K L M N O P Q R S T U V W X [Y] Z |
yaqcaffy 1.0.0 Laurent Gatto
| Last Changed Rev: 31430 / Revision: 33132 | | Last Changed Date: 2008-04-29 16:50:18 -0700 |
| lamb1 | Linux (SUSE 10.1) / x86_64 | OK | OK | |
| wilson2 | Linux (openSUSE 10.3) / x86_64 | OK | OK | |
| wellington | Linux (openSUSE 10.3) / i686 | OK | OK | |
| liverpool | Windows Server 2003 R2 (32-bit) / x64 | OK | OK | OK |
| pitt | Mac OS X Tiger (10.4.11) / i386 | OK | OK | OK |