| pamr 1.38.0 Rob Tibshirani
 
 | Snapshot Date: 2008-08-08 00:12:03 -0700 (Fri, 08 Aug 2008) |  | URL: https://hedgehog.fhcrc.org/bioconductor/branches/RELEASE_2_2/madman/Rpacks/pamr |  | Last Changed Rev: 31430 / Revision: 33132 |  | Last Changed Date: 2008-04-29 16:50:18 -0700 (Tue, 29 Apr 2008) | 
 | lamb1 | Linux (SUSE 10.1) / x86_64 | OK | OK |  | 
| wilson2 | Linux (openSUSE 10.3) / x86_64 | OK | OK |  | 
| wellington | Linux (openSUSE 10.3) / i686 | OK | OK |  | 
| liverpool | Windows Server 2003 R2 (32-bit) / x64 | [ OK ] | OK | OK | 
| pitt | Mac OS X Tiger (10.4.11) / i386 | OK | OK | OK | 
* checking for file 'pamr/DESCRIPTION' ... OK
* preparing 'pamr':
* checking DESCRIPTION meta-information ... OK
* cleaning src
* removing junk files
* excluding invalid files from 'pamr'
Subdirectory 'man' contains invalid file names:
  internal.names
* checking for LF line-endings in source and make files
* checking for empty or unneeded directories
* building 'pamr_1.38.0.tar.gz'