| Back to the "Multiple platform build/check report" | A B C D E F G H I J K L [M] N O P Q R S T U V W X Y Z | 
| Package 154/260 | Hostname | OS / Arch | BUILD | CHECK | BUILD BIN | ||||
| multtest 1.20.0 Katherine S. Pollard 
 | lamb1 | Linux (SUSE 10.1) / x86_64 | OK | OK | |||||
| wilson2 | Linux (openSUSE 10.3) / x86_64 | OK | OK | ||||||
| wellington | Linux (openSUSE 10.3) / i686 | [ OK ] | OK | ||||||
| liverpool | Windows Server 2003 R2 (32-bit) / x64 | OK | OK | OK | |||||
| pitt | Mac OS X Tiger (10.4.11) / i386 | OK | OK | OK | 
| Package: multtest | 
| Version: 1.20.0 | 
| Command: /home/biocbuild/bbs-2.2-bioc/R/bin/R CMD build multtest | 
| StartedAt: 2008-08-08 02:39:31 -0700 (Fri, 08 Aug 2008) | 
| EndedAt: 2008-08-08 02:39:34 -0700 (Fri, 08 Aug 2008) | 
| EllapsedTime: 2.8 seconds | 
| RetCode: 0 | 
| Status: OK | 
| PackageFile: multtest_1.20.0.tar.gz | 
| PackageFileSize: 1.338 MiB | 
* checking for file 'multtest/DESCRIPTION' ... OK * preparing 'multtest': * checking DESCRIPTION meta-information ... OK * cleaning src * removing junk files * checking for LF line-endings in source and make files * checking for empty or unneeded directories * building 'multtest_1.20.0.tar.gz'