| annotationTools 1.10.0 Alexandre Kuhn
 
 | Snapshot Date: 2008-08-08 00:12:03 -0700 (Fri, 08 Aug 2008) |  | URL: https://hedgehog.fhcrc.org/bioconductor/branches/RELEASE_2_2/madman/Rpacks/annotationTools |  | Last Changed Rev: 31430 / Revision: 33132 |  | Last Changed Date: 2008-04-29 16:50:18 -0700 (Tue, 29 Apr 2008) | 
 | lamb1 | Linux (SUSE 10.1) / x86_64 | OK | OK |  | 
| wilson2 | Linux (openSUSE 10.3) / x86_64 | OK | OK |  | 
| wellington | Linux (openSUSE 10.3) / i686 | OK | OK |  | 
| liverpool | Windows Server 2003 R2 (32-bit) / x64 | OK | OK | OK | 
| pitt | Mac OS X Tiger (10.4.11) / i386 | OK | OK | [ OK ] | 
                INSTALLATION WITH 'R CMD INSTALL annotationTools_1.10.0.tar.gz'
* Installing to library 'annotationTools.buildbin-libdir'
* Installing *source* package 'annotationTools' ...
** R
** data
** inst
** help
Note: removing empty section \references
Note: removing empty section \references
Note: removing empty section \references
Note: removing empty section \references
Note: removing empty section \references
Note: removing empty section \references
Note: removing empty section \references
Note: removing empty section \references
Note: removing empty section \references
Note: removing empty section \references
Note: removing empty section \references
Note: removing empty section \references
 >>> Building/Updating help pages for package 'annotationTools'
     Formats: text html latex example 
  HG-U133_Plus_2_annot_part         text    html    latex
  HG-U133_Plus_2_ortholog_part      text    html    latex
  Mouse430_2_annot_part             text    html    latex
  annot_HGU133A                     text    html    latex
  compactList                       text    html    latex   example
  getANNOTATION                     text    html    latex   example
  getGENEID                         text    html    latex   example
  getGENEONTOLOGY                   text    html    latex   example
  getGENESYMBOL                     text    html    latex   example
  getGENETITLE                      text    html    latex   example
  getHOMOLOG                        text    html    latex   example
  getMULTIANNOTATION                text    html    latex   example
  getOrthologousProbesets           text    html    latex   example
  getPROBESET                       text    html    latex   example
  homologene_part                   text    html    latex
  listToCharacterVector             text    html    latex   example
  ortho                             text    html    latex
  ps2ps                             text    html    latex   example
  table_human                       text    html    latex
  table_mouse                       text    html    latex
** building package indices ...
* DONE (annotationTools)