| GeneRfold 0.2.0 Antoine Lucas
 
 | Snapshot Date: 2008-08-08 00:12:03 -0700 (Fri, 08 Aug 2008) |  | URL: https://hedgehog.fhcrc.org/bioconductor/branches/RELEASE_2_2/madman/Rpacks/GeneRfold |  | Last Changed Rev: 31430 / Revision: 33132 |  | Last Changed Date: 2008-04-29 16:50:18 -0700 (Tue, 29 Apr 2008) | 
 | lamb1 | Linux (SUSE 10.1) / x86_64 | [ OK ] | OK |  | 
| wilson2 | Linux (openSUSE 10.3) / x86_64 | OK | OK |  | 
| wellington | Linux (openSUSE 10.3) / i686 | OK | OK |  | 
| liverpool | Windows Server 2003 R2 (32-bit) / x64 | N O T   S U P P O R T E D | 
| pitt | Mac OS X Tiger (10.4.11) / i386 | OK | OK | OK | 
* checking for file 'GeneRfold/DESCRIPTION' ... OK
* preparing 'GeneRfold':
* checking DESCRIPTION meta-information ... OK
* cleaning src
* running cleanup
* installing the package to re-build vignettes
* Installing *source* package 'GeneRfold' ...
checking for gcc... gcc
checking for C compiler default output file name... a.out
checking whether the C compiler works... yes
checking whether we are cross compiling... no
checking for suffix of executables... 
checking for suffix of object files... o
checking whether we are using the GNU C compiler... yes
checking whether gcc accepts -g... yes
checking for gcc option to accept ANSI C... none needed
checking for main in -lRNA... yes
configure: creating ./config.status
config.status: creating src/Makevars
** libs
gcc -std=gnu99 -I/home/biocbuild/bbs-2.2-bioc/R/include -I/usr/local/include/  -fPIC -Wno-conversion -I/usr/local/include    -fpic  -g -O2 -Wall -c viennaR.c -o viennaR.o
gcc -std=gnu99 -shared -L/usr/local/lib64 -o GeneRfold.so viennaR.o -L/usr/local/lib/ -lRNA -fPIC   
** R
** inst
** help
 >>> Building/Updating help pages for package 'GeneRfold'
     Formats: text html latex example 
  fold                              text    html    latex   example
  rnaplot                           text    html    latex   example
** building package indices ...
* DONE (GeneRfold)
* creating vignettes ... OK
* cleaning src
* running cleanup
* removing junk files
* checking for LF line-endings in source and make files
* checking for empty or unneeded directories
* building 'GeneRfold_0.2.0.tar.gz'