| Mfuzz 1.10.0 Matthias Futschik
 
 | Snapshot Date: 2008-08-08 00:12:03 -0700 (Fri, 08 Aug 2008) |  | URL: https://hedgehog.fhcrc.org/bioconductor/branches/RELEASE_2_2/madman/Rpacks/Mfuzz |  | Last Changed Rev: 31430 / Revision: 33132 |  | Last Changed Date: 2008-04-29 16:50:18 -0700 (Tue, 29 Apr 2008) | 
 | lamb1 | Linux (SUSE 10.1) / x86_64 | OK | OK |  | 
| wilson2 | Linux (openSUSE 10.3) / x86_64 | [ OK ] | OK |  | 
| wellington | Linux (openSUSE 10.3) / i686 | OK | OK |  | 
| liverpool | Windows Server 2003 R2 (32-bit) / x64 | OK | OK | OK | 
| pitt | Mac OS X Tiger (10.4.11) / i386 | OK | OK | OK | 
* checking for file 'Mfuzz/DESCRIPTION' ... OK
* preparing 'Mfuzz':
* checking DESCRIPTION meta-information ... OK
* installing the package to re-build vignettes
* Installing *source* package 'Mfuzz' ...
** R
** data
** inst
** help
 >>> Building/Updating help pages for package 'Mfuzz'
     Formats: text html latex example 
  acore                             text    html    latex   example
  cselection                        text    html    latex   example
  fill.NA                           text    html    latex   example
  filter.NA                         text    html    latex   example
  filter.std                        text    html    latex   example
  kmeans2                           text    html    latex   example
  kmeans2.plot                      text    html    latex   example
  mfuzz                             text    html    latex   example
  mfuzz.plot                        text    html    latex   example
  mfuzz.plot2                       text    html    latex   example
  mfuzzColorBar                     text    html    latex   example
  overlap                           text    html    latex   example
  overlap.plot                      text    html    latex   example
  partcoef                          text    html    latex   example
  randomise                         text    html    latex   example
  standardise                       text    html    latex   example
  standardise2                      text    html    latex   example
  top.count                         text    html    latex   example
  yeast                             text    html    latex
** building package indices ...
* DONE (Mfuzz)
* creating vignettes ... OK
* removing junk files
* checking for LF line-endings in source and make files
* checking for empty or unneeded directories
* building 'Mfuzz_1.10.0.tar.gz'