| flowViz 1.4.1 Florian Hahne
 
 | Snapshot Date: 2008-08-08 00:12:03 -0700 (Fri, 08 Aug 2008) |  | URL: https://hedgehog.fhcrc.org/bioconductor/branches/RELEASE_2_2/madman/Rpacks/flowViz |  | Last Changed Rev: 32080 / Revision: 33132 |  | Last Changed Date: 2008-06-02 12:27:58 -0700 (Mon, 02 Jun 2008) | 
 | lamb1 | Linux (SUSE 10.1) / x86_64 | OK | OK |  | 
| wilson2 | Linux (openSUSE 10.3) / x86_64 | OK | OK |  | 
| wellington | Linux (openSUSE 10.3) / i686 | OK | OK |  | 
| liverpool | Windows Server 2003 R2 (32-bit) / x64 | OK | OK | OK | 
| pitt | Mac OS X Tiger (10.4.11) / i386 | OK | OK | [ OK ] | 
                INSTALLATION WITH 'R CMD INSTALL flowViz_1.4.1.tar.gz'
* Installing to library 'flowViz.buildbin-libdir'
* Installing *source* package 'flowViz' ...
** R
** inst
** preparing package for lazy loading
Loading required package: flowCore
Loading required package: rrcov
Loading required package: robustbase
Scalable Robust Estimators with High Breakdown Point (version 0.4-06)
Loading required package: feature
Loading required package: KernSmooth
KernSmooth 2.22 installed
Copyright M. P. Wand 1997
Loading required package: Biobase
Loading required package: tools
Welcome to Bioconductor
  Vignettes contain introductory material. To view, type
  'openVignette()'. To cite Bioconductor, see
  'citation("Biobase")' and for packages 'citation(pkgname)'.
Attaching package: 'flowCore'
	The following object(s) are masked from package:stats :
	 filter 
Loading required package: RColorBrewer
Loading required package: lattice
Loading required package: latticeExtra
Creating a new generic function for "ecdfplot" in "flowViz"
Creating a new generic function for "densityplot" in "flowViz"
Creating a new generic function for "levelplot" in "flowViz"
Creating a new generic function for "qqmath" in "flowViz"
Creating a new generic function for "splom" in "flowViz"
Creating a new generic function for "parallel" in "flowViz"
Creating a new generic function for "xyplot" in "flowViz"
** help
 >>> Building/Updating help pages for package 'flowViz'
     Formats: text html latex example 
  ecdfplot                          text    html    latex   example
  flowPlot                          text    html    latex   example
  flowViz-package                   text    html    latex   example
  latticeMethods-flowSet            text    html    latex   example
  lines-methods                     text    html    latex
  lpoints-methods                   text    html    latex
  lpolygon-methods                  text    html    latex
  plot-methods                      text    html    latex
  points-methods                    text    html    latex
  polygon-methods                   text    html    latex
  timeLinePlot-methods              text    html    latex   example
  xyplot                            text    html    latex   example
** building package indices ...
* DONE (flowViz)