| RefPlus 1.10.0 Kai-Ming Chang
 
 | Snapshot Date: 2008-08-08 00:12:03 -0700 (Fri, 08 Aug 2008) |  | URL: https://hedgehog.fhcrc.org/bioconductor/branches/RELEASE_2_2/madman/Rpacks/RefPlus |  | Last Changed Rev: 31430 / Revision: 33132 |  | Last Changed Date: 2008-04-29 16:50:18 -0700 (Tue, 29 Apr 2008) | 
 | lamb1 | Linux (SUSE 10.1) / x86_64 | OK | OK |  | 
| wilson2 | Linux (openSUSE 10.3) / x86_64 | OK | OK |  | 
| wellington | Linux (openSUSE 10.3) / i686 | OK | OK |  | 
| liverpool | Windows Server 2003 R2 (32-bit) / x64 | OK | OK | [ OK ] | 
| pitt | Mac OS X Tiger (10.4.11) / i386 | OK | OK | OK | 
installing R.css in E:/biocbld/bbs-2.2-bioc/meat/RefPlus.buildbin-libdir
Using auto-selected zip options ''
---------- Making package RefPlus ------------
  adding build stamp to DESCRIPTION
  installing R files
  installing inst files
  installing man source files
  installing indices
  installing help
Note: removing empty section \references
Note: removing empty section \references
Note: removing empty section \examples
Note: removing empty section \examples
 >>> Building/Updating help pages for package 'RefPlus'
     Formats: text html latex example chm 
  RefPlus-package                   text    html    latex   example chm
  colMedians                        text    html    latex   example chm
  normalize.quantiles2              text    html    latex   example chm
  rma.para                          text    html    latex   example chm
  rmaplus                           text    html    latex   example chm
  rmaref.predict                    text    html    latex           chm
Microsoft HTML Help Compiler 4.74.8702
Compiling e:\biocbld\bbs-2.2-bioc\meat\R.INSTALL.3816\RefPlus\chm\RefPlus.chm
Compile time: 0 minutes, 0 seconds
7	Topics
19	Local links
0	Internet links
1	Graphic
Created e:\biocbld\bbs-2.2-bioc\meat\R.INSTALL.3816\RefPlus\chm\RefPlus.chm, 21,354 bytes
Compression decreased file by 2,016 bytes.
  adding MD5 sums
packaged installation of package 'RefPlus' as RefPlus_1.10.0.zip
* DONE (RefPlus)