| RankProd 2.12.0 Fangxin Hong
 
 | Snapshot Date: 2008-08-08 00:12:03 -0700 (Fri, 08 Aug 2008) |  | URL: https://hedgehog.fhcrc.org/bioconductor/branches/RELEASE_2_2/madman/Rpacks/RankProd |  | Last Changed Rev: 31430 / Revision: 33132 |  | Last Changed Date: 2008-04-29 16:50:18 -0700 (Tue, 29 Apr 2008) | 
 | lamb1 | Linux (SUSE 10.1) / x86_64 | OK | OK |  | 
| wilson2 | Linux (openSUSE 10.3) / x86_64 | OK | OK |  | 
| wellington | Linux (openSUSE 10.3) / i686 | [ OK ] | OK |  | 
| liverpool | Windows Server 2003 R2 (32-bit) / x64 | OK | OK | OK | 
| pitt | Mac OS X Tiger (10.4.11) / i386 | OK | OK | OK | 
* checking for file 'RankProd/DESCRIPTION' ... OK
* preparing 'RankProd':
* checking DESCRIPTION meta-information ... OK
* installing the package to re-build vignettes
* Installing *source* package 'RankProd' ...
** R
** data
** inst
** preparing package for lazy loading
** help
Note: unmatched right brace in file 'topGene.Rd' on or after line 74
 >>> Building/Updating help pages for package 'RankProd'
     Formats: text html latex example 
  RP                                text    html    latex   example
  RPadvance                         text    html    latex   example
  RSadvance                         text    html    latex   example
  RankProd-internal                 text    html    latex
  arab                              text    html    latex
  golub                             text    html    latex
  lymphoma                          text    html    latex
  plotGene                          text    html    latex   example
  plotRP                            text    html    latex   example
  topGene                           text    html    latex   example
** building package indices ...
* DONE (RankProd)
* creating vignettes ... OK
* removing junk files
* checking for LF line-endings in source and make files
* checking for empty or unneeded directories
* building 'RankProd_2.12.0.tar.gz'